BEGIN:VCALENDAR
VERSION:2.0
PRODID:-//jEvents 2.0 for Joomla//EN
CALSCALE:GREGORIAN
METHOD:PUBLISH
BEGIN:VTIMEZONE
TZID:Europe/Paris
BEGIN:STANDARD
DTSTART:20161030T020000
RDATE:20170326T030000
TZOFFSETFROM:+0200
TZOFFSETTO:+0100
TZNAME:Europe/Paris CET
END:STANDARD
BEGIN:STANDARD
DTSTART:20171029T020000
RDATE:20180325T030000
TZOFFSETFROM:+0200
TZOFFSETTO:+0100
TZNAME:Europe/Paris CET
END:STANDARD
BEGIN:STANDARD
DTSTART:20181028T020000
RDATE:20190331T030000
TZOFFSETFROM:+0200
TZOFFSETTO:+0100
TZNAME:Europe/Paris CET
END:STANDARD
BEGIN:STANDARD
DTSTART:20191027T020000
RDATE:20200329T030000
TZOFFSETFROM:+0200
TZOFFSETTO:+0100
TZNAME:Europe/Paris CET
END:STANDARD
BEGIN:STANDARD
DTSTART:20201025T020000
RDATE:20210328T030000
TZOFFSETFROM:+0200
TZOFFSETTO:+0100
TZNAME:Europe/Paris CET
END:STANDARD
BEGIN:STANDARD
DTSTART:20211031T020000
RDATE:20220327T030000
TZOFFSETFROM:+0200
TZOFFSETTO:+0100
TZNAME:Europe/Paris CET
END:STANDARD
BEGIN:STANDARD
DTSTART:20221030T020000
RDATE:20230326T030000
TZOFFSETFROM:+0200
TZOFFSETTO:+0100
TZNAME:Europe/Paris CET
END:STANDARD
BEGIN:STANDARD
DTSTART:20231029T020000
RDATE:20240331T030000
TZOFFSETFROM:+0200
TZOFFSETTO:+0100
TZNAME:Europe/Paris CET
END:STANDARD
BEGIN:STANDARD
DTSTART:20241027T020000
RDATE:20250330T030000
TZOFFSETFROM:+0200
TZOFFSETTO:+0100
TZNAME:Europe/Paris CET
END:STANDARD
BEGIN:STANDARD
DTSTART:20251026T020000
RDATE:20260329T030000
TZOFFSETFROM:+0200
TZOFFSETTO:+0100
TZNAME:Europe/Paris CET
END:STANDARD
BEGIN:STANDARD
DTSTART:20261025T020000
RDATE:20270328T030000
TZOFFSETFROM:+0200
TZOFFSETTO:+0100
TZNAME:Europe/Paris CET
END:STANDARD
BEGIN:DAYLIGHT
DTSTART:20160729T000000
RDATE:20161030T020000
TZOFFSETFROM:+0100
TZOFFSETTO:+0200
TZNAME:Europe/Paris CEST
END:DAYLIGHT
BEGIN:DAYLIGHT
DTSTART:20170326T030000
RDATE:20171029T020000
TZOFFSETFROM:+0100
TZOFFSETTO:+0200
TZNAME:Europe/Paris CEST
END:DAYLIGHT
BEGIN:DAYLIGHT
DTSTART:20180325T030000
RDATE:20181028T020000
TZOFFSETFROM:+0100
TZOFFSETTO:+0200
TZNAME:Europe/Paris CEST
END:DAYLIGHT
BEGIN:DAYLIGHT
DTSTART:20190331T030000
RDATE:20191027T020000
TZOFFSETFROM:+0100
TZOFFSETTO:+0200
TZNAME:Europe/Paris CEST
END:DAYLIGHT
BEGIN:DAYLIGHT
DTSTART:20200329T030000
RDATE:20201025T020000
TZOFFSETFROM:+0100
TZOFFSETTO:+0200
TZNAME:Europe/Paris CEST
END:DAYLIGHT
BEGIN:DAYLIGHT
DTSTART:20210328T030000
RDATE:20211031T020000
TZOFFSETFROM:+0100
TZOFFSETTO:+0200
TZNAME:Europe/Paris CEST
END:DAYLIGHT
BEGIN:DAYLIGHT
DTSTART:20220327T030000
RDATE:20221030T020000
TZOFFSETFROM:+0100
TZOFFSETTO:+0200
TZNAME:Europe/Paris CEST
END:DAYLIGHT
BEGIN:DAYLIGHT
DTSTART:20230326T030000
RDATE:20231029T020000
TZOFFSETFROM:+0100
TZOFFSETTO:+0200
TZNAME:Europe/Paris CEST
END:DAYLIGHT
BEGIN:DAYLIGHT
DTSTART:20240331T030000
RDATE:20241027T020000
TZOFFSETFROM:+0100
TZOFFSETTO:+0200
TZNAME:Europe/Paris CEST
END:DAYLIGHT
BEGIN:DAYLIGHT
DTSTART:20250330T030000
RDATE:20251026T020000
TZOFFSETFROM:+0100
TZOFFSETTO:+0200
TZNAME:Europe/Paris CEST
END:DAYLIGHT
BEGIN:DAYLIGHT
DTSTART:20260329T030000
RDATE:20261025T020000
TZOFFSETFROM:+0100
TZOFFSETTO:+0200
TZNAME:Europe/Paris CEST
END:DAYLIGHT
END:VTIMEZONE
BEGIN:VEVENT
UID:d16564199f3d97dbf6d0a5e00c5fb245
CATEGORIES:Compétition Saut
CREATED:20170920T182831
SUMMARY:Tournée des Vosges
URL;VALUE=URI:https://skivosges.net/agenda/detailevenement/833/-/tournee-des-vosges?tmpl=
 component
DESCRIPTION:<!-- #gskiepreuve code généré par le plugin jevents pour GskiEpreuves. Ne p
 as modifier cette ligne, ni tout le contenu suivant  #gskiepreuve --><div c
 lass="gski-evenement_infos"><div class="gski-evenement-nom">Tournée des Vos
 ges</div><div class="gski-evenement-report"></div><ul class="gski-evenement
 -liste-infos"><li>Codex évenement TNAT0190</li><li>Station : BUSSANG LARCEN
 AIRE</li><li>Organisateur : 14007 UNION SPORTIVE BUSSANG</li></ul><div clas
 s="gski-evenement-infos-2"><div class="gski-evenement-info-inscriptions"><d
 iv class="gski-evenement-inscriptions-periodes">Période d'inscription à l'e
 vènement du dimanche 23 juillet 2017 à 02:00 au vendredi 28 juillet 2017 à 
 14:00 <span class="gski-evenement-inscriptions-impossibles">(Inscriptions i
 mpossibles).</span><div class="gski-evenement-inscriptions-types-titres">In
 scriptions ouvertes aux detenteurs des titres Fédéraux valides suivants : L
 icenciés Compétiteurs</div></div></div><div class="gski-evenement-epreuves"
 ><div class="gski-evenement-epreuves-titres">Epreuves :</div><ul class="gsk
 i-evenement-epreuves-list"><li><div class="gski-epreuve-date">Le dimanche 3
 0 juillet 2017</div><ul class="gski-epreuve-liste-infos"><li>Codex épreuve 
 TNAM0191</li><li>Saut Special</li><li>Catégorie(s) : U9 a U13 (Garçons)</li
 ></ul></li><li><div class="gski-epreuve-date">Le dimanche 30 juillet 2017</
 div><ul class="gski-epreuve-liste-infos"><li>Codex épreuve TNAF0191</li><li
 >Saut Special</li><li>Catégorie(s) : U9 a U13 (Filles)</li></ul></li><li><d
 iv class="gski-epreuve-date">Le dimanche 30 juillet 2017</div><ul class="gs
 ki-epreuve-liste-infos"><li>Codex épreuve TNAM0192</li><li>Saut Special</li
 ><li>Catégorie(s) : U15 (Garçons)</li></ul></li><li><div class="gski-epreuv
 e-date">Le dimanche 30 juillet 2017</div><ul class="gski-epreuve-liste-info
 s"><li>Codex épreuve TNAF0192</li><li>Saut Special</li><li>Catégorie(s) : U
 15 (Filles)</li></ul></li></ul></div><div class="gskiepreuves-links"><ul><l
 i><a href="/index.php?option=com_jevents&task=icalevent.detail&evid=828&Ite
 mid=1703">Voir les informations dans l'agenda...</a></li></ul></div></div">
 <!-- #/gskiepreuve fin du dode généré par le plugin jevents pour GskiEpreuv
 es. . Ne pas modifier cette ligne, ni tout le contenu précedant.  #/gskiepr
 euve --> <a href="https://skivosges.net/agenda/detailevenement/833/-/tourne
 e-des-vosges?tmpl=component">Cet évènement a été importé depuis :https://sk
 ivosges.net/agenda/detailevenement/833/-/tournee-des-vosges?tmpl=component<
 /a>
X-ALT-DESC;FMTTYPE=text/html:<!-- #gskiepreuve code généré par le plugin jevents pour GskiEpreuves. Ne p
 as modifier cette ligne, ni tout le contenu suivant  #gskiepreuve --><div c
 lass="gski-evenement_infos"><div class="gski-evenement-nom">Tournée des Vos
 ges</div><div class="gski-evenement-report"></div><ul class="gski-evenement
 -liste-infos"><li>Codex évenement TNAT0190</li><li>Station : BUSSANG LARCEN
 AIRE</li><li>Organisateur : 14007 UNION SPORTIVE BUSSANG</li></ul><div clas
 s="gski-evenement-infos-2"><div class="gski-evenement-info-inscriptions"><d
 iv class="gski-evenement-inscriptions-periodes">Période d'inscription à l'e
 vènement du dimanche 23 juillet 2017 à 02:00 au vendredi 28 juillet 2017 à 
 14:00 <span class="gski-evenement-inscriptions-impossibles">(Inscriptions i
 mpossibles).</span><div class="gski-evenement-inscriptions-types-titres">In
 scriptions ouvertes aux detenteurs des titres Fédéraux valides suivants : L
 icenciés Compétiteurs</div></div></div><div class="gski-evenement-epreuves"
 ><div class="gski-evenement-epreuves-titres">Epreuves :</div><ul class="gsk
 i-evenement-epreuves-list"><li><div class="gski-epreuve-date">Le dimanche 3
 0 juillet 2017</div><ul class="gski-epreuve-liste-infos"><li>Codex épreuve 
 TNAM0191</li><li>Saut Special</li><li>Catégorie(s) : U9 a U13 (Garçons)</li
 ></ul></li><li><div class="gski-epreuve-date">Le dimanche 30 juillet 2017</
 div><ul class="gski-epreuve-liste-infos"><li>Codex épreuve TNAF0191</li><li
 >Saut Special</li><li>Catégorie(s) : U9 a U13 (Filles)</li></ul></li><li><d
 iv class="gski-epreuve-date">Le dimanche 30 juillet 2017</div><ul class="gs
 ki-epreuve-liste-infos"><li>Codex épreuve TNAM0192</li><li>Saut Special</li
 ><li>Catégorie(s) : U15 (Garçons)</li></ul></li><li><div class="gski-epreuv
 e-date">Le dimanche 30 juillet 2017</div><ul class="gski-epreuve-liste-info
 s"><li>Codex épreuve TNAF0192</li><li>Saut Special</li><li>Catégorie(s) : U
 15 (Filles)</li></ul></li></ul></div><div class="gskiepreuves-links"><ul><l
 i><a href="https://skivosges.net/index.php?option=com_jevents&task=icaleven
 t.detail&evid=828&Itemid=1703">Voir les informations dans l'agenda...</a></
 li></ul></div></div"><!-- #/gskiepreuve fin du dode généré par le plugin je
 vents pour GskiEpreuves. . Ne pas modifier cette ligne, ni tout le contenu 
 précedant.  #/gskiepreuve --> <a href="https://skivosges.net/agenda/detaile
 venement/833/-/tournee-des-vosges?tmpl=component">Cet évènement a été impor
 té depuis :https://skivosges.net/agenda/detailevenement/833/-/tournee-des-v
 osges?tmpl=component</a>DTSTAMP:20260420T221455
DTSTART;TZID=Europe/Paris;VALUE=DATE:20170730
DTEND;TZID=Europe/Paris;VALUE=DATE:20170731
SEQUENCE:0
TRANSP:OPAQUE
END:VEVENT
END:VCALENDAR