BEGIN:VCALENDAR
VERSION:2.0
PRODID:-//jEvents 2.0 for Joomla//EN
CALSCALE:GREGORIAN
METHOD:PUBLISH
BEGIN:VTIMEZONE
TZID:Europe/Paris
BEGIN:STANDARD
DTSTART:20161030T020000
RDATE:20170326T030000
TZOFFSETFROM:+0200
TZOFFSETTO:+0100
TZNAME:Europe/Paris CET
END:STANDARD
BEGIN:STANDARD
DTSTART:20171029T020000
RDATE:20180325T030000
TZOFFSETFROM:+0200
TZOFFSETTO:+0100
TZNAME:Europe/Paris CET
END:STANDARD
BEGIN:STANDARD
DTSTART:20181028T020000
RDATE:20190331T030000
TZOFFSETFROM:+0200
TZOFFSETTO:+0100
TZNAME:Europe/Paris CET
END:STANDARD
BEGIN:STANDARD
DTSTART:20191027T020000
RDATE:20200329T030000
TZOFFSETFROM:+0200
TZOFFSETTO:+0100
TZNAME:Europe/Paris CET
END:STANDARD
BEGIN:STANDARD
DTSTART:20201025T020000
RDATE:20210328T030000
TZOFFSETFROM:+0200
TZOFFSETTO:+0100
TZNAME:Europe/Paris CET
END:STANDARD
BEGIN:STANDARD
DTSTART:20211031T020000
RDATE:20220327T030000
TZOFFSETFROM:+0200
TZOFFSETTO:+0100
TZNAME:Europe/Paris CET
END:STANDARD
BEGIN:STANDARD
DTSTART:20221030T020000
RDATE:20230326T030000
TZOFFSETFROM:+0200
TZOFFSETTO:+0100
TZNAME:Europe/Paris CET
END:STANDARD
BEGIN:STANDARD
DTSTART:20231029T020000
RDATE:20240331T030000
TZOFFSETFROM:+0200
TZOFFSETTO:+0100
TZNAME:Europe/Paris CET
END:STANDARD
BEGIN:STANDARD
DTSTART:20241027T020000
RDATE:20250330T030000
TZOFFSETFROM:+0200
TZOFFSETTO:+0100
TZNAME:Europe/Paris CET
END:STANDARD
BEGIN:STANDARD
DTSTART:20251026T020000
RDATE:20260329T030000
TZOFFSETFROM:+0200
TZOFFSETTO:+0100
TZNAME:Europe/Paris CET
END:STANDARD
BEGIN:STANDARD
DTSTART:20261025T020000
RDATE:20270328T030000
TZOFFSETFROM:+0200
TZOFFSETTO:+0100
TZNAME:Europe/Paris CET
END:STANDARD
BEGIN:DAYLIGHT
DTSTART:20160826T000000
RDATE:20161030T020000
TZOFFSETFROM:+0100
TZOFFSETTO:+0200
TZNAME:Europe/Paris CEST
END:DAYLIGHT
BEGIN:DAYLIGHT
DTSTART:20170326T030000
RDATE:20171029T020000
TZOFFSETFROM:+0100
TZOFFSETTO:+0200
TZNAME:Europe/Paris CEST
END:DAYLIGHT
BEGIN:DAYLIGHT
DTSTART:20180325T030000
RDATE:20181028T020000
TZOFFSETFROM:+0100
TZOFFSETTO:+0200
TZNAME:Europe/Paris CEST
END:DAYLIGHT
BEGIN:DAYLIGHT
DTSTART:20190331T030000
RDATE:20191027T020000
TZOFFSETFROM:+0100
TZOFFSETTO:+0200
TZNAME:Europe/Paris CEST
END:DAYLIGHT
BEGIN:DAYLIGHT
DTSTART:20200329T030000
RDATE:20201025T020000
TZOFFSETFROM:+0100
TZOFFSETTO:+0200
TZNAME:Europe/Paris CEST
END:DAYLIGHT
BEGIN:DAYLIGHT
DTSTART:20210328T030000
RDATE:20211031T020000
TZOFFSETFROM:+0100
TZOFFSETTO:+0200
TZNAME:Europe/Paris CEST
END:DAYLIGHT
BEGIN:DAYLIGHT
DTSTART:20220327T030000
RDATE:20221030T020000
TZOFFSETFROM:+0100
TZOFFSETTO:+0200
TZNAME:Europe/Paris CEST
END:DAYLIGHT
BEGIN:DAYLIGHT
DTSTART:20230326T030000
RDATE:20231029T020000
TZOFFSETFROM:+0100
TZOFFSETTO:+0200
TZNAME:Europe/Paris CEST
END:DAYLIGHT
BEGIN:DAYLIGHT
DTSTART:20240331T030000
RDATE:20241027T020000
TZOFFSETFROM:+0100
TZOFFSETTO:+0200
TZNAME:Europe/Paris CEST
END:DAYLIGHT
BEGIN:DAYLIGHT
DTSTART:20250330T030000
RDATE:20251026T020000
TZOFFSETFROM:+0100
TZOFFSETTO:+0200
TZNAME:Europe/Paris CEST
END:DAYLIGHT
BEGIN:DAYLIGHT
DTSTART:20260329T030000
RDATE:20261025T020000
TZOFFSETFROM:+0100
TZOFFSETTO:+0200
TZNAME:Europe/Paris CEST
END:DAYLIGHT
END:VTIMEZONE
BEGIN:VEVENT
UID:ead9a2b27c3a9adcb64c0bf9dad69474
CATEGORIES:Compétition Biathlon
CREATED:20170920T182831
SUMMARY:Biathlon Xonrupt
URL;VALUE=URI:https://skivosges.net/agenda/detailevenement/839/-/biathlon-xonrupt?tmpl=co
 mponent
DESCRIPTION:Biathlon Xonrupt\n - Codex évenement BMVT0080\n - Station : XONRUPT\n - Org
 anisateur : 14102 SKI CLUB XONRUPTPériode d'inscription à l'evènement du di
 manche 20 août 2017 à 02:00 au vendredi 25 août 2017 à 14:00 (Inscriptions 
 impossibles).Inscriptions ouvertes aux detenteurs des titres Fédéraux valid
 es suivants : Licenciés CompétiteursEpreuves :\n - Le dimanche 27 août 2017
 \n - Codex épreuve BMVF0081\n - Individuel\n - Catégorie(s) : U14 (Filles)\
 n - Le dimanche 27 août 2017\n - Codex épreuve BMVM0081\n - Individuel\n - 
 Catégorie(s) : U14 (Garçons)\n - Le dimanche 27 août 2017\n - Codex épreuve
  BMVF0082\n - Individuel\n - Catégorie(s) : U16 a SEN (Filles)\n - Le diman
 che 27 août 2017\n - Codex épreuve BMVM0082\n - Individuel\n - Catégorie(s)
  : U16 a SEN (Garçons)\n - Voir les informations dans l'agenda... (/index.p
 hp?option=com_jevents&amp;task=icalevent.detail&amp;evid=834&amp;Itemid=170
 3) Cet évènement a été importé depuis :https://skivosges.net/agenda/detaile
 venement/839/-/biathlon-xonrupt?tmpl=component (https://skivosges.net/agend
 a/detailevenement/839/-/biathlon-xonrupt?tmpl=component)
X-ALT-DESC;FMTTYPE=text/html:<!-- #gskiepreuve code généré par le plugin jevents pour GskiEpreuves. Ne p
 as modifier cette ligne, ni tout le contenu suivant  #gskiepreuve --><div c
 lass="gski-evenement_infos"><div class="gski-evenement-nom">Biathlon Xonrup
 t</div><div class="gski-evenement-report"></div><ul class="gski-evenement-l
 iste-infos"><li>Codex évenement BMVT0080</li><li>Station : XONRUPT</li><li>
 Organisateur : 14102 SKI CLUB XONRUPT</li></ul><div class="gski-evenement-i
 nfos-2"><div class="gski-evenement-info-inscriptions"><div class="gski-even
 ement-inscriptions-periodes">Période d'inscription à l'evènement du dimanch
 e 20 août 2017 à 02:00 au vendredi 25 août 2017 à 14:00 <span class="gski-e
 venement-inscriptions-impossibles">(Inscriptions impossibles).</span><div c
 lass="gski-evenement-inscriptions-types-titres">Inscriptions ouvertes aux d
 etenteurs des titres Fédéraux valides suivants : Licenciés Compétiteurs</di
 v></div></div><div class="gski-evenement-epreuves"><div class="gski-eveneme
 nt-epreuves-titres">Epreuves :</div><ul class="gski-evenement-epreuves-list
 "><li><div class="gski-epreuve-date">Le dimanche 27 août 2017</div><ul clas
 s="gski-epreuve-liste-infos"><li>Codex épreuve BMVF0081</li><li>Individuel<
 /li><li>Catégorie(s) : U14 (Filles)</li></ul></li><li><div class="gski-epre
 uve-date">Le dimanche 27 août 2017</div><ul class="gski-epreuve-liste-infos
 "><li>Codex épreuve BMVM0081</li><li>Individuel</li><li>Catégorie(s) : U14 
 (Garçons)</li></ul></li><li><div class="gski-epreuve-date">Le dimanche 27 a
 oût 2017</div><ul class="gski-epreuve-liste-infos"><li>Codex épreuve BMVF00
 82</li><li>Individuel</li><li>Catégorie(s) : U16 a SEN (Filles)</li></ul></
 li><li><div class="gski-epreuve-date">Le dimanche 27 août 2017</div><ul cla
 ss="gski-epreuve-liste-infos"><li>Codex épreuve BMVM0082</li><li>Individuel
 </li><li>Catégorie(s) : U16 a SEN (Garçons)</li></ul></li></ul></div><div c
 lass="gskiepreuves-links"><ul><li><a href="https://skivosges.net/index.php?
 option=com_jevents&task=icalevent.detail&evid=834&Itemid=1703">Voir les inf
 ormations dans l'agenda...</a></li></ul></div></div"><!-- #/gskiepreuve fin
  du dode généré par le plugin jevents pour GskiEpreuves. . Ne pas modifier 
 cette ligne, ni tout le contenu précedant.  #/gskiepreuve --> <a href="http
 s://skivosges.net/agenda/detailevenement/839/-/biathlon-xonrupt?tmpl=compon
 ent">Cet évènement a été importé depuis :https://skivosges.net/agenda/detai
 levenement/839/-/biathlon-xonrupt?tmpl=component</a>DTSTAMP:20260420T221124
DTSTART;TZID=Europe/Paris;VALUE=DATE:20170827
DTEND;TZID=Europe/Paris;VALUE=DATE:20170828
SEQUENCE:0
TRANSP:OPAQUE
END:VEVENT
END:VCALENDAR