BEGIN:VCALENDAR
VERSION:2.0
PRODID:-//jEvents 2.0 for Joomla//EN
CALSCALE:GREGORIAN
METHOD:PUBLISH
BEGIN:VTIMEZONE
TZID:Europe/Paris
BEGIN:STANDARD
DTSTART:20161030T020000
RDATE:20170326T030000
TZOFFSETFROM:+0200
TZOFFSETTO:+0100
TZNAME:Europe/Paris CET
END:STANDARD
BEGIN:STANDARD
DTSTART:20171029T020000
RDATE:20180325T030000
TZOFFSETFROM:+0200
TZOFFSETTO:+0100
TZNAME:Europe/Paris CET
END:STANDARD
BEGIN:STANDARD
DTSTART:20181028T020000
RDATE:20190331T030000
TZOFFSETFROM:+0200
TZOFFSETTO:+0100
TZNAME:Europe/Paris CET
END:STANDARD
BEGIN:STANDARD
DTSTART:20191027T020000
RDATE:20200329T030000
TZOFFSETFROM:+0200
TZOFFSETTO:+0100
TZNAME:Europe/Paris CET
END:STANDARD
BEGIN:STANDARD
DTSTART:20201025T020000
RDATE:20210328T030000
TZOFFSETFROM:+0200
TZOFFSETTO:+0100
TZNAME:Europe/Paris CET
END:STANDARD
BEGIN:STANDARD
DTSTART:20211031T020000
RDATE:20220327T030000
TZOFFSETFROM:+0200
TZOFFSETTO:+0100
TZNAME:Europe/Paris CET
END:STANDARD
BEGIN:STANDARD
DTSTART:20221030T020000
RDATE:20230326T030000
TZOFFSETFROM:+0200
TZOFFSETTO:+0100
TZNAME:Europe/Paris CET
END:STANDARD
BEGIN:STANDARD
DTSTART:20231029T020000
RDATE:20240331T030000
TZOFFSETFROM:+0200
TZOFFSETTO:+0100
TZNAME:Europe/Paris CET
END:STANDARD
BEGIN:STANDARD
DTSTART:20241027T020000
RDATE:20250330T030000
TZOFFSETFROM:+0200
TZOFFSETTO:+0100
TZNAME:Europe/Paris CET
END:STANDARD
BEGIN:STANDARD
DTSTART:20251026T020000
RDATE:20260329T030000
TZOFFSETFROM:+0200
TZOFFSETTO:+0100
TZNAME:Europe/Paris CET
END:STANDARD
BEGIN:STANDARD
DTSTART:20261025T020000
RDATE:20270328T030000
TZOFFSETFROM:+0200
TZOFFSETTO:+0100
TZNAME:Europe/Paris CET
END:STANDARD
BEGIN:DAYLIGHT
DTSTART:20160908T000000
RDATE:20161030T020000
TZOFFSETFROM:+0100
TZOFFSETTO:+0200
TZNAME:Europe/Paris CEST
END:DAYLIGHT
BEGIN:DAYLIGHT
DTSTART:20170326T030000
RDATE:20171029T020000
TZOFFSETFROM:+0100
TZOFFSETTO:+0200
TZNAME:Europe/Paris CEST
END:DAYLIGHT
BEGIN:DAYLIGHT
DTSTART:20180325T030000
RDATE:20181028T020000
TZOFFSETFROM:+0100
TZOFFSETTO:+0200
TZNAME:Europe/Paris CEST
END:DAYLIGHT
BEGIN:DAYLIGHT
DTSTART:20190331T030000
RDATE:20191027T020000
TZOFFSETFROM:+0100
TZOFFSETTO:+0200
TZNAME:Europe/Paris CEST
END:DAYLIGHT
BEGIN:DAYLIGHT
DTSTART:20200329T030000
RDATE:20201025T020000
TZOFFSETFROM:+0100
TZOFFSETTO:+0200
TZNAME:Europe/Paris CEST
END:DAYLIGHT
BEGIN:DAYLIGHT
DTSTART:20210328T030000
RDATE:20211031T020000
TZOFFSETFROM:+0100
TZOFFSETTO:+0200
TZNAME:Europe/Paris CEST
END:DAYLIGHT
BEGIN:DAYLIGHT
DTSTART:20220327T030000
RDATE:20221030T020000
TZOFFSETFROM:+0100
TZOFFSETTO:+0200
TZNAME:Europe/Paris CEST
END:DAYLIGHT
BEGIN:DAYLIGHT
DTSTART:20230326T030000
RDATE:20231029T020000
TZOFFSETFROM:+0100
TZOFFSETTO:+0200
TZNAME:Europe/Paris CEST
END:DAYLIGHT
BEGIN:DAYLIGHT
DTSTART:20240331T030000
RDATE:20241027T020000
TZOFFSETFROM:+0100
TZOFFSETTO:+0200
TZNAME:Europe/Paris CEST
END:DAYLIGHT
BEGIN:DAYLIGHT
DTSTART:20250330T030000
RDATE:20251026T020000
TZOFFSETFROM:+0100
TZOFFSETTO:+0200
TZNAME:Europe/Paris CEST
END:DAYLIGHT
BEGIN:DAYLIGHT
DTSTART:20260329T030000
RDATE:20261025T020000
TZOFFSETFROM:+0100
TZOFFSETTO:+0200
TZNAME:Europe/Paris CEST
END:DAYLIGHT
END:VTIMEZONE
BEGIN:VEVENT
UID:74cc3829e8ac791f687136e7c741788c
CATEGORIES:Compétition Biathlon
CREATED:20170920T182831
SUMMARY:Biathlon La Bresse
URL;VALUE=URI:https://skivosges.net/agenda/detailevenement/841/-/biathlon-la-bresse?tmpl=
 component
DESCRIPTION:Biathlon La Bresse\n - Codex évenement BMVT0090\n - Station : LA BRESSE LIS
 PACH\n - Organisateur : 14024 LA BRESSAUDE SECTION SKIPériode d'inscription
  à l'evènement du samedi 02 septembre 2017 à 02:00 au jeudi 07 septembre 20
 17 à 14:00 (Inscriptions impossibles).Inscriptions ouvertes aux detenteurs 
 des titres Fédéraux valides suivants : Licenciés CompétiteursEpreuves :\n -
  Le samedi 09 septembre 2017\n - Codex épreuve BMVF0091\n - Individuel\n - 
 Catégorie(s) : U14 (Filles)\n - Le samedi 09 septembre 2017\n - Codex épreu
 ve BMVM0091\n - Individuel\n - Catégorie(s) : U14 (Garçons)\n - Le samedi 0
 9 septembre 2017\n - Codex épreuve BMVF0092\n - Individuel\n - Catégorie(s)
  : U16 a SEN (Filles)\n - Le samedi 09 septembre 2017\n - Codex épreuve BMV
 M0092\n - Individuel\n - Catégorie(s) : U16 a SEN (Garçons)\n - Voir les in
 formations dans l'agenda... (/index.php?option=com_jevents&amp;task=icaleve
 nt.detail&amp;evid=836&amp;Itemid=1703) Cet évènement a été importé depuis 
 :https://skivosges.net/agenda/detailevenement/841/-/biathlon-la-bresse?tmpl
 =component
X-ALT-DESC;FMTTYPE=text/html:<!-- #gskiepreuve code généré par le plugin jevents pour GskiEpreuves. Ne p
 as modifier cette ligne, ni tout le contenu suivant  #gskiepreuve --><div c
 lass="gski-evenement_infos"><div class="gski-evenement-nom">Biathlon La Bre
 sse</div><div class="gski-evenement-report"></div><ul class="gski-evenement
 -liste-infos"><li>Codex évenement BMVT0090</li><li>Station : LA BRESSE LISP
 ACH</li><li>Organisateur : 14024 LA BRESSAUDE SECTION SKI</li></ul><div cla
 ss="gski-evenement-infos-2"><div class="gski-evenement-info-inscriptions"><
 div class="gski-evenement-inscriptions-periodes">Période d'inscription à l'
 evènement du samedi 02 septembre 2017 à 02:00 au jeudi 07 septembre 2017 à 
 14:00 <span class="gski-evenement-inscriptions-impossibles">(Inscriptions i
 mpossibles).</span><div class="gski-evenement-inscriptions-types-titres">In
 scriptions ouvertes aux detenteurs des titres Fédéraux valides suivants : L
 icenciés Compétiteurs</div></div></div><div class="gski-evenement-epreuves"
 ><div class="gski-evenement-epreuves-titres">Epreuves :</div><ul class="gsk
 i-evenement-epreuves-list"><li><div class="gski-epreuve-date">Le samedi 09 
 septembre 2017</div><ul class="gski-epreuve-liste-infos"><li>Codex épreuve 
 BMVF0091</li><li>Individuel</li><li>Catégorie(s) : U14 (Filles)</li></ul></
 li><li><div class="gski-epreuve-date">Le samedi 09 septembre 2017</div><ul 
 class="gski-epreuve-liste-infos"><li>Codex épreuve BMVM0091</li><li>Individ
 uel</li><li>Catégorie(s) : U14 (Garçons)</li></ul></li><li><div class="gski
 -epreuve-date">Le samedi 09 septembre 2017</div><ul class="gski-epreuve-lis
 te-infos"><li>Codex épreuve BMVF0092</li><li>Individuel</li><li>Catégorie(s
 ) : U16 a SEN (Filles)</li></ul></li><li><div class="gski-epreuve-date">Le 
 samedi 09 septembre 2017</div><ul class="gski-epreuve-liste-infos"><li>Code
 x épreuve BMVM0092</li><li>Individuel</li><li>Catégorie(s) : U16 a SEN (Gar
 çons)</li></ul></li></ul></div><div class="gskiepreuves-links"><ul><li><a h
 ref="https://skivosges.net/index.php?option=com_jevents&task=icalevent.deta
 il&evid=836&Itemid=1703">Voir les informations dans l'agenda...</a></li></u
 l></div></div"><!-- #/gskiepreuve fin du dode généré par le plugin jevents 
 pour GskiEpreuves. . Ne pas modifier cette ligne, ni tout le contenu préced
 ant.  #/gskiepreuve --> <a href="https://skivosges.net/agenda/detaileveneme
 nt/841/-/biathlon-la-bresse?tmpl=component">Cet évènement a été importé dep
 uis :https://skivosges.net/agenda/detailevenement/841/-/biathlon-la-bresse?
 tmpl=component</a>DTSTAMP:20260421T050944
DTSTART;TZID=Europe/Paris;VALUE=DATE:20170909
DTEND;TZID=Europe/Paris;VALUE=DATE:20170910
SEQUENCE:0
TRANSP:OPAQUE
END:VEVENT
END:VCALENDAR