BEGIN:VCALENDAR
VERSION:2.0
PRODID:-//jEvents 2.0 for Joomla//EN
CALSCALE:GREGORIAN
METHOD:PUBLISH
BEGIN:VTIMEZONE
TZID:Europe/Paris
BEGIN:STANDARD
DTSTART:20161030T020000
RDATE:20170326T030000
TZOFFSETFROM:+0200
TZOFFSETTO:+0100
TZNAME:Europe/Paris CET
END:STANDARD
BEGIN:STANDARD
DTSTART:20171029T020000
RDATE:20180325T030000
TZOFFSETFROM:+0200
TZOFFSETTO:+0100
TZNAME:Europe/Paris CET
END:STANDARD
BEGIN:STANDARD
DTSTART:20181028T020000
RDATE:20190331T030000
TZOFFSETFROM:+0200
TZOFFSETTO:+0100
TZNAME:Europe/Paris CET
END:STANDARD
BEGIN:STANDARD
DTSTART:20191027T020000
RDATE:20200329T030000
TZOFFSETFROM:+0200
TZOFFSETTO:+0100
TZNAME:Europe/Paris CET
END:STANDARD
BEGIN:STANDARD
DTSTART:20201025T020000
RDATE:20210328T030000
TZOFFSETFROM:+0200
TZOFFSETTO:+0100
TZNAME:Europe/Paris CET
END:STANDARD
BEGIN:STANDARD
DTSTART:20211031T020000
RDATE:20220327T030000
TZOFFSETFROM:+0200
TZOFFSETTO:+0100
TZNAME:Europe/Paris CET
END:STANDARD
BEGIN:STANDARD
DTSTART:20221030T020000
RDATE:20230326T030000
TZOFFSETFROM:+0200
TZOFFSETTO:+0100
TZNAME:Europe/Paris CET
END:STANDARD
BEGIN:STANDARD
DTSTART:20231029T020000
RDATE:20240331T030000
TZOFFSETFROM:+0200
TZOFFSETTO:+0100
TZNAME:Europe/Paris CET
END:STANDARD
BEGIN:STANDARD
DTSTART:20241027T020000
RDATE:20250330T030000
TZOFFSETFROM:+0200
TZOFFSETTO:+0100
TZNAME:Europe/Paris CET
END:STANDARD
BEGIN:STANDARD
DTSTART:20251026T020000
RDATE:20260329T030000
TZOFFSETFROM:+0200
TZOFFSETTO:+0100
TZNAME:Europe/Paris CET
END:STANDARD
BEGIN:STANDARD
DTSTART:20261025T020000
RDATE:20270328T030000
TZOFFSETFROM:+0200
TZOFFSETTO:+0100
TZNAME:Europe/Paris CET
END:STANDARD
BEGIN:DAYLIGHT
DTSTART:20160909T000000
RDATE:20161030T020000
TZOFFSETFROM:+0100
TZOFFSETTO:+0200
TZNAME:Europe/Paris CEST
END:DAYLIGHT
BEGIN:DAYLIGHT
DTSTART:20170326T030000
RDATE:20171029T020000
TZOFFSETFROM:+0100
TZOFFSETTO:+0200
TZNAME:Europe/Paris CEST
END:DAYLIGHT
BEGIN:DAYLIGHT
DTSTART:20180325T030000
RDATE:20181028T020000
TZOFFSETFROM:+0100
TZOFFSETTO:+0200
TZNAME:Europe/Paris CEST
END:DAYLIGHT
BEGIN:DAYLIGHT
DTSTART:20190331T030000
RDATE:20191027T020000
TZOFFSETFROM:+0100
TZOFFSETTO:+0200
TZNAME:Europe/Paris CEST
END:DAYLIGHT
BEGIN:DAYLIGHT
DTSTART:20200329T030000
RDATE:20201025T020000
TZOFFSETFROM:+0100
TZOFFSETTO:+0200
TZNAME:Europe/Paris CEST
END:DAYLIGHT
BEGIN:DAYLIGHT
DTSTART:20210328T030000
RDATE:20211031T020000
TZOFFSETFROM:+0100
TZOFFSETTO:+0200
TZNAME:Europe/Paris CEST
END:DAYLIGHT
BEGIN:DAYLIGHT
DTSTART:20220327T030000
RDATE:20221030T020000
TZOFFSETFROM:+0100
TZOFFSETTO:+0200
TZNAME:Europe/Paris CEST
END:DAYLIGHT
BEGIN:DAYLIGHT
DTSTART:20230326T030000
RDATE:20231029T020000
TZOFFSETFROM:+0100
TZOFFSETTO:+0200
TZNAME:Europe/Paris CEST
END:DAYLIGHT
BEGIN:DAYLIGHT
DTSTART:20240331T030000
RDATE:20241027T020000
TZOFFSETFROM:+0100
TZOFFSETTO:+0200
TZNAME:Europe/Paris CEST
END:DAYLIGHT
BEGIN:DAYLIGHT
DTSTART:20250330T030000
RDATE:20251026T020000
TZOFFSETFROM:+0100
TZOFFSETTO:+0200
TZNAME:Europe/Paris CEST
END:DAYLIGHT
BEGIN:DAYLIGHT
DTSTART:20260329T030000
RDATE:20261025T020000
TZOFFSETFROM:+0100
TZOFFSETTO:+0200
TZNAME:Europe/Paris CEST
END:DAYLIGHT
END:VTIMEZONE
BEGIN:VEVENT
UID:5c271d0f24a862eece9255161d08a5d6
CATEGORIES:Roller Ski
CREATED:20170920T182831
SUMMARY:course Ski roues La Bresse
URL;VALUE=URI:https://skivosges.net/agenda/detailevenement/842/-/course-ski-roues-la-bres
 se?tmpl=component
DESCRIPTION:<!-- #gskiepreuve code généré par le plugin jevents pour GskiEpreuves. Ne p
 as modifier cette ligne, ni tout le contenu suivant  #gskiepreuve --><div c
 lass="gski-evenement_infos"><div class="gski-evenement-nom">course Ski roue
 s La Bresse</div><div class="gski-evenement-report"></div><ul class="gski-e
 venement-liste-infos"><li>Codex évenement OMVT0040</li><li>Station : LA BRE
 SSE LISPACH</li><li>Organisateur : 14024 LA BRESSAUDE SECTION SKI</li></ul>
 <div class="gski-evenement-infos-2"><div class="gski-evenement-info-inscrip
 tions"><div class="gski-evenement-inscriptions-periodes">Période d'inscript
 ion à l'evènement du dimanche 03 septembre 2017 à 02:00 au vendredi 08 sept
 embre 2017 à 14:00 <span class="gski-evenement-inscriptions-impossibles">(I
 nscriptions impossibles).</span><div class="gski-evenement-inscriptions-typ
 es-titres">Inscriptions ouvertes aux detenteurs des titres Fédéraux valides
  suivants : Licenciés Compétiteurs</div></div></div><div class="gski-evenem
 ent-epreuves"><div class="gski-evenement-epreuves-titres">Epreuves :</div><
 ul class="gski-evenement-epreuves-list"><li><div class="gski-epreuve-date">
 Le dimanche 10 septembre 2017</div><ul class="gski-epreuve-liste-infos"><li
 >Codex épreuve OMVF0041</li><li>(IND)</li><li>Catégorie(s) : U14 (Filles)</
 li></ul></li><li><div class="gski-epreuve-date">Le dimanche 10 septembre 20
 17</div><ul class="gski-epreuve-liste-infos"><li>Codex épreuve OMVM0041</li
 ><li>(IND)</li><li>Catégorie(s) : U14 (Garçons)</li></ul></li><li><div clas
 s="gski-epreuve-date">Le dimanche 10 septembre 2017</div><ul class="gski-ep
 reuve-liste-infos"><li>Codex épreuve OMVM0042</li><li>(IND)</li><li>Catégor
 ie(s) : U18 a SEN (Hommes)</li></ul></li><li><div class="gski-epreuve-date"
 >Le dimanche 10 septembre 2017</div><ul class="gski-epreuve-liste-infos"><l
 i>Codex épreuve OMVF0042</li><li>(IND)</li><li>Catégorie(s) : U18 a SEN (Da
 mes)</li></ul></li></ul></div><div class="gskiepreuves-links"><ul><li><a hr
 ef="/index.php?option=com_jevents&task=icalevent.detail&evid=837&Itemid=170
 3">Voir les informations dans l'agenda...</a></li></ul></div></div"><!-- #/
 gskiepreuve fin du dode généré par le plugin jevents pour GskiEpreuves. . N
 e pas modifier cette ligne, ni tout le contenu précedant.  #/gskiepreuve --
 > <a href="https://skivosges.net/agenda/detailevenement/842/-/course-ski-ro
 ues-la-bresse?tmpl=component">Cet évènement a été importé depuis :https://s
 kivosges.net/agenda/detailevenement/842/-/course-ski-roues-la-bresse?tmpl=c
 omponent</a>
X-ALT-DESC;FMTTYPE=text/html:<!-- #gskiepreuve code généré par le plugin jevents pour GskiEpreuves. Ne p
 as modifier cette ligne, ni tout le contenu suivant  #gskiepreuve --><div c
 lass="gski-evenement_infos"><div class="gski-evenement-nom">course Ski roue
 s La Bresse</div><div class="gski-evenement-report"></div><ul class="gski-e
 venement-liste-infos"><li>Codex évenement OMVT0040</li><li>Station : LA BRE
 SSE LISPACH</li><li>Organisateur : 14024 LA BRESSAUDE SECTION SKI</li></ul>
 <div class="gski-evenement-infos-2"><div class="gski-evenement-info-inscrip
 tions"><div class="gski-evenement-inscriptions-periodes">Période d'inscript
 ion à l'evènement du dimanche 03 septembre 2017 à 02:00 au vendredi 08 sept
 embre 2017 à 14:00 <span class="gski-evenement-inscriptions-impossibles">(I
 nscriptions impossibles).</span><div class="gski-evenement-inscriptions-typ
 es-titres">Inscriptions ouvertes aux detenteurs des titres Fédéraux valides
  suivants : Licenciés Compétiteurs</div></div></div><div class="gski-evenem
 ent-epreuves"><div class="gski-evenement-epreuves-titres">Epreuves :</div><
 ul class="gski-evenement-epreuves-list"><li><div class="gski-epreuve-date">
 Le dimanche 10 septembre 2017</div><ul class="gski-epreuve-liste-infos"><li
 >Codex épreuve OMVF0041</li><li>(IND)</li><li>Catégorie(s) : U14 (Filles)</
 li></ul></li><li><div class="gski-epreuve-date">Le dimanche 10 septembre 20
 17</div><ul class="gski-epreuve-liste-infos"><li>Codex épreuve OMVM0041</li
 ><li>(IND)</li><li>Catégorie(s) : U14 (Garçons)</li></ul></li><li><div clas
 s="gski-epreuve-date">Le dimanche 10 septembre 2017</div><ul class="gski-ep
 reuve-liste-infos"><li>Codex épreuve OMVM0042</li><li>(IND)</li><li>Catégor
 ie(s) : U18 a SEN (Hommes)</li></ul></li><li><div class="gski-epreuve-date"
 >Le dimanche 10 septembre 2017</div><ul class="gski-epreuve-liste-infos"><l
 i>Codex épreuve OMVF0042</li><li>(IND)</li><li>Catégorie(s) : U18 a SEN (Da
 mes)</li></ul></li></ul></div><div class="gskiepreuves-links"><ul><li><a hr
 ef="https://skivosges.net/index.php?option=com_jevents&task=icalevent.detai
 l&evid=837&Itemid=1703">Voir les informations dans l'agenda...</a></li></ul
 ></div></div"><!-- #/gskiepreuve fin du dode généré par le plugin jevents p
 our GskiEpreuves. . Ne pas modifier cette ligne, ni tout le contenu préceda
 nt.  #/gskiepreuve --> <a href="https://skivosges.net/agenda/detailevenemen
 t/842/-/course-ski-roues-la-bresse?tmpl=component">Cet évènement a été impo
 rté depuis :https://skivosges.net/agenda/detailevenement/842/-/course-ski-r
 oues-la-bresse?tmpl=component</a>DTSTAMP:20260420T221455
DTSTART;TZID=Europe/Paris;VALUE=DATE:20170910
DTEND;TZID=Europe/Paris;VALUE=DATE:20170911
SEQUENCE:0
TRANSP:OPAQUE
END:VEVENT
END:VCALENDAR