BEGIN:VCALENDAR
VERSION:2.0
PRODID:-//jEvents 2.0 for Joomla//EN
CALSCALE:GREGORIAN
METHOD:PUBLISH
BEGIN:VTIMEZONE
TZID:Europe/Paris
BEGIN:STANDARD
DTSTART:20161030T020000
RDATE:20170326T030000
TZOFFSETFROM:+0200
TZOFFSETTO:+0100
TZNAME:Europe/Paris CET
END:STANDARD
BEGIN:STANDARD
DTSTART:20171029T020000
RDATE:20180325T030000
TZOFFSETFROM:+0200
TZOFFSETTO:+0100
TZNAME:Europe/Paris CET
END:STANDARD
BEGIN:STANDARD
DTSTART:20181028T020000
RDATE:20190331T030000
TZOFFSETFROM:+0200
TZOFFSETTO:+0100
TZNAME:Europe/Paris CET
END:STANDARD
BEGIN:STANDARD
DTSTART:20191027T020000
RDATE:20200329T030000
TZOFFSETFROM:+0200
TZOFFSETTO:+0100
TZNAME:Europe/Paris CET
END:STANDARD
BEGIN:STANDARD
DTSTART:20201025T020000
RDATE:20210328T030000
TZOFFSETFROM:+0200
TZOFFSETTO:+0100
TZNAME:Europe/Paris CET
END:STANDARD
BEGIN:STANDARD
DTSTART:20211031T020000
RDATE:20220327T030000
TZOFFSETFROM:+0200
TZOFFSETTO:+0100
TZNAME:Europe/Paris CET
END:STANDARD
BEGIN:STANDARD
DTSTART:20221030T020000
RDATE:20230326T030000
TZOFFSETFROM:+0200
TZOFFSETTO:+0100
TZNAME:Europe/Paris CET
END:STANDARD
BEGIN:STANDARD
DTSTART:20231029T020000
RDATE:20240331T030000
TZOFFSETFROM:+0200
TZOFFSETTO:+0100
TZNAME:Europe/Paris CET
END:STANDARD
BEGIN:STANDARD
DTSTART:20241027T020000
RDATE:20250330T030000
TZOFFSETFROM:+0200
TZOFFSETTO:+0100
TZNAME:Europe/Paris CET
END:STANDARD
BEGIN:STANDARD
DTSTART:20251026T020000
RDATE:20260329T030000
TZOFFSETFROM:+0200
TZOFFSETTO:+0100
TZNAME:Europe/Paris CET
END:STANDARD
BEGIN:STANDARD
DTSTART:20261025T020000
RDATE:20270328T030000
TZOFFSETFROM:+0200
TZOFFSETTO:+0100
TZNAME:Europe/Paris CET
END:STANDARD
BEGIN:DAYLIGHT
DTSTART:20160929T000000
RDATE:20161030T020000
TZOFFSETFROM:+0100
TZOFFSETTO:+0200
TZNAME:Europe/Paris CEST
END:DAYLIGHT
BEGIN:DAYLIGHT
DTSTART:20170326T030000
RDATE:20171029T020000
TZOFFSETFROM:+0100
TZOFFSETTO:+0200
TZNAME:Europe/Paris CEST
END:DAYLIGHT
BEGIN:DAYLIGHT
DTSTART:20180325T030000
RDATE:20181028T020000
TZOFFSETFROM:+0100
TZOFFSETTO:+0200
TZNAME:Europe/Paris CEST
END:DAYLIGHT
BEGIN:DAYLIGHT
DTSTART:20190331T030000
RDATE:20191027T020000
TZOFFSETFROM:+0100
TZOFFSETTO:+0200
TZNAME:Europe/Paris CEST
END:DAYLIGHT
BEGIN:DAYLIGHT
DTSTART:20200329T030000
RDATE:20201025T020000
TZOFFSETFROM:+0100
TZOFFSETTO:+0200
TZNAME:Europe/Paris CEST
END:DAYLIGHT
BEGIN:DAYLIGHT
DTSTART:20210328T030000
RDATE:20211031T020000
TZOFFSETFROM:+0100
TZOFFSETTO:+0200
TZNAME:Europe/Paris CEST
END:DAYLIGHT
BEGIN:DAYLIGHT
DTSTART:20220327T030000
RDATE:20221030T020000
TZOFFSETFROM:+0100
TZOFFSETTO:+0200
TZNAME:Europe/Paris CEST
END:DAYLIGHT
BEGIN:DAYLIGHT
DTSTART:20230326T030000
RDATE:20231029T020000
TZOFFSETFROM:+0100
TZOFFSETTO:+0200
TZNAME:Europe/Paris CEST
END:DAYLIGHT
BEGIN:DAYLIGHT
DTSTART:20240331T030000
RDATE:20241027T020000
TZOFFSETFROM:+0100
TZOFFSETTO:+0200
TZNAME:Europe/Paris CEST
END:DAYLIGHT
BEGIN:DAYLIGHT
DTSTART:20250330T030000
RDATE:20251026T020000
TZOFFSETFROM:+0100
TZOFFSETTO:+0200
TZNAME:Europe/Paris CEST
END:DAYLIGHT
BEGIN:DAYLIGHT
DTSTART:20260329T030000
RDATE:20261025T020000
TZOFFSETFROM:+0100
TZOFFSETTO:+0200
TZNAME:Europe/Paris CEST
END:DAYLIGHT
END:VTIMEZONE
BEGIN:VEVENT
UID:674a421e297a33c05c0659fc75234a17
CATEGORIES:Compétition Biathlon
CREATED:20170920T182831
SUMMARY:Biathlon réserve
URL;VALUE=URI:https://skivosges.net/agenda/detailevenement/845/-/biathlon-reserve?tmpl=co
 mponent
DESCRIPTION:Biathlon réserve\n - Codex évenement BMVT0130\n - Organisateur : Période d'
 inscription à l'evènement du samedi 23 septembre 2017 à 02:00 au jeudi 28 s
 eptembre 2017 à 14:00 (Inscriptions impossibles).Inscriptions ouvertes aux 
 detenteurs des titres Fédéraux valides suivants : Licenciés CompétiteursEpr
 euves :\n - Le samedi 30 septembre 2017\n - Codex épreuve BMVF0131\n - Indi
 viduel\n - Catégorie(s) : U14 (Filles)\n - Le samedi 30 septembre 2017\n - 
 Codex épreuve BMVM0131\n - Individuel\n - Catégorie(s) : U14 (Garçons)\n - 
 Le samedi 30 septembre 2017\n - Codex épreuve BMVF0132\n - Individuel\n - C
 atégorie(s) : U16 a SEN (Filles)\n - Le samedi 30 septembre 2017\n - Codex 
 épreuve BMVM0132\n - Individuel\n - Catégorie(s) : U16 a SEN (Garçons)\n - 
 Voir les informations dans l'agenda... (/index.php?option=com_jevents&amp;t
 ask=icalevent.detail&amp;evid=840&amp;Itemid=1703) Cet évènement a été impo
 rté depuis :https://skivosges.net/agenda/detailevenement/845/-/biathlon-res
 erve?tmpl=component (https://skivosges.net/agenda/detailevenement/845/-/bia
 thlon-reserve?tmpl=component)
X-ALT-DESC;FMTTYPE=text/html:<!-- #gskiepreuve code généré par le plugin jevents pour GskiEpreuves. Ne p
 as modifier cette ligne, ni tout le contenu suivant  #gskiepreuve --><div c
 lass="gski-evenement_infos"><div class="gski-evenement-nom">Biathlon réserv
 e</div><div class="gski-evenement-report"></div><ul class="gski-evenement-l
 iste-infos"><li>Codex évenement BMVT0130</li><li>Organisateur : </li></ul><
 div class="gski-evenement-infos-2"><div class="gski-evenement-info-inscript
 ions"><div class="gski-evenement-inscriptions-periodes">Période d'inscripti
 on à l'evènement du samedi 23 septembre 2017 à 02:00 au jeudi 28 septembre 
 2017 à 14:00 <span class="gski-evenement-inscriptions-impossibles">(Inscrip
 tions impossibles).</span><div class="gski-evenement-inscriptions-types-tit
 res">Inscriptions ouvertes aux detenteurs des titres Fédéraux valides suiva
 nts : Licenciés Compétiteurs</div></div></div><div class="gski-evenement-ep
 reuves"><div class="gski-evenement-epreuves-titres">Epreuves :</div><ul cla
 ss="gski-evenement-epreuves-list"><li><div class="gski-epreuve-date">Le sam
 edi 30 septembre 2017</div><ul class="gski-epreuve-liste-infos"><li>Codex é
 preuve BMVF0131</li><li>Individuel</li><li>Catégorie(s) : U14 (Filles)</li>
 </ul></li><li><div class="gski-epreuve-date">Le samedi 30 septembre 2017</d
 iv><ul class="gski-epreuve-liste-infos"><li>Codex épreuve BMVM0131</li><li>
 Individuel</li><li>Catégorie(s) : U14 (Garçons)</li></ul></li><li><div clas
 s="gski-epreuve-date">Le samedi 30 septembre 2017</div><ul class="gski-epre
 uve-liste-infos"><li>Codex épreuve BMVF0132</li><li>Individuel</li><li>Caté
 gorie(s) : U16 a SEN (Filles)</li></ul></li><li><div class="gski-epreuve-da
 te">Le samedi 30 septembre 2017</div><ul class="gski-epreuve-liste-infos"><
 li>Codex épreuve BMVM0132</li><li>Individuel</li><li>Catégorie(s) : U16 a S
 EN (Garçons)</li></ul></li></ul></div><div class="gskiepreuves-links"><ul><
 li><a href="https://skivosges.net/index.php?option=com_jevents&task=icaleve
 nt.detail&evid=840&Itemid=1703">Voir les informations dans l'agenda...</a><
 /li></ul></div></div"><!-- #/gskiepreuve fin du dode généré par le plugin j
 events pour GskiEpreuves. . Ne pas modifier cette ligne, ni tout le contenu
  précedant.  #/gskiepreuve --> <a href="https://skivosges.net/agenda/detail
 evenement/845/-/biathlon-reserve?tmpl=component">Cet évènement a été import
 é depuis :https://skivosges.net/agenda/detailevenement/845/-/biathlon-reser
 ve?tmpl=component</a>DTSTAMP:20260420T193727
DTSTART;TZID=Europe/Paris;VALUE=DATE:20170930
DTEND;TZID=Europe/Paris;VALUE=DATE:20171001
SEQUENCE:0
TRANSP:OPAQUE
END:VEVENT
END:VCALENDAR