BEGIN:VCALENDAR
VERSION:2.0
PRODID:-//jEvents 2.0 for Joomla//EN
CALSCALE:GREGORIAN
METHOD:PUBLISH
BEGIN:VTIMEZONE
TZID:Europe/Paris
BEGIN:STANDARD
DTSTART:20161030T020000
RDATE:20170326T030000
TZOFFSETFROM:+0200
TZOFFSETTO:+0100
TZNAME:Europe/Paris CET
END:STANDARD
BEGIN:STANDARD
DTSTART:20171029T020000
RDATE:20180325T030000
TZOFFSETFROM:+0200
TZOFFSETTO:+0100
TZNAME:Europe/Paris CET
END:STANDARD
BEGIN:STANDARD
DTSTART:20181028T020000
RDATE:20190331T030000
TZOFFSETFROM:+0200
TZOFFSETTO:+0100
TZNAME:Europe/Paris CET
END:STANDARD
BEGIN:STANDARD
DTSTART:20191027T020000
RDATE:20200329T030000
TZOFFSETFROM:+0200
TZOFFSETTO:+0100
TZNAME:Europe/Paris CET
END:STANDARD
BEGIN:STANDARD
DTSTART:20201025T020000
RDATE:20210328T030000
TZOFFSETFROM:+0200
TZOFFSETTO:+0100
TZNAME:Europe/Paris CET
END:STANDARD
BEGIN:STANDARD
DTSTART:20211031T020000
RDATE:20220327T030000
TZOFFSETFROM:+0200
TZOFFSETTO:+0100
TZNAME:Europe/Paris CET
END:STANDARD
BEGIN:STANDARD
DTSTART:20221030T020000
RDATE:20230326T030000
TZOFFSETFROM:+0200
TZOFFSETTO:+0100
TZNAME:Europe/Paris CET
END:STANDARD
BEGIN:STANDARD
DTSTART:20231029T020000
RDATE:20240331T030000
TZOFFSETFROM:+0200
TZOFFSETTO:+0100
TZNAME:Europe/Paris CET
END:STANDARD
BEGIN:STANDARD
DTSTART:20241027T020000
RDATE:20250330T030000
TZOFFSETFROM:+0200
TZOFFSETTO:+0100
TZNAME:Europe/Paris CET
END:STANDARD
BEGIN:STANDARD
DTSTART:20251026T020000
RDATE:20260329T030000
TZOFFSETFROM:+0200
TZOFFSETTO:+0100
TZNAME:Europe/Paris CET
END:STANDARD
BEGIN:STANDARD
DTSTART:20261025T020000
RDATE:20270328T030000
TZOFFSETFROM:+0200
TZOFFSETTO:+0100
TZNAME:Europe/Paris CET
END:STANDARD
BEGIN:DAYLIGHT
DTSTART:20161006T000000
RDATE:20161030T020000
TZOFFSETFROM:+0100
TZOFFSETTO:+0200
TZNAME:Europe/Paris CEST
END:DAYLIGHT
BEGIN:DAYLIGHT
DTSTART:20170326T030000
RDATE:20171029T020000
TZOFFSETFROM:+0100
TZOFFSETTO:+0200
TZNAME:Europe/Paris CEST
END:DAYLIGHT
BEGIN:DAYLIGHT
DTSTART:20180325T030000
RDATE:20181028T020000
TZOFFSETFROM:+0100
TZOFFSETTO:+0200
TZNAME:Europe/Paris CEST
END:DAYLIGHT
BEGIN:DAYLIGHT
DTSTART:20190331T030000
RDATE:20191027T020000
TZOFFSETFROM:+0100
TZOFFSETTO:+0200
TZNAME:Europe/Paris CEST
END:DAYLIGHT
BEGIN:DAYLIGHT
DTSTART:20200329T030000
RDATE:20201025T020000
TZOFFSETFROM:+0100
TZOFFSETTO:+0200
TZNAME:Europe/Paris CEST
END:DAYLIGHT
BEGIN:DAYLIGHT
DTSTART:20210328T030000
RDATE:20211031T020000
TZOFFSETFROM:+0100
TZOFFSETTO:+0200
TZNAME:Europe/Paris CEST
END:DAYLIGHT
BEGIN:DAYLIGHT
DTSTART:20220327T030000
RDATE:20221030T020000
TZOFFSETFROM:+0100
TZOFFSETTO:+0200
TZNAME:Europe/Paris CEST
END:DAYLIGHT
BEGIN:DAYLIGHT
DTSTART:20230326T030000
RDATE:20231029T020000
TZOFFSETFROM:+0100
TZOFFSETTO:+0200
TZNAME:Europe/Paris CEST
END:DAYLIGHT
BEGIN:DAYLIGHT
DTSTART:20240331T030000
RDATE:20241027T020000
TZOFFSETFROM:+0100
TZOFFSETTO:+0200
TZNAME:Europe/Paris CEST
END:DAYLIGHT
BEGIN:DAYLIGHT
DTSTART:20250330T030000
RDATE:20251026T020000
TZOFFSETFROM:+0100
TZOFFSETTO:+0200
TZNAME:Europe/Paris CEST
END:DAYLIGHT
BEGIN:DAYLIGHT
DTSTART:20260329T030000
RDATE:20261025T020000
TZOFFSETFROM:+0100
TZOFFSETTO:+0200
TZNAME:Europe/Paris CEST
END:DAYLIGHT
END:VTIMEZONE
BEGIN:VEVENT
UID:363d1b8da6905ec7e843f0ca87da0bfe
CATEGORIES:Roller Ski
CREATED:20170920T182831
SUMMARY:course Ski roues Gérardmer
URL;VALUE=URI:https://skivosges.net/agenda/detailevenement/848/-/course-ski-roues-gerardm
 er?tmpl=component
DESCRIPTION:<!-- #gskiepreuve code généré par le plugin jevents pour GskiEpreuves. Ne p
 as modifier cette ligne, ni tout le contenu suivant  #gskiepreuve --><div c
 lass="gski-evenement_infos"><div class="gski-evenement-nom">course Ski roue
 s Gérardmer</div><div class="gski-evenement-report"></div><ul class="gski-e
 venement-liste-infos"><li>Codex évenement OMVT0030</li><li>Station : GERARD
 MER</li><li>Organisateur : 14469 A.S GERARDMER SKI NORDIQUE</li></ul><div c
 lass="gski-evenement-infos-2"><div class="gski-evenement-info-inscriptions"
 ><div class="gski-evenement-inscriptions-periodes">Période d'inscription à 
 l'evènement du samedi 30 septembre 2017 à 02:00 au jeudi 05 octobre 2017 à 
 14:00 <span class="gski-evenement-inscriptions-impossibles">(Inscriptions i
 mpossibles).</span><div class="gski-evenement-inscriptions-types-titres">In
 scriptions ouvertes aux detenteurs des titres Fédéraux valides suivants : L
 icenciés Compétiteurs</div></div></div><div class="gski-evenement-epreuves"
 ><div class="gski-evenement-epreuves-titres">Epreuves :</div><ul class="gsk
 i-evenement-epreuves-list"><li><div class="gski-epreuve-date">Le samedi 07 
 octobre 2017</div><ul class="gski-epreuve-liste-infos"><li>Codex épreuve OM
 VF0031</li><li>(IND)</li><li>Catégorie(s) : U14 (Filles)</li></ul></li><li>
 <div class="gski-epreuve-date">Le samedi 07 octobre 2017</div><ul class="gs
 ki-epreuve-liste-infos"><li>Codex épreuve OMVM0031</li><li>(IND)</li><li>Ca
 tégorie(s) : U14 (Garçons)</li></ul></li><li><div class="gski-epreuve-date"
 >Le samedi 07 octobre 2017</div><ul class="gski-epreuve-liste-infos"><li>Co
 dex épreuve OMVF0032</li><li>(IND)</li><li>Catégorie(s) : U16 a SEN (Filles
 )</li></ul></li><li><div class="gski-epreuve-date">Le samedi 07 octobre 201
 7</div><ul class="gski-epreuve-liste-infos"><li>Codex épreuve OMVM0032</li>
 <li>(IND)</li><li>Catégorie(s) : U16 a SEN (Garçons)</li></ul></li></ul></d
 iv><div class="gskiepreuves-links"><ul><li><a href="/index.php?option=com_j
 events&task=icalevent.detail&evid=843&Itemid=1703">Voir les informations da
 ns l'agenda...</a></li></ul></div></div"><!-- #/gskiepreuve fin du dode gén
 éré par le plugin jevents pour GskiEpreuves. . Ne pas modifier cette ligne,
  ni tout le contenu précedant.  #/gskiepreuve --> <a href="https://skivosge
 s.net/agenda/detailevenement/848/-/course-ski-roues-gerardmer?tmpl=componen
 t">Cet évènement a été importé depuis :https://skivosges.net/agenda/detaile
 venement/848/-/course-ski-roues-gerardmer?tmpl=component</a>
X-ALT-DESC;FMTTYPE=text/html:<!-- #gskiepreuve code généré par le plugin jevents pour GskiEpreuves. Ne p
 as modifier cette ligne, ni tout le contenu suivant  #gskiepreuve --><div c
 lass="gski-evenement_infos"><div class="gski-evenement-nom">course Ski roue
 s Gérardmer</div><div class="gski-evenement-report"></div><ul class="gski-e
 venement-liste-infos"><li>Codex évenement OMVT0030</li><li>Station : GERARD
 MER</li><li>Organisateur : 14469 A.S GERARDMER SKI NORDIQUE</li></ul><div c
 lass="gski-evenement-infos-2"><div class="gski-evenement-info-inscriptions"
 ><div class="gski-evenement-inscriptions-periodes">Période d'inscription à 
 l'evènement du samedi 30 septembre 2017 à 02:00 au jeudi 05 octobre 2017 à 
 14:00 <span class="gski-evenement-inscriptions-impossibles">(Inscriptions i
 mpossibles).</span><div class="gski-evenement-inscriptions-types-titres">In
 scriptions ouvertes aux detenteurs des titres Fédéraux valides suivants : L
 icenciés Compétiteurs</div></div></div><div class="gski-evenement-epreuves"
 ><div class="gski-evenement-epreuves-titres">Epreuves :</div><ul class="gsk
 i-evenement-epreuves-list"><li><div class="gski-epreuve-date">Le samedi 07 
 octobre 2017</div><ul class="gski-epreuve-liste-infos"><li>Codex épreuve OM
 VF0031</li><li>(IND)</li><li>Catégorie(s) : U14 (Filles)</li></ul></li><li>
 <div class="gski-epreuve-date">Le samedi 07 octobre 2017</div><ul class="gs
 ki-epreuve-liste-infos"><li>Codex épreuve OMVM0031</li><li>(IND)</li><li>Ca
 tégorie(s) : U14 (Garçons)</li></ul></li><li><div class="gski-epreuve-date"
 >Le samedi 07 octobre 2017</div><ul class="gski-epreuve-liste-infos"><li>Co
 dex épreuve OMVF0032</li><li>(IND)</li><li>Catégorie(s) : U16 a SEN (Filles
 )</li></ul></li><li><div class="gski-epreuve-date">Le samedi 07 octobre 201
 7</div><ul class="gski-epreuve-liste-infos"><li>Codex épreuve OMVM0032</li>
 <li>(IND)</li><li>Catégorie(s) : U16 a SEN (Garçons)</li></ul></li></ul></d
 iv><div class="gskiepreuves-links"><ul><li><a href="https://skivosges.net/i
 ndex.php?option=com_jevents&task=icalevent.detail&evid=843&Itemid=1703">Voi
 r les informations dans l'agenda...</a></li></ul></div></div"><!-- #/gskiep
 reuve fin du dode généré par le plugin jevents pour GskiEpreuves. . Ne pas 
 modifier cette ligne, ni tout le contenu précedant.  #/gskiepreuve --> <a h
 ref="https://skivosges.net/agenda/detailevenement/848/-/course-ski-roues-ge
 rardmer?tmpl=component">Cet évènement a été importé depuis :https://skivosg
 es.net/agenda/detailevenement/848/-/course-ski-roues-gerardmer?tmpl=compone
 nt</a>DTSTAMP:20260421T051312
DTSTART;TZID=Europe/Paris;VALUE=DATE:20171007
DTEND;TZID=Europe/Paris;VALUE=DATE:20171008
SEQUENCE:0
TRANSP:OPAQUE
END:VEVENT
END:VCALENDAR