BEGIN:VCALENDAR
VERSION:2.0
PRODID:-//jEvents 2.0 for Joomla//EN
CALSCALE:GREGORIAN
METHOD:PUBLISH
BEGIN:VTIMEZONE
TZID:Europe/Paris
BEGIN:STANDARD
DTSTART:20161030T020000
RDATE:20170326T030000
TZOFFSETFROM:+0200
TZOFFSETTO:+0100
TZNAME:Europe/Paris CET
END:STANDARD
BEGIN:STANDARD
DTSTART:20171029T020000
RDATE:20180325T030000
TZOFFSETFROM:+0200
TZOFFSETTO:+0100
TZNAME:Europe/Paris CET
END:STANDARD
BEGIN:STANDARD
DTSTART:20181028T020000
RDATE:20190331T030000
TZOFFSETFROM:+0200
TZOFFSETTO:+0100
TZNAME:Europe/Paris CET
END:STANDARD
BEGIN:STANDARD
DTSTART:20191027T020000
RDATE:20200329T030000
TZOFFSETFROM:+0200
TZOFFSETTO:+0100
TZNAME:Europe/Paris CET
END:STANDARD
BEGIN:STANDARD
DTSTART:20201025T020000
RDATE:20210328T030000
TZOFFSETFROM:+0200
TZOFFSETTO:+0100
TZNAME:Europe/Paris CET
END:STANDARD
BEGIN:STANDARD
DTSTART:20211031T020000
RDATE:20220327T030000
TZOFFSETFROM:+0200
TZOFFSETTO:+0100
TZNAME:Europe/Paris CET
END:STANDARD
BEGIN:STANDARD
DTSTART:20221030T020000
RDATE:20230326T030000
TZOFFSETFROM:+0200
TZOFFSETTO:+0100
TZNAME:Europe/Paris CET
END:STANDARD
BEGIN:STANDARD
DTSTART:20231029T020000
RDATE:20240331T030000
TZOFFSETFROM:+0200
TZOFFSETTO:+0100
TZNAME:Europe/Paris CET
END:STANDARD
BEGIN:STANDARD
DTSTART:20241027T020000
RDATE:20250330T030000
TZOFFSETFROM:+0200
TZOFFSETTO:+0100
TZNAME:Europe/Paris CET
END:STANDARD
BEGIN:STANDARD
DTSTART:20251026T020000
RDATE:20260329T030000
TZOFFSETFROM:+0200
TZOFFSETTO:+0100
TZNAME:Europe/Paris CET
END:STANDARD
BEGIN:STANDARD
DTSTART:20261025T020000
RDATE:20270328T030000
TZOFFSETFROM:+0200
TZOFFSETTO:+0100
TZNAME:Europe/Paris CET
END:STANDARD
BEGIN:DAYLIGHT
DTSTART:20161013T000000
RDATE:20161030T020000
TZOFFSETFROM:+0100
TZOFFSETTO:+0200
TZNAME:Europe/Paris CEST
END:DAYLIGHT
BEGIN:DAYLIGHT
DTSTART:20170326T030000
RDATE:20171029T020000
TZOFFSETFROM:+0100
TZOFFSETTO:+0200
TZNAME:Europe/Paris CEST
END:DAYLIGHT
BEGIN:DAYLIGHT
DTSTART:20180325T030000
RDATE:20181028T020000
TZOFFSETFROM:+0100
TZOFFSETTO:+0200
TZNAME:Europe/Paris CEST
END:DAYLIGHT
BEGIN:DAYLIGHT
DTSTART:20190331T030000
RDATE:20191027T020000
TZOFFSETFROM:+0100
TZOFFSETTO:+0200
TZNAME:Europe/Paris CEST
END:DAYLIGHT
BEGIN:DAYLIGHT
DTSTART:20200329T030000
RDATE:20201025T020000
TZOFFSETFROM:+0100
TZOFFSETTO:+0200
TZNAME:Europe/Paris CEST
END:DAYLIGHT
BEGIN:DAYLIGHT
DTSTART:20210328T030000
RDATE:20211031T020000
TZOFFSETFROM:+0100
TZOFFSETTO:+0200
TZNAME:Europe/Paris CEST
END:DAYLIGHT
BEGIN:DAYLIGHT
DTSTART:20220327T030000
RDATE:20221030T020000
TZOFFSETFROM:+0100
TZOFFSETTO:+0200
TZNAME:Europe/Paris CEST
END:DAYLIGHT
BEGIN:DAYLIGHT
DTSTART:20230326T030000
RDATE:20231029T020000
TZOFFSETFROM:+0100
TZOFFSETTO:+0200
TZNAME:Europe/Paris CEST
END:DAYLIGHT
BEGIN:DAYLIGHT
DTSTART:20240331T030000
RDATE:20241027T020000
TZOFFSETFROM:+0100
TZOFFSETTO:+0200
TZNAME:Europe/Paris CEST
END:DAYLIGHT
BEGIN:DAYLIGHT
DTSTART:20250330T030000
RDATE:20251026T020000
TZOFFSETFROM:+0100
TZOFFSETTO:+0200
TZNAME:Europe/Paris CEST
END:DAYLIGHT
BEGIN:DAYLIGHT
DTSTART:20260329T030000
RDATE:20261025T020000
TZOFFSETFROM:+0100
TZOFFSETTO:+0200
TZNAME:Europe/Paris CEST
END:DAYLIGHT
END:VTIMEZONE
BEGIN:VEVENT
UID:ce82e7d14852c289ae87da486b7dd21f
CATEGORIES:Roller Ski
CREATED:20170920T182831
SUMMARY:course du 05 novembre 2017
URL;VALUE=URI:https://skivosges.net/agenda/detailevenement/852/-/course-du-05-novembre-20
 17?tmpl=component
DESCRIPTION:course du 05 novembre 2017\n - Codex évenement OMVT0060\n - Station : MARKS
 TEIN\n - Organisateur : 14053 S.C MARKSTEIN RANSPACHPériode d'inscription à
  l'evènement du samedi 07 octobre 2017 à 02:00 au jeudi 12 octobre 2017 à 1
 4:00Inscriptions ouvertes aux detenteurs des titres Fédéraux valides suivan
 ts : Licenciés CompétiteursEpreuves :\n - Le samedi 14 octobre 2017\n - Cod
 ex épreuve OMVF0061\n - (IND)\n - Catégorie(s) : U14 (Filles)\n - Le samedi
  14 octobre 2017\n - Codex épreuve OMVM0061\n - (IND)\n - Catégorie(s) : U1
 4 (Garçons)\n - Le samedi 14 octobre 2017\n - Codex épreuve OMVF0062\n - (I
 ND)\n - Catégorie(s) : U16 a SEN (Filles)\n - Le samedi 14 octobre 2017\n -
  Codex épreuve OMVM0062\n - (IND)\n - Catégorie(s) : U16 a SEN (Garçons)\n 
 - Voir les informations dans l'agenda... (/index.php?option=com_jevents&amp
 ;task=icalevent.detail&amp;evid=847&amp;Itemid=1703) Cet évènement a été im
 porté depuis :https://skivosges.net/agenda/detailevenement/852/-/course-du-
 05-novembre-2017?tmpl=component
X-ALT-DESC;FMTTYPE=text/html:<!-- #gskiepreuve code généré par le plugin jevents pour GskiEpreuves. Ne p
 as modifier cette ligne, ni tout le contenu suivant  #gskiepreuve --><div c
 lass="gski-evenement_infos"><div class="gski-evenement-nom">course du 05 no
 vembre 2017</div><div class="gski-evenement-report"></div><ul class="gski-e
 venement-liste-infos"><li>Codex évenement OMVT0060</li><li>Station : MARKST
 EIN</li><li>Organisateur : 14053 S.C MARKSTEIN RANSPACH</li></ul><div class
 ="gski-evenement-infos-2"><div class="gski-evenement-info-inscriptions"><di
 v class="gski-evenement-inscriptions-periodes">Période d'inscription à l'ev
 ènement du samedi 07 octobre 2017 à 02:00 au jeudi 12 octobre 2017 à 14:00<
 div class="gski-evenement-inscriptions-types-titres">Inscriptions ouvertes 
 aux detenteurs des titres Fédéraux valides suivants : Licenciés Compétiteur
 s</div></div></div><div class="gski-evenement-epreuves"><div class="gski-ev
 enement-epreuves-titres">Epreuves :</div><ul class="gski-evenement-epreuves
 -list"><li><div class="gski-epreuve-date">Le samedi 14 octobre 2017</div><u
 l class="gski-epreuve-liste-infos"><li>Codex épreuve OMVF0061</li><li>(IND)
 </li><li>Catégorie(s) : U14 (Filles)</li></ul></li><li><div class="gski-epr
 euve-date">Le samedi 14 octobre 2017</div><ul class="gski-epreuve-liste-inf
 os"><li>Codex épreuve OMVM0061</li><li>(IND)</li><li>Catégorie(s) : U14 (Ga
 rçons)</li></ul></li><li><div class="gski-epreuve-date">Le samedi 14 octobr
 e 2017</div><ul class="gski-epreuve-liste-infos"><li>Codex épreuve OMVF0062
 </li><li>(IND)</li><li>Catégorie(s) : U16 a SEN (Filles)</li></ul></li><li>
 <div class="gski-epreuve-date">Le samedi 14 octobre 2017</div><ul class="gs
 ki-epreuve-liste-infos"><li>Codex épreuve OMVM0062</li><li>(IND)</li><li>Ca
 tégorie(s) : U16 a SEN (Garçons)</li></ul></li></ul></div><div class="gskie
 preuves-links"><ul><li><a href="https://skivosges.net/index.php?option=com_
 jevents&task=icalevent.detail&evid=847&Itemid=1703">Voir les informations d
 ans l'agenda...</a></li></ul></div></div"><!-- #/gskiepreuve fin du dode gé
 néré par le plugin jevents pour GskiEpreuves. . Ne pas modifier cette ligne
 , ni tout le contenu précedant.  #/gskiepreuve --> <a href="https://skivosg
 es.net/agenda/detailevenement/852/-/course-du-05-novembre-2017?tmpl=compone
 nt">Cet évènement a été importé depuis :https://skivosges.net/agenda/detail
 evenement/852/-/course-du-05-novembre-2017?tmpl=component</a>DTSTAMP:20260421T050934
DTSTART;TZID=Europe/Paris;VALUE=DATE:20171014
DTEND;TZID=Europe/Paris;VALUE=DATE:20171015
SEQUENCE:0
TRANSP:OPAQUE
END:VEVENT
END:VCALENDAR