BEGIN:VCALENDAR
VERSION:2.0
PRODID:-//jEvents 2.0 for Joomla//EN
CALSCALE:GREGORIAN
METHOD:PUBLISH
BEGIN:VTIMEZONE
TZID:Europe/Paris
BEGIN:STANDARD
DTSTART:20161030T020000
RDATE:20170326T030000
TZOFFSETFROM:+0200
TZOFFSETTO:+0100
TZNAME:Europe/Paris CET
END:STANDARD
BEGIN:STANDARD
DTSTART:20171029T020000
RDATE:20180325T030000
TZOFFSETFROM:+0200
TZOFFSETTO:+0100
TZNAME:Europe/Paris CET
END:STANDARD
BEGIN:STANDARD
DTSTART:20181028T020000
RDATE:20190331T030000
TZOFFSETFROM:+0200
TZOFFSETTO:+0100
TZNAME:Europe/Paris CET
END:STANDARD
BEGIN:STANDARD
DTSTART:20191027T020000
RDATE:20200329T030000
TZOFFSETFROM:+0200
TZOFFSETTO:+0100
TZNAME:Europe/Paris CET
END:STANDARD
BEGIN:STANDARD
DTSTART:20201025T020000
RDATE:20210328T030000
TZOFFSETFROM:+0200
TZOFFSETTO:+0100
TZNAME:Europe/Paris CET
END:STANDARD
BEGIN:STANDARD
DTSTART:20211031T020000
RDATE:20220327T030000
TZOFFSETFROM:+0200
TZOFFSETTO:+0100
TZNAME:Europe/Paris CET
END:STANDARD
BEGIN:STANDARD
DTSTART:20221030T020000
RDATE:20230326T030000
TZOFFSETFROM:+0200
TZOFFSETTO:+0100
TZNAME:Europe/Paris CET
END:STANDARD
BEGIN:STANDARD
DTSTART:20231029T020000
RDATE:20240331T030000
TZOFFSETFROM:+0200
TZOFFSETTO:+0100
TZNAME:Europe/Paris CET
END:STANDARD
BEGIN:STANDARD
DTSTART:20241027T020000
RDATE:20250330T030000
TZOFFSETFROM:+0200
TZOFFSETTO:+0100
TZNAME:Europe/Paris CET
END:STANDARD
BEGIN:STANDARD
DTSTART:20251026T020000
RDATE:20260329T030000
TZOFFSETFROM:+0200
TZOFFSETTO:+0100
TZNAME:Europe/Paris CET
END:STANDARD
BEGIN:STANDARD
DTSTART:20261025T020000
RDATE:20270328T030000
TZOFFSETFROM:+0200
TZOFFSETTO:+0100
TZNAME:Europe/Paris CET
END:STANDARD
BEGIN:DAYLIGHT
DTSTART:20161013T000000
RDATE:20161030T020000
TZOFFSETFROM:+0100
TZOFFSETTO:+0200
TZNAME:Europe/Paris CEST
END:DAYLIGHT
BEGIN:DAYLIGHT
DTSTART:20170326T030000
RDATE:20171029T020000
TZOFFSETFROM:+0100
TZOFFSETTO:+0200
TZNAME:Europe/Paris CEST
END:DAYLIGHT
BEGIN:DAYLIGHT
DTSTART:20180325T030000
RDATE:20181028T020000
TZOFFSETFROM:+0100
TZOFFSETTO:+0200
TZNAME:Europe/Paris CEST
END:DAYLIGHT
BEGIN:DAYLIGHT
DTSTART:20190331T030000
RDATE:20191027T020000
TZOFFSETFROM:+0100
TZOFFSETTO:+0200
TZNAME:Europe/Paris CEST
END:DAYLIGHT
BEGIN:DAYLIGHT
DTSTART:20200329T030000
RDATE:20201025T020000
TZOFFSETFROM:+0100
TZOFFSETTO:+0200
TZNAME:Europe/Paris CEST
END:DAYLIGHT
BEGIN:DAYLIGHT
DTSTART:20210328T030000
RDATE:20211031T020000
TZOFFSETFROM:+0100
TZOFFSETTO:+0200
TZNAME:Europe/Paris CEST
END:DAYLIGHT
BEGIN:DAYLIGHT
DTSTART:20220327T030000
RDATE:20221030T020000
TZOFFSETFROM:+0100
TZOFFSETTO:+0200
TZNAME:Europe/Paris CEST
END:DAYLIGHT
BEGIN:DAYLIGHT
DTSTART:20230326T030000
RDATE:20231029T020000
TZOFFSETFROM:+0100
TZOFFSETTO:+0200
TZNAME:Europe/Paris CEST
END:DAYLIGHT
BEGIN:DAYLIGHT
DTSTART:20240331T030000
RDATE:20241027T020000
TZOFFSETFROM:+0100
TZOFFSETTO:+0200
TZNAME:Europe/Paris CEST
END:DAYLIGHT
BEGIN:DAYLIGHT
DTSTART:20250330T030000
RDATE:20251026T020000
TZOFFSETFROM:+0100
TZOFFSETTO:+0200
TZNAME:Europe/Paris CEST
END:DAYLIGHT
BEGIN:DAYLIGHT
DTSTART:20260329T030000
RDATE:20261025T020000
TZOFFSETFROM:+0100
TZOFFSETTO:+0200
TZNAME:Europe/Paris CEST
END:DAYLIGHT
END:VTIMEZONE
BEGIN:VEVENT
UID:fcd0735d0bdbb63cda6989e385a60ac5
CATEGORIES:Compétition Biathlon
CREATED:20170920T182831
SUMMARY:Biathlon du Champ du Feu
URL;VALUE=URI:https://skivosges.net/agenda/detailevenement/853/-/biathlon-du-champ-du-feu
 ?tmpl=component
DESCRIPTION:<!-- #gskiepreuve code généré par le plugin jevents pour GskiEpreuves. Ne p
 as modifier cette ligne, ni tout le contenu suivant  #gskiepreuve --><div c
 lass="gski-evenement_infos"><div class="gski-evenement-nom">Biathlon du Cha
 mp du Feu</div><div class="gski-evenement-report"></div><ul class="gski-eve
 nement-liste-infos"><li>Codex évenement BMVT0110</li><li>Station : CHAMP DU
  FEU</li><li>Organisateur : 14448 MOLSHEIM SKI NORDIQUE</li></ul><div class
 ="gski-evenement-infos-2"><div class="gski-evenement-info-inscriptions"><di
 v class="gski-evenement-inscriptions-periodes">Période d'inscription à l'ev
 ènement du samedi 07 octobre 2017 à 02:00 au jeudi 12 octobre 2017 à 14:00<
 div class="gski-evenement-inscriptions-types-titres">Inscriptions ouvertes 
 aux detenteurs des titres Fédéraux valides suivants : Licenciés Compétiteur
 s et Titres Loisirs et Dirigeants</div></div></div><div class="gski-eveneme
 nt-epreuves"><div class="gski-evenement-epreuves-titres">Epreuves :</div><u
 l class="gski-evenement-epreuves-list"><li><div class="gski-epreuve-date">L
 e samedi 14 octobre 2017</div><ul class="gski-epreuve-liste-infos"><li>Code
 x épreuve BMVF0111</li><li>Individuel</li><li>Catégorie(s) : U14 (Filles)</
 li></ul></li><li><div class="gski-epreuve-date">Le samedi 14 octobre 2017</
 div><ul class="gski-epreuve-liste-infos"><li>Codex épreuve BMVM0111</li><li
 >Individuel</li><li>Catégorie(s) : U14 (Garçons)</li></ul></li><li><div cla
 ss="gski-epreuve-date">Le samedi 14 octobre 2017</div><ul class="gski-epreu
 ve-liste-infos"><li>Codex épreuve BMVF0112</li><li>Individuel</li><li>Catég
 orie(s) : U16 a SEN (Filles)</li></ul></li><li><div class="gski-epreuve-dat
 e">Le samedi 14 octobre 2017</div><ul class="gski-epreuve-liste-infos"><li>
 Codex épreuve BMVM0112</li><li>Individuel</li><li>Catégorie(s) : U16 a SEN 
 (Garçons)</li></ul></li><li><div class="gski-epreuve-date">Le samedi 14 oct
 obre 2017</div><ul class="gski-epreuve-liste-infos"><li>Codex épreuve BMVF0
 113</li><li>Individuel</li><li>Catégorie(s) : U12 (Filles)</li></ul></li><l
 i><div class="gski-epreuve-date">Le samedi 14 octobre 2017</div><ul class="
 gski-epreuve-liste-infos"><li>Codex épreuve BMVM0113</li><li>Individuel</li
 ><li>Catégorie(s) : U12 (Garçons)</li></ul></li></ul></div><div class="gski
 epreuves-links"><ul><li><a href="/index.php?option=com_jevents&task=icaleve
 nt.detail&evid=848&Itemid=1703">Voir les informations dans l'agenda...</a><
 /li></ul></div></div"><!-- #/gskiepreuve fin du dode généré par le plugin j
 events pour GskiEpreuves. . Ne pas modifier cette ligne, ni tout le contenu
  précedant.  #/gskiepreuve --> <a href="https://skivosges.net/agenda/detail
 evenement/853/-/biathlon-du-champ-du-feu?tmpl=component">Cet évènement a ét
 é importé depuis :https://skivosges.net/agenda/detailevenement/853/-/biathl
 on-du-champ-du-feu?tmpl=component</a>
X-ALT-DESC;FMTTYPE=text/html:<!-- #gskiepreuve code généré par le plugin jevents pour GskiEpreuves. Ne p
 as modifier cette ligne, ni tout le contenu suivant  #gskiepreuve --><div c
 lass="gski-evenement_infos"><div class="gski-evenement-nom">Biathlon du Cha
 mp du Feu</div><div class="gski-evenement-report"></div><ul class="gski-eve
 nement-liste-infos"><li>Codex évenement BMVT0110</li><li>Station : CHAMP DU
  FEU</li><li>Organisateur : 14448 MOLSHEIM SKI NORDIQUE</li></ul><div class
 ="gski-evenement-infos-2"><div class="gski-evenement-info-inscriptions"><di
 v class="gski-evenement-inscriptions-periodes">Période d'inscription à l'ev
 ènement du samedi 07 octobre 2017 à 02:00 au jeudi 12 octobre 2017 à 14:00<
 div class="gski-evenement-inscriptions-types-titres">Inscriptions ouvertes 
 aux detenteurs des titres Fédéraux valides suivants : Licenciés Compétiteur
 s et Titres Loisirs et Dirigeants</div></div></div><div class="gski-eveneme
 nt-epreuves"><div class="gski-evenement-epreuves-titres">Epreuves :</div><u
 l class="gski-evenement-epreuves-list"><li><div class="gski-epreuve-date">L
 e samedi 14 octobre 2017</div><ul class="gski-epreuve-liste-infos"><li>Code
 x épreuve BMVF0111</li><li>Individuel</li><li>Catégorie(s) : U14 (Filles)</
 li></ul></li><li><div class="gski-epreuve-date">Le samedi 14 octobre 2017</
 div><ul class="gski-epreuve-liste-infos"><li>Codex épreuve BMVM0111</li><li
 >Individuel</li><li>Catégorie(s) : U14 (Garçons)</li></ul></li><li><div cla
 ss="gski-epreuve-date">Le samedi 14 octobre 2017</div><ul class="gski-epreu
 ve-liste-infos"><li>Codex épreuve BMVF0112</li><li>Individuel</li><li>Catég
 orie(s) : U16 a SEN (Filles)</li></ul></li><li><div class="gski-epreuve-dat
 e">Le samedi 14 octobre 2017</div><ul class="gski-epreuve-liste-infos"><li>
 Codex épreuve BMVM0112</li><li>Individuel</li><li>Catégorie(s) : U16 a SEN 
 (Garçons)</li></ul></li><li><div class="gski-epreuve-date">Le samedi 14 oct
 obre 2017</div><ul class="gski-epreuve-liste-infos"><li>Codex épreuve BMVF0
 113</li><li>Individuel</li><li>Catégorie(s) : U12 (Filles)</li></ul></li><l
 i><div class="gski-epreuve-date">Le samedi 14 octobre 2017</div><ul class="
 gski-epreuve-liste-infos"><li>Codex épreuve BMVM0113</li><li>Individuel</li
 ><li>Catégorie(s) : U12 (Garçons)</li></ul></li></ul></div><div class="gski
 epreuves-links"><ul><li><a href="https://skivosges.net/index.php?option=com
 _jevents&task=icalevent.detail&evid=848&Itemid=1703">Voir les informations 
 dans l'agenda...</a></li></ul></div></div"><!-- #/gskiepreuve fin du dode g
 énéré par le plugin jevents pour GskiEpreuves. . Ne pas modifier cette lign
 e, ni tout le contenu précedant.  #/gskiepreuve --> <a href="https://skivos
 ges.net/agenda/detailevenement/853/-/biathlon-du-champ-du-feu?tmpl=componen
 t">Cet évènement a été importé depuis :https://skivosges.net/agenda/detaile
 venement/853/-/biathlon-du-champ-du-feu?tmpl=component</a>DTSTAMP:20260421T051323
DTSTART;TZID=Europe/Paris;VALUE=DATE:20171014
DTEND;TZID=Europe/Paris;VALUE=DATE:20171015
SEQUENCE:0
TRANSP:OPAQUE
END:VEVENT
END:VCALENDAR