BEGIN:VCALENDAR
VERSION:2.0
PRODID:-//jEvents 2.0 for Joomla//EN
CALSCALE:GREGORIAN
METHOD:PUBLISH
BEGIN:VTIMEZONE
TZID:Europe/Paris
BEGIN:STANDARD
DTSTART:20161209T000000
RDATE:20170326T030000
TZOFFSETFROM:+0200
TZOFFSETTO:+0100
TZNAME:Europe/Paris CET
END:STANDARD
BEGIN:STANDARD
DTSTART:20171029T020000
RDATE:20180325T030000
TZOFFSETFROM:+0200
TZOFFSETTO:+0100
TZNAME:Europe/Paris CET
END:STANDARD
BEGIN:STANDARD
DTSTART:20181028T020000
RDATE:20190331T030000
TZOFFSETFROM:+0200
TZOFFSETTO:+0100
TZNAME:Europe/Paris CET
END:STANDARD
BEGIN:STANDARD
DTSTART:20191027T020000
RDATE:20200329T030000
TZOFFSETFROM:+0200
TZOFFSETTO:+0100
TZNAME:Europe/Paris CET
END:STANDARD
BEGIN:STANDARD
DTSTART:20201025T020000
RDATE:20210328T030000
TZOFFSETFROM:+0200
TZOFFSETTO:+0100
TZNAME:Europe/Paris CET
END:STANDARD
BEGIN:STANDARD
DTSTART:20211031T020000
RDATE:20220327T030000
TZOFFSETFROM:+0200
TZOFFSETTO:+0100
TZNAME:Europe/Paris CET
END:STANDARD
BEGIN:STANDARD
DTSTART:20221030T020000
RDATE:20230326T030000
TZOFFSETFROM:+0200
TZOFFSETTO:+0100
TZNAME:Europe/Paris CET
END:STANDARD
BEGIN:STANDARD
DTSTART:20231029T020000
RDATE:20240331T030000
TZOFFSETFROM:+0200
TZOFFSETTO:+0100
TZNAME:Europe/Paris CET
END:STANDARD
BEGIN:STANDARD
DTSTART:20241027T020000
RDATE:20250330T030000
TZOFFSETFROM:+0200
TZOFFSETTO:+0100
TZNAME:Europe/Paris CET
END:STANDARD
BEGIN:STANDARD
DTSTART:20251026T020000
RDATE:20260329T030000
TZOFFSETFROM:+0200
TZOFFSETTO:+0100
TZNAME:Europe/Paris CET
END:STANDARD
BEGIN:STANDARD
DTSTART:20261025T020000
RDATE:20270328T030000
TZOFFSETFROM:+0200
TZOFFSETTO:+0100
TZNAME:Europe/Paris CET
END:STANDARD
BEGIN:DAYLIGHT
DTSTART:20170326T030000
RDATE:20171029T020000
TZOFFSETFROM:+0100
TZOFFSETTO:+0200
TZNAME:Europe/Paris CEST
END:DAYLIGHT
BEGIN:DAYLIGHT
DTSTART:20180325T030000
RDATE:20181028T020000
TZOFFSETFROM:+0100
TZOFFSETTO:+0200
TZNAME:Europe/Paris CEST
END:DAYLIGHT
BEGIN:DAYLIGHT
DTSTART:20190331T030000
RDATE:20191027T020000
TZOFFSETFROM:+0100
TZOFFSETTO:+0200
TZNAME:Europe/Paris CEST
END:DAYLIGHT
BEGIN:DAYLIGHT
DTSTART:20200329T030000
RDATE:20201025T020000
TZOFFSETFROM:+0100
TZOFFSETTO:+0200
TZNAME:Europe/Paris CEST
END:DAYLIGHT
BEGIN:DAYLIGHT
DTSTART:20210328T030000
RDATE:20211031T020000
TZOFFSETFROM:+0100
TZOFFSETTO:+0200
TZNAME:Europe/Paris CEST
END:DAYLIGHT
BEGIN:DAYLIGHT
DTSTART:20220327T030000
RDATE:20221030T020000
TZOFFSETFROM:+0100
TZOFFSETTO:+0200
TZNAME:Europe/Paris CEST
END:DAYLIGHT
BEGIN:DAYLIGHT
DTSTART:20230326T030000
RDATE:20231029T020000
TZOFFSETFROM:+0100
TZOFFSETTO:+0200
TZNAME:Europe/Paris CEST
END:DAYLIGHT
BEGIN:DAYLIGHT
DTSTART:20240331T030000
RDATE:20241027T020000
TZOFFSETFROM:+0100
TZOFFSETTO:+0200
TZNAME:Europe/Paris CEST
END:DAYLIGHT
BEGIN:DAYLIGHT
DTSTART:20250330T030000
RDATE:20251026T020000
TZOFFSETFROM:+0100
TZOFFSETTO:+0200
TZNAME:Europe/Paris CEST
END:DAYLIGHT
BEGIN:DAYLIGHT
DTSTART:20260329T030000
RDATE:20261025T020000
TZOFFSETFROM:+0100
TZOFFSETTO:+0200
TZNAME:Europe/Paris CEST
END:DAYLIGHT
END:VTIMEZONE
BEGIN:VEVENT
UID:3996e0e9b6f7f94a4ad8e21f105a9b4e
CATEGORIES:Compétition Ski de Fond
CREATED:20171121T093310
SUMMARY:CHALLENGE LUC COLIN
URL;VALUE=URI:https://skivosges.net/agenda/detailevenement/865/-/challenge-luc-colin?tmpl
 =component
DESCRIPTION:CHALLENGE LUC COLIN\n - Codex évenement FMVT0010\n - Lieu : DÉP ET ARRIVÉE 
 CHALET DE ROCHELOTTE\n - Station : BUSSANG - ROCHELOTTE \n - Piste : ROCHEL
 OTTE 2018-27.1\n - Organisateur : 14471 HAUTE MOSELLE SKI NORDIQUE\n - Cour
 riel : RegularLabs.EmailProtector.unCloak("ep_a7e0c38f");\n - Délégué Techn
 ique : ARNOULD LYDIEPériode d'inscription à l'evènement du dimanche 03 déce
 mbre 2017 à 00:00 au vendredi 08 décembre 2017 à 22:00 (Inscriptions imposs
 ibles).Inscriptions ouvertes aux detenteurs des titres Fédéraux valides sui
 vants : Licenciés CompétiteursEpreuves :\n - Le dimanche 10 décembre 2017\n
  - Codex épreuve FMVF0011\n - Depart Individuel\n - Catégorie(s) : U14 (Fil
 les)\n - Le dimanche 10 décembre 2017\n - Codex épreuve FMVM0011\n - Depart
  Individuel\n - Catégorie(s) : U14 (Garçons)\n - Le dimanche 10 décembre 20
 17\n - Codex épreuve FMVF0012\n - Depart Individuel\n - Catégorie(s) : U16 
 (Filles)\n - Le dimanche 10 décembre 2017\n - Codex épreuve FMVM0012\n - De
 part Individuel\n - Catégorie(s) : U16 (Garçons)\n - Le dimanche 10 décembr
 e 2017\n - Codex épreuve FMVF0013\n - Depart Individuel\n - Catégorie(s) : 
 U18/U20 (Dames)\n - Le dimanche 10 décembre 2017\n - Codex épreuve FMVM0013
 \n - Depart Individuel\n - Catégorie(s) : U18/U20 (Hommes)\n - Le dimanche 
 10 décembre 2017\n - Codex épreuve FMVF0014\n - Depart Individuel\n - Catég
 orie(s) : Senior (Dames)\n - Le dimanche 10 décembre 2017\n - Codex épreuve
  FMVM0014\n - Depart Individuel\n - Catégorie(s) : Senior (Hommes)\n - Voir
  les informations dans l'agenda... (/index.php?option=com_jevents&amp;task=
 icalevent.detail&amp;evid=860&amp;Itemid=1703)\n - Vers les résultats... (/
 index.php?option=com_gskiepreuves&amp;view=afficheresultats&amp;format_opti
 on=tous&amp;filter[search]=FMVT0010&amp;filter[date_debut]=10-12-2017&amp;f
 ilter[date_fin]=10-12-2017&amp;code_activite=FOND&amp;Itemid=1703) Cet évèn
 ement a été importé depuis :https://skivosges.net/agenda/detailevenement/86
 5/-/challenge-luc-colin?tmpl=component (https://skivosges.net/agenda/detail
 evenement/865/-/challenge-luc-colin?tmpl=component)
X-ALT-DESC;FMTTYPE=text/html:<!-- #gskiepreuve code généré par le plugin jevents pour GskiEpreuves. Ne p
 as modifier cette ligne, ni tout le contenu suivant  #gskiepreuve --><div c
 lass="gski-evenement_infos"><div class="gski-evenement-nom">CHALLENGE LUC C
 OLIN</div><div class="gski-evenement-report"></div><ul class="gski-evenemen
 t-liste-infos"><li>Codex évenement FMVT0010</li><li>Lieu : D&Eacute;P ET AR
 RIV&Eacute;E CHALET DE ROCHELOTTE</li><li>Station : BUSSANG - ROCHELOTTE </
 li><li>Piste : ROCHELOTTE 2018-27.1</li><li>Organisateur : 14471 HAUTE MOSE
 LLE SKI NORDIQUE</li><li>Courriel : <!-- Cette adresse électronique est pro
 tégée contre les robots spammeurs. --><span class="cloaked_email ep_a7e0c38
 f"><span data-ep-a="&#99;l&#117;" data-ep-b="&#46;&#102;&#114;"><span data-
 ep-b="n&#103;e" data-ep-a="b&#104;m"><span data-ep-b="or&#97;" data-ep-a="s
 &#110;&#64;"></span></span></span></span><script>RegularLabs.EmailProtector
 .unCloak("ep_a7e0c38f");</script></li><li><span class="gski-evenement-obs">
 Délégué Technique : ARNOULD LYDIE</span></li></ul><div class="gski-evenemen
 t-infos-2"><div class="gski-evenement-info-inscriptions"><div class="gski-e
 venement-inscriptions-periodes">Période d'inscription à l'evènement du dima
 nche 03 décembre 2017 à 00:00 au vendredi 08 décembre 2017 à 22:00 <span cl
 ass="gski-evenement-inscriptions-impossibles">(Inscriptions impossibles).</
 span><div class="gski-evenement-inscriptions-types-titres">Inscriptions ouv
 ertes aux detenteurs des titres Fédéraux valides suivants : Licenciés Compé
 titeurs</div></div></div><div class="gski-evenement-epreuves"><div class="g
 ski-evenement-epreuves-titres">Epreuves :</div><ul class="gski-evenement-ep
 reuves-list"><li><div class="gski-epreuve-date">Le dimanche 10 décembre 201
 7</div><ul class="gski-epreuve-liste-infos"><li>Codex épreuve FMVF0011</li>
 <li>Depart Individuel</li><li>Catégorie(s) : U14 (Filles)</li></ul></li><li
 ><div class="gski-epreuve-date">Le dimanche 10 décembre 2017</div><ul class
 ="gski-epreuve-liste-infos"><li>Codex épreuve FMVM0011</li><li>Depart Indiv
 iduel</li><li>Catégorie(s) : U14 (Garçons)</li></ul></li><li><div class="gs
 ki-epreuve-date">Le dimanche 10 décembre 2017</div><ul class="gski-epreuve-
 liste-infos"><li>Codex épreuve FMVF0012</li><li>Depart Individuel</li><li>C
 atégorie(s) : U16 (Filles)</li></ul></li><li><div class="gski-epreuve-date"
 >Le dimanche 10 décembre 2017</div><ul class="gski-epreuve-liste-infos"><li
 >Codex épreuve FMVM0012</li><li>Depart Individuel</li><li>Catégorie(s) : U1
 6 (Garçons)</li></ul></li><li><div class="gski-epreuve-date">Le dimanche 10
  décembre 2017</div><ul class="gski-epreuve-liste-infos"><li>Codex épreuve 
 FMVF0013</li><li>Depart Individuel</li><li>Catégorie(s) : U18/U20 (Dames)</
 li></ul></li><li><div class="gski-epreuve-date">Le dimanche 10 décembre 201
 7</div><ul class="gski-epreuve-liste-infos"><li>Codex épreuve FMVM0013</li>
 <li>Depart Individuel</li><li>Catégorie(s) : U18/U20 (Hommes)</li></ul></li
 ><li><div class="gski-epreuve-date">Le dimanche 10 décembre 2017</div><ul c
 lass="gski-epreuve-liste-infos"><li>Codex épreuve FMVF0014</li><li>Depart I
 ndividuel</li><li>Catégorie(s) : Senior (Dames)</li></ul></li><li><div clas
 s="gski-epreuve-date">Le dimanche 10 décembre 2017</div><ul class="gski-epr
 euve-liste-infos"><li>Codex épreuve FMVM0014</li><li>Depart Individuel</li>
 <li>Catégorie(s) : Senior (Hommes)</li></ul></li></ul></div><div class="gsk
 iepreuves-links"><ul><li><a href="https://skivosges.net/index.php?option=co
 m_jevents&task=icalevent.detail&evid=860&Itemid=1703">Voir les informations
  dans l'agenda...</a></li><li><a href="https://skivosges.net/index.php?opti
 on=com_gskiepreuves&view=afficheresultats&format_option=tous&filter[search]
 =FMVT0010&filter[date_debut]=10-12-2017&filter[date_fin]=10-12-2017&code_ac
 tivite=FOND&Itemid=1703">Vers les résultats...</a></li></ul></div></div"><!
 -- #/gskiepreuve fin du dode généré par le plugin jevents pour GskiEpreuves
 . . Ne pas modifier cette ligne, ni tout le contenu précedant.  #/gskiepreu
 ve --> <a href="https://skivosges.net/agenda/detailevenement/865/-/challeng
 e-luc-colin?tmpl=component">Cet évènement a été importé depuis :https://ski
 vosges.net/agenda/detailevenement/865/-/challenge-luc-colin?tmpl=component<
 /a>DTSTAMP:20260421T051032
DTSTART;TZID=Europe/Paris;VALUE=DATE:20171210
DTEND;TZID=Europe/Paris;VALUE=DATE:20171211
SEQUENCE:0
TRANSP:OPAQUE
END:VEVENT
END:VCALENDAR