BEGIN:VCALENDAR
VERSION:2.0
PRODID:-//jEvents 2.0 for Joomla//EN
CALSCALE:GREGORIAN
METHOD:PUBLISH
BEGIN:VTIMEZONE
TZID:Europe/Paris
BEGIN:STANDARD
DTSTART:20170105T000000
RDATE:20170326T030000
TZOFFSETFROM:+0200
TZOFFSETTO:+0100
TZNAME:Europe/Paris CET
END:STANDARD
BEGIN:STANDARD
DTSTART:20171029T020000
RDATE:20180325T030000
TZOFFSETFROM:+0200
TZOFFSETTO:+0100
TZNAME:Europe/Paris CET
END:STANDARD
BEGIN:STANDARD
DTSTART:20181028T020000
RDATE:20190331T030000
TZOFFSETFROM:+0200
TZOFFSETTO:+0100
TZNAME:Europe/Paris CET
END:STANDARD
BEGIN:STANDARD
DTSTART:20191027T020000
RDATE:20200329T030000
TZOFFSETFROM:+0200
TZOFFSETTO:+0100
TZNAME:Europe/Paris CET
END:STANDARD
BEGIN:STANDARD
DTSTART:20201025T020000
RDATE:20210328T030000
TZOFFSETFROM:+0200
TZOFFSETTO:+0100
TZNAME:Europe/Paris CET
END:STANDARD
BEGIN:STANDARD
DTSTART:20211031T020000
RDATE:20220327T030000
TZOFFSETFROM:+0200
TZOFFSETTO:+0100
TZNAME:Europe/Paris CET
END:STANDARD
BEGIN:STANDARD
DTSTART:20221030T020000
RDATE:20230326T030000
TZOFFSETFROM:+0200
TZOFFSETTO:+0100
TZNAME:Europe/Paris CET
END:STANDARD
BEGIN:STANDARD
DTSTART:20231029T020000
RDATE:20240331T030000
TZOFFSETFROM:+0200
TZOFFSETTO:+0100
TZNAME:Europe/Paris CET
END:STANDARD
BEGIN:STANDARD
DTSTART:20241027T020000
RDATE:20250330T030000
TZOFFSETFROM:+0200
TZOFFSETTO:+0100
TZNAME:Europe/Paris CET
END:STANDARD
BEGIN:STANDARD
DTSTART:20251026T020000
RDATE:20260329T030000
TZOFFSETFROM:+0200
TZOFFSETTO:+0100
TZNAME:Europe/Paris CET
END:STANDARD
BEGIN:STANDARD
DTSTART:20261025T020000
RDATE:20270328T030000
TZOFFSETFROM:+0200
TZOFFSETTO:+0100
TZNAME:Europe/Paris CET
END:STANDARD
BEGIN:DAYLIGHT
DTSTART:20170326T030000
RDATE:20171029T020000
TZOFFSETFROM:+0100
TZOFFSETTO:+0200
TZNAME:Europe/Paris CEST
END:DAYLIGHT
BEGIN:DAYLIGHT
DTSTART:20180325T030000
RDATE:20181028T020000
TZOFFSETFROM:+0100
TZOFFSETTO:+0200
TZNAME:Europe/Paris CEST
END:DAYLIGHT
BEGIN:DAYLIGHT
DTSTART:20190331T030000
RDATE:20191027T020000
TZOFFSETFROM:+0100
TZOFFSETTO:+0200
TZNAME:Europe/Paris CEST
END:DAYLIGHT
BEGIN:DAYLIGHT
DTSTART:20200329T030000
RDATE:20201025T020000
TZOFFSETFROM:+0100
TZOFFSETTO:+0200
TZNAME:Europe/Paris CEST
END:DAYLIGHT
BEGIN:DAYLIGHT
DTSTART:20210328T030000
RDATE:20211031T020000
TZOFFSETFROM:+0100
TZOFFSETTO:+0200
TZNAME:Europe/Paris CEST
END:DAYLIGHT
BEGIN:DAYLIGHT
DTSTART:20220327T030000
RDATE:20221030T020000
TZOFFSETFROM:+0100
TZOFFSETTO:+0200
TZNAME:Europe/Paris CEST
END:DAYLIGHT
BEGIN:DAYLIGHT
DTSTART:20230326T030000
RDATE:20231029T020000
TZOFFSETFROM:+0100
TZOFFSETTO:+0200
TZNAME:Europe/Paris CEST
END:DAYLIGHT
BEGIN:DAYLIGHT
DTSTART:20240331T030000
RDATE:20241027T020000
TZOFFSETFROM:+0100
TZOFFSETTO:+0200
TZNAME:Europe/Paris CEST
END:DAYLIGHT
BEGIN:DAYLIGHT
DTSTART:20250330T030000
RDATE:20251026T020000
TZOFFSETFROM:+0100
TZOFFSETTO:+0200
TZNAME:Europe/Paris CEST
END:DAYLIGHT
BEGIN:DAYLIGHT
DTSTART:20260329T030000
RDATE:20261025T020000
TZOFFSETFROM:+0100
TZOFFSETTO:+0200
TZNAME:Europe/Paris CEST
END:DAYLIGHT
END:VTIMEZONE
BEGIN:VEVENT
UID:8b7c3764fd88123f2fc95dba6a31a8ce
CATEGORIES:Combiné Nordique
CREATED:20171121T093310
SUMMARY:SAMSE National Tour (enneigement insuffisant)
URL;VALUE=URI:https://skivosges.net/agenda/detailevenement/879/-/samse-national-tour-enne
 igement-insuffisant?tmpl=component
DESCRIPTION:<!-- #gskiepreuve code généré par le plugin jevents pour GskiEpreuves. Ne p
 as modifier cette ligne, ni tout le contenu suivant  #gskiepreuve --><div c
 lass="gski-evenement_infos"><div class="gski-evenement-nom">SAMSE National 
 Tour (enneigement insuffisant)</div><div class="gski-evenement-report"></di
 v><ul class="gski-evenement-liste-infos"><li>Codex évenement CNAT0040</li><
 li>Station : GERARDMER</li><li>Organisateur : 14469 A.S GERARDMER SKI NORDI
 QUE</li></ul><div class="gski-evenement-infos-2"><div class="gski-evenement
 -info-inscriptions"><div class="gski-evenement-inscriptions-periodes">Pério
 de d'inscription à l'evènement du samedi 30 décembre 2017 à 00:00 au jeudi 
 04 janvier 2018 à 12:00 <span class="gski-evenement-inscriptions-impossible
 s">(Inscriptions impossibles).</span><div class="gski-evenement-inscription
 s-types-titres">Inscriptions ouvertes aux detenteurs des titres Fédéraux va
 lides suivants : Licenciés Compétiteurs</div></div></div><div class="gski-e
 venement-epreuves"><div class="gski-evenement-epreuves-titres">Epreuves :</
 div><ul class="gski-evenement-epreuves-list"><li><div class="gski-epreuve-d
 ate">Le samedi 06 janvier 2018</div><ul class="gski-epreuve-liste-infos"><l
 i>Codex épreuve CNAM0041</li><li>Combine du Combine Nordique</li><li>Catégo
 rie(s) : U7 a U17 (Garçons)</li></ul></li><li><div class="gski-epreuve-date
 ">Le samedi 06 janvier 2018</div><ul class="gski-epreuve-liste-infos"><li>C
 odex épreuve CNAF0041</li><li>Combine du Combine Nordique</li><li>Catégorie
 (s) : U7 a U17 (Filles)</li></ul></li><li><div class="gski-epreuve-date">Le
  samedi 06 janvier 2018</div><ul class="gski-epreuve-liste-infos"><li>Codex
  épreuve CNAM0042</li><li>Combine du Combine Nordique</li><li>Catégorie(s) 
 : Toutes les Categories (Garçons)</li></ul></li><li><div class="gski-epreuv
 e-date">Le samedi 06 janvier 2018</div><ul class="gski-epreuve-liste-infos"
 ><li>Codex épreuve CNAF0042</li><li>Combine du Combine Nordique</li><li>Cat
 égorie(s) : Toutes les Categories (Filles)</li></ul></li></ul></div><div cl
 ass="gskiepreuves-links"><ul><li><a href="/index.php?option=com_jevents&tas
 k=icalevent.detail&evid=874&Itemid=1703">Voir les informations dans l'agend
 a...</a></li></ul></div></div"><!-- #/gskiepreuve fin du dode généré par le
  plugin jevents pour GskiEpreuves. . Ne pas modifier cette ligne, ni tout l
 e contenu précedant.  #/gskiepreuve --> <a href="https://skivosges.net/agen
 da/detailevenement/879/-/samse-national-tour-enneigement-insuffisant?tmpl=c
 omponent">Cet évènement a été importé depuis :https://skivosges.net/agenda/
 detailevenement/879/-/samse-national-tour-enneigement-insuffisant?tmpl=comp
 onent</a>
X-ALT-DESC;FMTTYPE=text/html:<!-- #gskiepreuve code généré par le plugin jevents pour GskiEpreuves. Ne p
 as modifier cette ligne, ni tout le contenu suivant  #gskiepreuve --><div c
 lass="gski-evenement_infos"><div class="gski-evenement-nom">SAMSE National 
 Tour (enneigement insuffisant)</div><div class="gski-evenement-report"></di
 v><ul class="gski-evenement-liste-infos"><li>Codex évenement CNAT0040</li><
 li>Station : GERARDMER</li><li>Organisateur : 14469 A.S GERARDMER SKI NORDI
 QUE</li></ul><div class="gski-evenement-infos-2"><div class="gski-evenement
 -info-inscriptions"><div class="gski-evenement-inscriptions-periodes">Pério
 de d'inscription à l'evènement du samedi 30 décembre 2017 à 00:00 au jeudi 
 04 janvier 2018 à 12:00 <span class="gski-evenement-inscriptions-impossible
 s">(Inscriptions impossibles).</span><div class="gski-evenement-inscription
 s-types-titres">Inscriptions ouvertes aux detenteurs des titres Fédéraux va
 lides suivants : Licenciés Compétiteurs</div></div></div><div class="gski-e
 venement-epreuves"><div class="gski-evenement-epreuves-titres">Epreuves :</
 div><ul class="gski-evenement-epreuves-list"><li><div class="gski-epreuve-d
 ate">Le samedi 06 janvier 2018</div><ul class="gski-epreuve-liste-infos"><l
 i>Codex épreuve CNAM0041</li><li>Combine du Combine Nordique</li><li>Catégo
 rie(s) : U7 a U17 (Garçons)</li></ul></li><li><div class="gski-epreuve-date
 ">Le samedi 06 janvier 2018</div><ul class="gski-epreuve-liste-infos"><li>C
 odex épreuve CNAF0041</li><li>Combine du Combine Nordique</li><li>Catégorie
 (s) : U7 a U17 (Filles)</li></ul></li><li><div class="gski-epreuve-date">Le
  samedi 06 janvier 2018</div><ul class="gski-epreuve-liste-infos"><li>Codex
  épreuve CNAM0042</li><li>Combine du Combine Nordique</li><li>Catégorie(s) 
 : Toutes les Categories (Garçons)</li></ul></li><li><div class="gski-epreuv
 e-date">Le samedi 06 janvier 2018</div><ul class="gski-epreuve-liste-infos"
 ><li>Codex épreuve CNAF0042</li><li>Combine du Combine Nordique</li><li>Cat
 égorie(s) : Toutes les Categories (Filles)</li></ul></li></ul></div><div cl
 ass="gskiepreuves-links"><ul><li><a href="https://skivosges.net/index.php?o
 ption=com_jevents&task=icalevent.detail&evid=874&Itemid=1703">Voir les info
 rmations dans l'agenda...</a></li></ul></div></div"><!-- #/gskiepreuve fin 
 du dode généré par le plugin jevents pour GskiEpreuves. . Ne pas modifier c
 ette ligne, ni tout le contenu précedant.  #/gskiepreuve --> <a href="https
 ://skivosges.net/agenda/detailevenement/879/-/samse-national-tour-enneigeme
 nt-insuffisant?tmpl=component">Cet évènement a été importé depuis :https://
 skivosges.net/agenda/detailevenement/879/-/samse-national-tour-enneigement-
 insuffisant?tmpl=component</a>DTSTAMP:20260421T051319
DTSTART;TZID=Europe/Paris;VALUE=DATE:20180106
DTEND;TZID=Europe/Paris;VALUE=DATE:20180108
SEQUENCE:0
TRANSP:OPAQUE
END:VEVENT
END:VCALENDAR