BEGIN:VCALENDAR
VERSION:2.0
PRODID:-//jEvents 2.0 for Joomla//EN
CALSCALE:GREGORIAN
METHOD:PUBLISH
BEGIN:VTIMEZONE
TZID:Europe/Paris
BEGIN:STANDARD
DTSTART:20170106T000000
RDATE:20170326T030000
TZOFFSETFROM:+0200
TZOFFSETTO:+0100
TZNAME:Europe/Paris CET
END:STANDARD
BEGIN:STANDARD
DTSTART:20171029T020000
RDATE:20180325T030000
TZOFFSETFROM:+0200
TZOFFSETTO:+0100
TZNAME:Europe/Paris CET
END:STANDARD
BEGIN:STANDARD
DTSTART:20181028T020000
RDATE:20190331T030000
TZOFFSETFROM:+0200
TZOFFSETTO:+0100
TZNAME:Europe/Paris CET
END:STANDARD
BEGIN:STANDARD
DTSTART:20191027T020000
RDATE:20200329T030000
TZOFFSETFROM:+0200
TZOFFSETTO:+0100
TZNAME:Europe/Paris CET
END:STANDARD
BEGIN:STANDARD
DTSTART:20201025T020000
RDATE:20210328T030000
TZOFFSETFROM:+0200
TZOFFSETTO:+0100
TZNAME:Europe/Paris CET
END:STANDARD
BEGIN:STANDARD
DTSTART:20211031T020000
RDATE:20220327T030000
TZOFFSETFROM:+0200
TZOFFSETTO:+0100
TZNAME:Europe/Paris CET
END:STANDARD
BEGIN:STANDARD
DTSTART:20221030T020000
RDATE:20230326T030000
TZOFFSETFROM:+0200
TZOFFSETTO:+0100
TZNAME:Europe/Paris CET
END:STANDARD
BEGIN:STANDARD
DTSTART:20231029T020000
RDATE:20240331T030000
TZOFFSETFROM:+0200
TZOFFSETTO:+0100
TZNAME:Europe/Paris CET
END:STANDARD
BEGIN:STANDARD
DTSTART:20241027T020000
RDATE:20250330T030000
TZOFFSETFROM:+0200
TZOFFSETTO:+0100
TZNAME:Europe/Paris CET
END:STANDARD
BEGIN:STANDARD
DTSTART:20251026T020000
RDATE:20260329T030000
TZOFFSETFROM:+0200
TZOFFSETTO:+0100
TZNAME:Europe/Paris CET
END:STANDARD
BEGIN:STANDARD
DTSTART:20261025T020000
RDATE:20270328T030000
TZOFFSETFROM:+0200
TZOFFSETTO:+0100
TZNAME:Europe/Paris CET
END:STANDARD
BEGIN:DAYLIGHT
DTSTART:20170326T030000
RDATE:20171029T020000
TZOFFSETFROM:+0100
TZOFFSETTO:+0200
TZNAME:Europe/Paris CEST
END:DAYLIGHT
BEGIN:DAYLIGHT
DTSTART:20180325T030000
RDATE:20181028T020000
TZOFFSETFROM:+0100
TZOFFSETTO:+0200
TZNAME:Europe/Paris CEST
END:DAYLIGHT
BEGIN:DAYLIGHT
DTSTART:20190331T030000
RDATE:20191027T020000
TZOFFSETFROM:+0100
TZOFFSETTO:+0200
TZNAME:Europe/Paris CEST
END:DAYLIGHT
BEGIN:DAYLIGHT
DTSTART:20200329T030000
RDATE:20201025T020000
TZOFFSETFROM:+0100
TZOFFSETTO:+0200
TZNAME:Europe/Paris CEST
END:DAYLIGHT
BEGIN:DAYLIGHT
DTSTART:20210328T030000
RDATE:20211031T020000
TZOFFSETFROM:+0100
TZOFFSETTO:+0200
TZNAME:Europe/Paris CEST
END:DAYLIGHT
BEGIN:DAYLIGHT
DTSTART:20220327T030000
RDATE:20221030T020000
TZOFFSETFROM:+0100
TZOFFSETTO:+0200
TZNAME:Europe/Paris CEST
END:DAYLIGHT
BEGIN:DAYLIGHT
DTSTART:20230326T030000
RDATE:20231029T020000
TZOFFSETFROM:+0100
TZOFFSETTO:+0200
TZNAME:Europe/Paris CEST
END:DAYLIGHT
BEGIN:DAYLIGHT
DTSTART:20240331T030000
RDATE:20241027T020000
TZOFFSETFROM:+0100
TZOFFSETTO:+0200
TZNAME:Europe/Paris CEST
END:DAYLIGHT
BEGIN:DAYLIGHT
DTSTART:20250330T030000
RDATE:20251026T020000
TZOFFSETFROM:+0100
TZOFFSETTO:+0200
TZNAME:Europe/Paris CEST
END:DAYLIGHT
BEGIN:DAYLIGHT
DTSTART:20260329T030000
RDATE:20261025T020000
TZOFFSETFROM:+0100
TZOFFSETTO:+0200
TZNAME:Europe/Paris CEST
END:DAYLIGHT
END:VTIMEZONE
BEGIN:VEVENT
UID:998764956fe58d6544fc2c1f76aedb75
CATEGORIES:Compétition Ski de Fond
CREATED:20171121T093310
SUMMARY:GRAND PRIX EDF  BIG-MAT-ATOMIC N°5
URL;VALUE=URI:https://skivosges.net/agenda/detailevenement/880/-/grand-prix-edf-big-mat-a
 tomic-n-5?tmpl=component
DESCRIPTION:GRAND PRIX EDF  BIG-MAT-ATOMIC N°5\n - Codex évenement FMVT0060\n - Station
  : MARKSTEIN\n - Organisateur : 14053 S.C MARKSTEIN RANSPACH\n - Courriel :
  RegularLabs.EmailProtector.unCloak("ep_78337618");\n - Délégué Technique :
  SIMON ROBERTPériode d'inscription à l'evènement du dimanche 31 décembre 20
 17 à 00:00 au vendredi 05 janvier 2018 à 18:00 (Inscriptions impossibles).I
 nscriptions ouvertes aux detenteurs des titres Fédéraux valides suivants : 
 Licenciés CompétiteursEpreuves :\n - Le dimanche 07 janvier 2018\n - Codex 
 épreuve FMVF0061\n - Depart Individuel\n - Catégorie(s) : U14 (Filles)\n - 
 Le dimanche 07 janvier 2018\n - Codex épreuve FMVF0062\n - Depart Individue
 l\n - Catégorie(s) : U16 (Filles)\n - Le dimanche 07 janvier 2018\n - Codex
  épreuve FMVF0063\n - Depart Individuel\n - Catégorie(s) : U18/U20 (Dames)\
 n - Le dimanche 07 janvier 2018\n - Codex épreuve FMVF0064\n - Depart Indiv
 iduel\n - Catégorie(s) : Senior (Dames)\n - Le dimanche 07 janvier 2018\n -
  Codex épreuve FMVM0061\n - Depart Individuel\n - Catégorie(s) : U14 (Garço
 ns)\n - Le dimanche 07 janvier 2018\n - Codex épreuve FMVM0062\n - Depart I
 ndividuel\n - Catégorie(s) : U16 (Garçons)\n - Le dimanche 07 janvier 2018\
 n - Codex épreuve FMVM0063\n - Depart Individuel\n - Catégorie(s) : U18/U20
  (Hommes)\n - Le dimanche 07 janvier 2018\n - Codex épreuve FMVM0064\n - De
 part Individuel\n - Catégorie(s) : Senior (Hommes)\n - Voir les information
 s dans l'agenda... (/index.php?option=com_jevents&amp;task=icalevent.detail
 &amp;evid=875&amp;Itemid=1703)\n - Vers les résultats... (/index.php?option
 =com_gskiepreuves&amp;view=afficheresultats&amp;format_option=tous&amp;filt
 er[search]=FMVT0060&amp;filter[date_debut]=07-01-2018&amp;filter[date_fin]=
 07-01-2018&amp;code_activite=FOND&amp;Itemid=1703) Cet évènement a été impo
 rté depuis :https://skivosges.net/agenda/detailevenement/880/-/grand-prix-e
 df-big-mat-atomic-n-5?tmpl=component (https://skivosges.net/agenda/detailev
 enement/880/-/grand-prix-edf-big-mat-atomic-n-5?tmpl=component)
X-ALT-DESC;FMTTYPE=text/html:<!-- #gskiepreuve code généré par le plugin jevents pour GskiEpreuves. Ne p
 as modifier cette ligne, ni tout le contenu suivant  #gskiepreuve --><div c
 lass="gski-evenement_infos"><div class="gski-evenement-nom">GRAND PRIX EDF 
  BIG-MAT-ATOMIC N°5</div><div class="gski-evenement-report"></div><ul class
 ="gski-evenement-liste-infos"><li>Codex évenement FMVT0060</li><li>Station 
 : MARKSTEIN</li><li>Organisateur : 14053 S.C MARKSTEIN RANSPACH</li><li>Cou
 rriel : <!-- Cette adresse électronique est protégée contre les robots spam
 meurs. --><span class="cloaked_email ep_78337618"><span data-ep-b="&#99;&#1
 11;&#109;" data-ep-a="s&#99;&#114;"><span data-ep-a="a&#110;&#115;" data-ep
 -b="&#111;&#108;."><span data-ep-a="&#112;&#97;&#99;" data-ep-b="&#104;&#64
 ;&#97;"></span></span></span></span><script>RegularLabs.EmailProtector.unCl
 oak("ep_78337618");</script></li><li><span class="gski-evenement-obs">Délég
 ué Technique : SIMON ROBERT</span></li></ul><div class="gski-evenement-info
 s-2"><div class="gski-evenement-info-inscriptions"><div class="gski-eveneme
 nt-inscriptions-periodes">Période d'inscription à l'evènement du dimanche 3
 1 décembre 2017 à 00:00 au vendredi 05 janvier 2018 à 18:00 <span class="gs
 ki-evenement-inscriptions-impossibles">(Inscriptions impossibles).</span><d
 iv class="gski-evenement-inscriptions-types-titres">Inscriptions ouvertes a
 ux detenteurs des titres Fédéraux valides suivants : Licenciés Compétiteurs
 </div></div></div><div class="gski-evenement-epreuves"><div class="gski-eve
 nement-epreuves-titres">Epreuves :</div><ul class="gski-evenement-epreuves-
 list"><li><div class="gski-epreuve-date">Le dimanche 07 janvier 2018</div><
 ul class="gski-epreuve-liste-infos"><li>Codex épreuve FMVF0061</li><li>Depa
 rt Individuel</li><li>Catégorie(s) : U14 (Filles)</li></ul></li><li><div cl
 ass="gski-epreuve-date">Le dimanche 07 janvier 2018</div><ul class="gski-ep
 reuve-liste-infos"><li>Codex épreuve FMVF0062</li><li>Depart Individuel</li
 ><li>Catégorie(s) : U16 (Filles)</li></ul></li><li><div class="gski-epreuve
 -date">Le dimanche 07 janvier 2018</div><ul class="gski-epreuve-liste-infos
 "><li>Codex épreuve FMVF0063</li><li>Depart Individuel</li><li>Catégorie(s)
  : U18/U20 (Dames)</li></ul></li><li><div class="gski-epreuve-date">Le dima
 nche 07 janvier 2018</div><ul class="gski-epreuve-liste-infos"><li>Codex ép
 reuve FMVF0064</li><li>Depart Individuel</li><li>Catégorie(s) : Senior (Dam
 es)</li></ul></li><li><div class="gski-epreuve-date">Le dimanche 07 janvier
  2018</div><ul class="gski-epreuve-liste-infos"><li>Codex épreuve FMVM0061<
 /li><li>Depart Individuel</li><li>Catégorie(s) : U14 (Garçons)</li></ul></l
 i><li><div class="gski-epreuve-date">Le dimanche 07 janvier 2018</div><ul c
 lass="gski-epreuve-liste-infos"><li>Codex épreuve FMVM0062</li><li>Depart I
 ndividuel</li><li>Catégorie(s) : U16 (Garçons)</li></ul></li><li><div class
 ="gski-epreuve-date">Le dimanche 07 janvier 2018</div><ul class="gski-epreu
 ve-liste-infos"><li>Codex épreuve FMVM0063</li><li>Depart Individuel</li><l
 i>Catégorie(s) : U18/U20 (Hommes)</li></ul></li><li><div class="gski-epreuv
 e-date">Le dimanche 07 janvier 2018</div><ul class="gski-epreuve-liste-info
 s"><li>Codex épreuve FMVM0064</li><li>Depart Individuel</li><li>Catégorie(s
 ) : Senior (Hommes)</li></ul></li></ul></div><div class="gskiepreuves-links
 "><ul><li><a href="https://skivosges.net/index.php?option=com_jevents&task=
 icalevent.detail&evid=875&Itemid=1703">Voir les informations dans l'agenda.
 ..</a></li><li><a href="https://skivosges.net/index.php?option=com_gskiepre
 uves&view=afficheresultats&format_option=tous&filter[search]=FMVT0060&filte
 r[date_debut]=07-01-2018&filter[date_fin]=07-01-2018&code_activite=FOND&Ite
 mid=1703">Vers les résultats...</a></li></ul></div></div"><!-- #/gskiepreuv
 e fin du dode généré par le plugin jevents pour GskiEpreuves. . Ne pas modi
 fier cette ligne, ni tout le contenu précedant.  #/gskiepreuve --> <a href=
 "https://skivosges.net/agenda/detailevenement/880/-/grand-prix-edf-big-mat-
 atomic-n-5?tmpl=component">Cet évènement a été importé depuis :https://skiv
 osges.net/agenda/detailevenement/880/-/grand-prix-edf-big-mat-atomic-n-5?tm
 pl=component</a>DTSTAMP:20260421T051116
DTSTART;TZID=Europe/Paris;VALUE=DATE:20180107
DTEND;TZID=Europe/Paris;VALUE=DATE:20180108
SEQUENCE:0
TRANSP:OPAQUE
END:VEVENT
END:VCALENDAR