BEGIN:VCALENDAR
VERSION:2.0
PRODID:-//jEvents 2.0 for Joomla//EN
CALSCALE:GREGORIAN
METHOD:PUBLISH
BEGIN:VTIMEZONE
TZID:Europe/Paris
BEGIN:STANDARD
DTSTART:20170112T000000
RDATE:20170326T030000
TZOFFSETFROM:+0200
TZOFFSETTO:+0100
TZNAME:Europe/Paris CET
END:STANDARD
BEGIN:STANDARD
DTSTART:20171029T020000
RDATE:20180325T030000
TZOFFSETFROM:+0200
TZOFFSETTO:+0100
TZNAME:Europe/Paris CET
END:STANDARD
BEGIN:STANDARD
DTSTART:20181028T020000
RDATE:20190331T030000
TZOFFSETFROM:+0200
TZOFFSETTO:+0100
TZNAME:Europe/Paris CET
END:STANDARD
BEGIN:STANDARD
DTSTART:20191027T020000
RDATE:20200329T030000
TZOFFSETFROM:+0200
TZOFFSETTO:+0100
TZNAME:Europe/Paris CET
END:STANDARD
BEGIN:STANDARD
DTSTART:20201025T020000
RDATE:20210328T030000
TZOFFSETFROM:+0200
TZOFFSETTO:+0100
TZNAME:Europe/Paris CET
END:STANDARD
BEGIN:STANDARD
DTSTART:20211031T020000
RDATE:20220327T030000
TZOFFSETFROM:+0200
TZOFFSETTO:+0100
TZNAME:Europe/Paris CET
END:STANDARD
BEGIN:STANDARD
DTSTART:20221030T020000
RDATE:20230326T030000
TZOFFSETFROM:+0200
TZOFFSETTO:+0100
TZNAME:Europe/Paris CET
END:STANDARD
BEGIN:STANDARD
DTSTART:20231029T020000
RDATE:20240331T030000
TZOFFSETFROM:+0200
TZOFFSETTO:+0100
TZNAME:Europe/Paris CET
END:STANDARD
BEGIN:STANDARD
DTSTART:20241027T020000
RDATE:20250330T030000
TZOFFSETFROM:+0200
TZOFFSETTO:+0100
TZNAME:Europe/Paris CET
END:STANDARD
BEGIN:STANDARD
DTSTART:20251026T020000
RDATE:20260329T030000
TZOFFSETFROM:+0200
TZOFFSETTO:+0100
TZNAME:Europe/Paris CET
END:STANDARD
BEGIN:STANDARD
DTSTART:20261025T020000
RDATE:20270328T030000
TZOFFSETFROM:+0200
TZOFFSETTO:+0100
TZNAME:Europe/Paris CET
END:STANDARD
BEGIN:DAYLIGHT
DTSTART:20170326T030000
RDATE:20171029T020000
TZOFFSETFROM:+0100
TZOFFSETTO:+0200
TZNAME:Europe/Paris CEST
END:DAYLIGHT
BEGIN:DAYLIGHT
DTSTART:20180325T030000
RDATE:20181028T020000
TZOFFSETFROM:+0100
TZOFFSETTO:+0200
TZNAME:Europe/Paris CEST
END:DAYLIGHT
BEGIN:DAYLIGHT
DTSTART:20190331T030000
RDATE:20191027T020000
TZOFFSETFROM:+0100
TZOFFSETTO:+0200
TZNAME:Europe/Paris CEST
END:DAYLIGHT
BEGIN:DAYLIGHT
DTSTART:20200329T030000
RDATE:20201025T020000
TZOFFSETFROM:+0100
TZOFFSETTO:+0200
TZNAME:Europe/Paris CEST
END:DAYLIGHT
BEGIN:DAYLIGHT
DTSTART:20210328T030000
RDATE:20211031T020000
TZOFFSETFROM:+0100
TZOFFSETTO:+0200
TZNAME:Europe/Paris CEST
END:DAYLIGHT
BEGIN:DAYLIGHT
DTSTART:20220327T030000
RDATE:20221030T020000
TZOFFSETFROM:+0100
TZOFFSETTO:+0200
TZNAME:Europe/Paris CEST
END:DAYLIGHT
BEGIN:DAYLIGHT
DTSTART:20230326T030000
RDATE:20231029T020000
TZOFFSETFROM:+0100
TZOFFSETTO:+0200
TZNAME:Europe/Paris CEST
END:DAYLIGHT
BEGIN:DAYLIGHT
DTSTART:20240331T030000
RDATE:20241027T020000
TZOFFSETFROM:+0100
TZOFFSETTO:+0200
TZNAME:Europe/Paris CEST
END:DAYLIGHT
BEGIN:DAYLIGHT
DTSTART:20250330T030000
RDATE:20251026T020000
TZOFFSETFROM:+0100
TZOFFSETTO:+0200
TZNAME:Europe/Paris CEST
END:DAYLIGHT
BEGIN:DAYLIGHT
DTSTART:20260329T030000
RDATE:20261025T020000
TZOFFSETFROM:+0100
TZOFFSETTO:+0200
TZNAME:Europe/Paris CEST
END:DAYLIGHT
END:VTIMEZONE
BEGIN:VEVENT
UID:7a8f754a0fc19fb400b1166ab67e0756
CATEGORIES:Circuit Massif Masters (alpin)
CREATED:20171121T093310
SUMMARY:CMM  Esprit Racing prix Mat Peinture
URL;VALUE=URI:https://skivosges.net/agenda/detailevenement/887/-/cmm-esprit-racing-prix-m
 at-peinture?tmpl=component
DESCRIPTION:<!-- #gskiepreuve code généré par le plugin jevents pour GskiEpreuves. Ne p
 as modifier cette ligne, ni tout le contenu suivant  #gskiepreuve --><div c
 lass="gski-evenement_infos"><div class="gski-evenement-nom">CMM  Esprit Rac
 ing prix Mat Peinture</div><div class="gski-evenement-report"></div><ul cla
 ss="gski-evenement-liste-infos"><li>Codex évenement AMVT0240</li><li>Lieu :
  LANGENBERG</li><li>Station : BALLON D ALSACE  </li><li>Piste : STADE SLALO
 M  piste rouge</li><li>Organisateur : 14063 SKIEURS DE ST MAURICE/MOSELLE</
 li><li>Courriel : <!-- Cette adresse électronique est protégée contre les r
 obots spammeurs. --><span class="cloaked_email ep_ad989524"><span data-ep-a
 ="&#100;&#97;&#110;i" data-ep-b=""><span data-ep-b="&#114;.&#102;r" data-ep
 -a="e&#108;&#46;m"><span data-ep-b="&#53;&#64;s&#102;" data-ep-a="or&#101;&
 #108;"></span></span></span></span><script>RegularLabs.EmailProtector.unClo
 ak("ep_ad989524");</script></li><li><span class="gski-evenement-obs">Délégu
 é Technique : CLAUDEL RENE</span></li></ul><div class="gski-evenement-infos
 -2"><div class="gski-evenement-info-inscriptions"><div class="gski-evenemen
 t-inscriptions-periodes">Période d'inscription à l'evènement du samedi 06 j
 anvier 2018 à 00:00 au vendredi 12 janvier 2018 à 14:00 <span class="gski-e
 venement-inscriptions-impossibles">(Inscriptions impossibles).</span><div c
 lass="gski-evenement-inscriptions-types-titres">Inscriptions ouvertes aux d
 etenteurs des titres Fédéraux valides suivants : Licenciés Compétiteurs</di
 v></div></div><div class="gski-evenement-epreuves"><div class="gski-eveneme
 nt-epreuves-titres">Epreuves :</div><ul class="gski-evenement-epreuves-list
 "><li><div class="gski-epreuve-date">Le samedi 13 janvier 2018 à 14:00</div
 ><ul class="gski-epreuve-liste-infos"><li>Codex épreuve AMVM0241</li><li>Sl
 alom</li><li>Catégorie(s) : Tous les Masters+U30 Hommes (Hommes)</li></ul><
 /li><li><div class="gski-epreuve-date">Le samedi 13 janvier 2018 à 14:00</d
 iv><ul class="gski-epreuve-liste-infos"><li>Codex épreuve AMVF0241</li><li>
 Slalom</li><li>Catégorie(s) : Tous les Masters+U30 Dames (Dames)</li></ul><
 /li></ul></div><div class="gskiepreuves-links"><ul><li><a href="/index.php?
 option=com_jevents&task=icalevent.detail&evid=882&Itemid=1703">Voir les inf
 ormations dans l'agenda...</a></li><li><a href="/index.php?option=com_gskie
 preuves&view=afficheresultats&format_option=tous&filter[search]=AMVT0240&fi
 lter[date_debut]=13-01-2018&filter[date_fin]=13-01-2018&code_activite=ALP&I
 temid=1703">Vers les résultats...</a></li><li>Publications concernant cet é
 vènement :<ul><li><a href="/index.php?option=com_content&view=article&id=60
 20&Itemid=1703">Vendredi 12 Janvier 2018 à 14:25 : Le 13/01/2018 BALLON D'A
 LSACE Liste de départs</a></li></ul></li></ul></div></div"><!-- #/gskiepreu
 ve fin du dode généré par le plugin jevents pour GskiEpreuves. . Ne pas mod
 ifier cette ligne, ni tout le contenu précedant.  #/gskiepreuve --> <a href
 ="https://skivosges.net/agenda/detailevenement/887/-/cmm-esprit-racing-prix
 -mat-peinture?tmpl=component">Cet évènement a été importé depuis :https://s
 kivosges.net/agenda/detailevenement/887/-/cmm-esprit-racing-prix-mat-peintu
 re?tmpl=component</a>
X-ALT-DESC;FMTTYPE=text/html:<!-- #gskiepreuve code généré par le plugin jevents pour GskiEpreuves. Ne p
 as modifier cette ligne, ni tout le contenu suivant  #gskiepreuve --><div c
 lass="gski-evenement_infos"><div class="gski-evenement-nom">CMM  Esprit Rac
 ing prix Mat Peinture</div><div class="gski-evenement-report"></div><ul cla
 ss="gski-evenement-liste-infos"><li>Codex évenement AMVT0240</li><li>Lieu :
  LANGENBERG</li><li>Station : BALLON D ALSACE  </li><li>Piste : STADE SLALO
 M  piste rouge</li><li>Organisateur : 14063 SKIEURS DE ST MAURICE/MOSELLE</
 li><li>Courriel : <!-- Cette adresse électronique est protégée contre les r
 obots spammeurs. --><span class="cloaked_email ep_ad989524"><span data-ep-a
 ="&#100;&#97;&#110;i" data-ep-b=""><span data-ep-b="&#114;.&#102;r" data-ep
 -a="e&#108;&#46;m"><span data-ep-b="&#53;&#64;s&#102;" data-ep-a="or&#101;&
 #108;"></span></span></span></span><script>RegularLabs.EmailProtector.unClo
 ak("ep_ad989524");</script></li><li><span class="gski-evenement-obs">Délégu
 é Technique : CLAUDEL RENE</span></li></ul><div class="gski-evenement-infos
 -2"><div class="gski-evenement-info-inscriptions"><div class="gski-evenemen
 t-inscriptions-periodes">Période d'inscription à l'evènement du samedi 06 j
 anvier 2018 à 00:00 au vendredi 12 janvier 2018 à 14:00 <span class="gski-e
 venement-inscriptions-impossibles">(Inscriptions impossibles).</span><div c
 lass="gski-evenement-inscriptions-types-titres">Inscriptions ouvertes aux d
 etenteurs des titres Fédéraux valides suivants : Licenciés Compétiteurs</di
 v></div></div><div class="gski-evenement-epreuves"><div class="gski-eveneme
 nt-epreuves-titres">Epreuves :</div><ul class="gski-evenement-epreuves-list
 "><li><div class="gski-epreuve-date">Le samedi 13 janvier 2018 à 14:00</div
 ><ul class="gski-epreuve-liste-infos"><li>Codex épreuve AMVM0241</li><li>Sl
 alom</li><li>Catégorie(s) : Tous les Masters+U30 Hommes (Hommes)</li></ul><
 /li><li><div class="gski-epreuve-date">Le samedi 13 janvier 2018 à 14:00</d
 iv><ul class="gski-epreuve-liste-infos"><li>Codex épreuve AMVF0241</li><li>
 Slalom</li><li>Catégorie(s) : Tous les Masters+U30 Dames (Dames)</li></ul><
 /li></ul></div><div class="gskiepreuves-links"><ul><li><a href="https://ski
 vosges.net/index.php?option=com_jevents&task=icalevent.detail&evid=882&Item
 id=1703">Voir les informations dans l'agenda...</a></li><li><a href="https:
 //skivosges.net/index.php?option=com_gskiepreuves&view=afficheresultats&for
 mat_option=tous&filter[search]=AMVT0240&filter[date_debut]=13-01-2018&filte
 r[date_fin]=13-01-2018&code_activite=ALP&Itemid=1703">Vers les résultats...
 </a></li><li>Publications concernant cet évènement :<ul><li><a href="https:
 //skivosges.net/index.php?option=com_content&view=article&id=6020&Itemid=17
 03">Vendredi 12 Janvier 2018 à 14:25 : Le 13/01/2018 BALLON D'ALSACE Liste 
 de départs</a></li></ul></li></ul></div></div"><!-- #/gskiepreuve fin du do
 de généré par le plugin jevents pour GskiEpreuves. . Ne pas modifier cette 
 ligne, ni tout le contenu précedant.  #/gskiepreuve --> <a href="https://sk
 ivosges.net/agenda/detailevenement/887/-/cmm-esprit-racing-prix-mat-peintur
 e?tmpl=component">Cet évènement a été importé depuis :https://skivosges.net
 /agenda/detailevenement/887/-/cmm-esprit-racing-prix-mat-peinture?tmpl=comp
 onent</a>DTSTAMP:20260421T051308
DTSTART;TZID=Europe/Paris;VALUE=DATE:20180113
DTEND;TZID=Europe/Paris;VALUE=DATE:20180114
SEQUENCE:0
TRANSP:OPAQUE
END:VEVENT
END:VCALENDAR