BEGIN:VCALENDAR
VERSION:2.0
PRODID:-//jEvents 2.0 for Joomla//EN
CALSCALE:GREGORIAN
METHOD:PUBLISH
BEGIN:VTIMEZONE
TZID:Europe/Paris
BEGIN:STANDARD
DTSTART:20170113T000000
RDATE:20170326T030000
TZOFFSETFROM:+0200
TZOFFSETTO:+0100
TZNAME:Europe/Paris CET
END:STANDARD
BEGIN:STANDARD
DTSTART:20171029T020000
RDATE:20180325T030000
TZOFFSETFROM:+0200
TZOFFSETTO:+0100
TZNAME:Europe/Paris CET
END:STANDARD
BEGIN:STANDARD
DTSTART:20181028T020000
RDATE:20190331T030000
TZOFFSETFROM:+0200
TZOFFSETTO:+0100
TZNAME:Europe/Paris CET
END:STANDARD
BEGIN:STANDARD
DTSTART:20191027T020000
RDATE:20200329T030000
TZOFFSETFROM:+0200
TZOFFSETTO:+0100
TZNAME:Europe/Paris CET
END:STANDARD
BEGIN:STANDARD
DTSTART:20201025T020000
RDATE:20210328T030000
TZOFFSETFROM:+0200
TZOFFSETTO:+0100
TZNAME:Europe/Paris CET
END:STANDARD
BEGIN:STANDARD
DTSTART:20211031T020000
RDATE:20220327T030000
TZOFFSETFROM:+0200
TZOFFSETTO:+0100
TZNAME:Europe/Paris CET
END:STANDARD
BEGIN:STANDARD
DTSTART:20221030T020000
RDATE:20230326T030000
TZOFFSETFROM:+0200
TZOFFSETTO:+0100
TZNAME:Europe/Paris CET
END:STANDARD
BEGIN:STANDARD
DTSTART:20231029T020000
RDATE:20240331T030000
TZOFFSETFROM:+0200
TZOFFSETTO:+0100
TZNAME:Europe/Paris CET
END:STANDARD
BEGIN:STANDARD
DTSTART:20241027T020000
RDATE:20250330T030000
TZOFFSETFROM:+0200
TZOFFSETTO:+0100
TZNAME:Europe/Paris CET
END:STANDARD
BEGIN:STANDARD
DTSTART:20251026T020000
RDATE:20260329T030000
TZOFFSETFROM:+0200
TZOFFSETTO:+0100
TZNAME:Europe/Paris CET
END:STANDARD
BEGIN:STANDARD
DTSTART:20261025T020000
RDATE:20270328T030000
TZOFFSETFROM:+0200
TZOFFSETTO:+0100
TZNAME:Europe/Paris CET
END:STANDARD
BEGIN:DAYLIGHT
DTSTART:20170326T030000
RDATE:20171029T020000
TZOFFSETFROM:+0100
TZOFFSETTO:+0200
TZNAME:Europe/Paris CEST
END:DAYLIGHT
BEGIN:DAYLIGHT
DTSTART:20180325T030000
RDATE:20181028T020000
TZOFFSETFROM:+0100
TZOFFSETTO:+0200
TZNAME:Europe/Paris CEST
END:DAYLIGHT
BEGIN:DAYLIGHT
DTSTART:20190331T030000
RDATE:20191027T020000
TZOFFSETFROM:+0100
TZOFFSETTO:+0200
TZNAME:Europe/Paris CEST
END:DAYLIGHT
BEGIN:DAYLIGHT
DTSTART:20200329T030000
RDATE:20201025T020000
TZOFFSETFROM:+0100
TZOFFSETTO:+0200
TZNAME:Europe/Paris CEST
END:DAYLIGHT
BEGIN:DAYLIGHT
DTSTART:20210328T030000
RDATE:20211031T020000
TZOFFSETFROM:+0100
TZOFFSETTO:+0200
TZNAME:Europe/Paris CEST
END:DAYLIGHT
BEGIN:DAYLIGHT
DTSTART:20220327T030000
RDATE:20221030T020000
TZOFFSETFROM:+0100
TZOFFSETTO:+0200
TZNAME:Europe/Paris CEST
END:DAYLIGHT
BEGIN:DAYLIGHT
DTSTART:20230326T030000
RDATE:20231029T020000
TZOFFSETFROM:+0100
TZOFFSETTO:+0200
TZNAME:Europe/Paris CEST
END:DAYLIGHT
BEGIN:DAYLIGHT
DTSTART:20240331T030000
RDATE:20241027T020000
TZOFFSETFROM:+0100
TZOFFSETTO:+0200
TZNAME:Europe/Paris CEST
END:DAYLIGHT
BEGIN:DAYLIGHT
DTSTART:20250330T030000
RDATE:20251026T020000
TZOFFSETFROM:+0100
TZOFFSETTO:+0200
TZNAME:Europe/Paris CEST
END:DAYLIGHT
BEGIN:DAYLIGHT
DTSTART:20260329T030000
RDATE:20261025T020000
TZOFFSETFROM:+0100
TZOFFSETTO:+0200
TZNAME:Europe/Paris CEST
END:DAYLIGHT
END:VTIMEZONE
BEGIN:VEVENT
UID:6cd47e49c4c224a4da9a6a3e13f25565
CATEGORIES:Compétition Ski de Fond
CREATED:20171121T093310
SUMMARY:TRACE VOSGIENNE  BIG-MAT-ATOMIC N°6  U14 et U16
URL;VALUE=URI:https://skivosges.net/agenda/detailevenement/890/-/trace-vosgienne-big-mat-
 atomic-n-6-u14-et-u16?tmpl=component
DESCRIPTION:<!-- #gskiepreuve code généré par le plugin jevents pour GskiEpreuves. Ne p
 as modifier cette ligne, ni tout le contenu suivant  #gskiepreuve --><div c
 lass="gski-evenement_infos"><div class="gski-evenement-nom">TRACE VOSGIENNE
   BIG-MAT-ATOMIC N°6  U14 et U16</div><div class="gski-evenement-report"></
 div><ul class="gski-evenement-liste-infos"><li>Codex évenement FMVT0070</li
 ><li>Station : LA BRESSE LISPACH</li><li>Organisateur : 14469 A.S GERARDMER
  SKI NORDIQUE</li><li>Courriel : <!-- Cette adresse électronique est protég
 ée contre les robots spammeurs. --><span class="cloaked_email ep_0e7c4392">
 <span data-ep-a="fr&#97;n" data-ep-b=".f&#114;"><span data-ep-a="&#99;&#105
 ;&#115;&#46;" data-ep-b="&#98;box"><span data-ep-a="k&#105;&#101;n" data-ep
 -b="&#116;&#122;&#121;&#64;"></span></span></span></span><script>RegularLab
 s.EmailProtector.unCloak("ep_0e7c4392");</script></li><li><span class="gski
 -evenement-obs">Délégué Technique : FISCHER MARC</span></li></ul><div class
 ="gski-evenement-infos-2"><div class="gski-evenement-info-inscriptions"><di
 v class="gski-evenement-inscriptions-periodes">Période d'inscription à l'ev
 ènement du dimanche 07 janvier 2018 à 00:00 au vendredi 12 janvier 2018 à 1
 9:00 <span class="gski-evenement-inscriptions-impossibles">(Inscriptions im
 possibles).</span><div class="gski-evenement-inscriptions-types-titres">Ins
 criptions ouvertes aux detenteurs des titres Fédéraux valides suivants : Li
 cenciés Compétiteurs</div></div></div><div class="gski-evenement-epreuves">
 <div class="gski-evenement-epreuves-titres">Epreuves :</div><ul class="gski
 -evenement-epreuves-list"><li><div class="gski-epreuve-date">Le dimanche 14
  janvier 2018</div><ul class="gski-epreuve-liste-infos"><li>Codex épreuve F
 MVF0071</li><li>Mass Start (Depart ligne)</li><li>Catégorie(s) : U14 (Fille
 s)</li></ul></li><li><div class="gski-epreuve-date">Le dimanche 14 janvier 
 2018</div><ul class="gski-epreuve-liste-infos"><li>Codex épreuve FMVF0072</
 li><li>Mass Start (Depart ligne)</li><li>Catégorie(s) : U16 (Filles)</li></
 ul></li><li><div class="gski-epreuve-date">Le dimanche 14 janvier 2018</div
 ><ul class="gski-epreuve-liste-infos"><li>Codex épreuve FMVF0073</li><li>Fo
 nd Populaire (depart en ligne)</li><li>Catégorie(s) : U18/U20 (Dames)</li><
 /ul></li><li><div class="gski-epreuve-date">Le dimanche 14 janvier 2018</di
 v><ul class="gski-epreuve-liste-infos"><li>Codex épreuve FMVF0074</li><li>F
 ond Populaire (depart en ligne)</li><li>Catégorie(s) : Senior (Dames)</li><
 /ul></li><li><div class="gski-epreuve-date">Le dimanche 14 janvier 2018</di
 v><ul class="gski-epreuve-liste-infos"><li>Codex épreuve FMVM0071</li><li>M
 ass Start (Depart ligne)</li><li>Catégorie(s) : U14 (Garçons)</li></ul></li
 ><li><div class="gski-epreuve-date">Le dimanche 14 janvier 2018</div><ul cl
 ass="gski-epreuve-liste-infos"><li>Codex épreuve FMVM0072</li><li>Mass Star
 t (Depart ligne)</li><li>Catégorie(s) : U16 (Garçons)</li></ul></li><li><di
 v class="gski-epreuve-date">Le dimanche 14 janvier 2018</div><ul class="gsk
 i-epreuve-liste-infos"><li>Codex épreuve FMVM0073</li><li>Fond Populaire (d
 epart en ligne)</li><li>Catégorie(s) : U18/U20 (Hommes)</li></ul></li><li><
 div class="gski-epreuve-date">Le dimanche 14 janvier 2018</div><ul class="g
 ski-epreuve-liste-infos"><li>Codex épreuve FMVM0074</li><li>Fond Populaire 
 (depart en ligne)</li><li>Catégorie(s) : Senior (Hommes)</li></ul></li></ul
 ></div><div class="gskiepreuves-links"><ul><li><a href="/index.php?option=c
 om_jevents&task=icalevent.detail&evid=885&Itemid=1703">Voir les information
 s dans l'agenda...</a></li><li><a href="/index.php?option=com_gskiepreuves&
 view=afficheresultats&format_option=tous&filter[search]=FMVT0070&filter[dat
 e_debut]=14-01-2018&filter[date_fin]=14-01-2018&code_activite=FOND&Itemid=1
 703">Vers les résultats...</a></li></ul></div></div"><!-- #/gskiepreuve fin
  du dode généré par le plugin jevents pour GskiEpreuves. . Ne pas modifier 
 cette ligne, ni tout le contenu précedant.  #/gskiepreuve --> <a href="http
 s://skivosges.net/agenda/detailevenement/890/-/trace-vosgienne-big-mat-atom
 ic-n-6-u14-et-u16?tmpl=component">Cet évènement a été importé depuis :https
 ://skivosges.net/agenda/detailevenement/890/-/trace-vosgienne-big-mat-atomi
 c-n-6-u14-et-u16?tmpl=component</a>
X-ALT-DESC;FMTTYPE=text/html:<!-- #gskiepreuve code généré par le plugin jevents pour GskiEpreuves. Ne p
 as modifier cette ligne, ni tout le contenu suivant  #gskiepreuve --><div c
 lass="gski-evenement_infos"><div class="gski-evenement-nom">TRACE VOSGIENNE
   BIG-MAT-ATOMIC N°6  U14 et U16</div><div class="gski-evenement-report"></
 div><ul class="gski-evenement-liste-infos"><li>Codex évenement FMVT0070</li
 ><li>Station : LA BRESSE LISPACH</li><li>Organisateur : 14469 A.S GERARDMER
  SKI NORDIQUE</li><li>Courriel : <!-- Cette adresse électronique est protég
 ée contre les robots spammeurs. --><span class="cloaked_email ep_0e7c4392">
 <span data-ep-a="fr&#97;n" data-ep-b=".f&#114;"><span data-ep-a="&#99;&#105
 ;&#115;&#46;" data-ep-b="&#98;box"><span data-ep-a="k&#105;&#101;n" data-ep
 -b="&#116;&#122;&#121;&#64;"></span></span></span></span><script>RegularLab
 s.EmailProtector.unCloak("ep_0e7c4392");</script></li><li><span class="gski
 -evenement-obs">Délégué Technique : FISCHER MARC</span></li></ul><div class
 ="gski-evenement-infos-2"><div class="gski-evenement-info-inscriptions"><di
 v class="gski-evenement-inscriptions-periodes">Période d'inscription à l'ev
 ènement du dimanche 07 janvier 2018 à 00:00 au vendredi 12 janvier 2018 à 1
 9:00 <span class="gski-evenement-inscriptions-impossibles">(Inscriptions im
 possibles).</span><div class="gski-evenement-inscriptions-types-titres">Ins
 criptions ouvertes aux detenteurs des titres Fédéraux valides suivants : Li
 cenciés Compétiteurs</div></div></div><div class="gski-evenement-epreuves">
 <div class="gski-evenement-epreuves-titres">Epreuves :</div><ul class="gski
 -evenement-epreuves-list"><li><div class="gski-epreuve-date">Le dimanche 14
  janvier 2018</div><ul class="gski-epreuve-liste-infos"><li>Codex épreuve F
 MVF0071</li><li>Mass Start (Depart ligne)</li><li>Catégorie(s) : U14 (Fille
 s)</li></ul></li><li><div class="gski-epreuve-date">Le dimanche 14 janvier 
 2018</div><ul class="gski-epreuve-liste-infos"><li>Codex épreuve FMVF0072</
 li><li>Mass Start (Depart ligne)</li><li>Catégorie(s) : U16 (Filles)</li></
 ul></li><li><div class="gski-epreuve-date">Le dimanche 14 janvier 2018</div
 ><ul class="gski-epreuve-liste-infos"><li>Codex épreuve FMVF0073</li><li>Fo
 nd Populaire (depart en ligne)</li><li>Catégorie(s) : U18/U20 (Dames)</li><
 /ul></li><li><div class="gski-epreuve-date">Le dimanche 14 janvier 2018</di
 v><ul class="gski-epreuve-liste-infos"><li>Codex épreuve FMVF0074</li><li>F
 ond Populaire (depart en ligne)</li><li>Catégorie(s) : Senior (Dames)</li><
 /ul></li><li><div class="gski-epreuve-date">Le dimanche 14 janvier 2018</di
 v><ul class="gski-epreuve-liste-infos"><li>Codex épreuve FMVM0071</li><li>M
 ass Start (Depart ligne)</li><li>Catégorie(s) : U14 (Garçons)</li></ul></li
 ><li><div class="gski-epreuve-date">Le dimanche 14 janvier 2018</div><ul cl
 ass="gski-epreuve-liste-infos"><li>Codex épreuve FMVM0072</li><li>Mass Star
 t (Depart ligne)</li><li>Catégorie(s) : U16 (Garçons)</li></ul></li><li><di
 v class="gski-epreuve-date">Le dimanche 14 janvier 2018</div><ul class="gsk
 i-epreuve-liste-infos"><li>Codex épreuve FMVM0073</li><li>Fond Populaire (d
 epart en ligne)</li><li>Catégorie(s) : U18/U20 (Hommes)</li></ul></li><li><
 div class="gski-epreuve-date">Le dimanche 14 janvier 2018</div><ul class="g
 ski-epreuve-liste-infos"><li>Codex épreuve FMVM0074</li><li>Fond Populaire 
 (depart en ligne)</li><li>Catégorie(s) : Senior (Hommes)</li></ul></li></ul
 ></div><div class="gskiepreuves-links"><ul><li><a href="https://skivosges.n
 et/index.php?option=com_jevents&task=icalevent.detail&evid=885&Itemid=1703"
 >Voir les informations dans l'agenda...</a></li><li><a href="https://skivos
 ges.net/index.php?option=com_gskiepreuves&view=afficheresultats&format_opti
 on=tous&filter[search]=FMVT0070&filter[date_debut]=14-01-2018&filter[date_f
 in]=14-01-2018&code_activite=FOND&Itemid=1703">Vers les résultats...</a></l
 i></ul></div></div"><!-- #/gskiepreuve fin du dode généré par le plugin jev
 ents pour GskiEpreuves. . Ne pas modifier cette ligne, ni tout le contenu p
 récedant.  #/gskiepreuve --> <a href="https://skivosges.net/agenda/detailev
 enement/890/-/trace-vosgienne-big-mat-atomic-n-6-u14-et-u16?tmpl=component"
 >Cet évènement a été importé depuis :https://skivosges.net/agenda/detaileve
 nement/890/-/trace-vosgienne-big-mat-atomic-n-6-u14-et-u16?tmpl=component</
 a>DTSTAMP:20260421T051416
DTSTART;TZID=Europe/Paris;VALUE=DATE:20180114
DTEND;TZID=Europe/Paris;VALUE=DATE:20180115
SEQUENCE:0
TRANSP:OPAQUE
END:VEVENT
END:VCALENDAR