BEGIN:VCALENDAR
VERSION:2.0
PRODID:-//jEvents 2.0 for Joomla//EN
CALSCALE:GREGORIAN
METHOD:PUBLISH
BEGIN:VTIMEZONE
TZID:Europe/Paris
BEGIN:STANDARD
DTSTART:20170113T000000
RDATE:20170326T030000
TZOFFSETFROM:+0200
TZOFFSETTO:+0100
TZNAME:Europe/Paris CET
END:STANDARD
BEGIN:STANDARD
DTSTART:20171029T020000
RDATE:20180325T030000
TZOFFSETFROM:+0200
TZOFFSETTO:+0100
TZNAME:Europe/Paris CET
END:STANDARD
BEGIN:STANDARD
DTSTART:20181028T020000
RDATE:20190331T030000
TZOFFSETFROM:+0200
TZOFFSETTO:+0100
TZNAME:Europe/Paris CET
END:STANDARD
BEGIN:STANDARD
DTSTART:20191027T020000
RDATE:20200329T030000
TZOFFSETFROM:+0200
TZOFFSETTO:+0100
TZNAME:Europe/Paris CET
END:STANDARD
BEGIN:STANDARD
DTSTART:20201025T020000
RDATE:20210328T030000
TZOFFSETFROM:+0200
TZOFFSETTO:+0100
TZNAME:Europe/Paris CET
END:STANDARD
BEGIN:STANDARD
DTSTART:20211031T020000
RDATE:20220327T030000
TZOFFSETFROM:+0200
TZOFFSETTO:+0100
TZNAME:Europe/Paris CET
END:STANDARD
BEGIN:STANDARD
DTSTART:20221030T020000
RDATE:20230326T030000
TZOFFSETFROM:+0200
TZOFFSETTO:+0100
TZNAME:Europe/Paris CET
END:STANDARD
BEGIN:STANDARD
DTSTART:20231029T020000
RDATE:20240331T030000
TZOFFSETFROM:+0200
TZOFFSETTO:+0100
TZNAME:Europe/Paris CET
END:STANDARD
BEGIN:STANDARD
DTSTART:20241027T020000
RDATE:20250330T030000
TZOFFSETFROM:+0200
TZOFFSETTO:+0100
TZNAME:Europe/Paris CET
END:STANDARD
BEGIN:STANDARD
DTSTART:20251026T020000
RDATE:20260329T030000
TZOFFSETFROM:+0200
TZOFFSETTO:+0100
TZNAME:Europe/Paris CET
END:STANDARD
BEGIN:STANDARD
DTSTART:20261025T020000
RDATE:20270328T030000
TZOFFSETFROM:+0200
TZOFFSETTO:+0100
TZNAME:Europe/Paris CET
END:STANDARD
BEGIN:DAYLIGHT
DTSTART:20170326T030000
RDATE:20171029T020000
TZOFFSETFROM:+0100
TZOFFSETTO:+0200
TZNAME:Europe/Paris CEST
END:DAYLIGHT
BEGIN:DAYLIGHT
DTSTART:20180325T030000
RDATE:20181028T020000
TZOFFSETFROM:+0100
TZOFFSETTO:+0200
TZNAME:Europe/Paris CEST
END:DAYLIGHT
BEGIN:DAYLIGHT
DTSTART:20190331T030000
RDATE:20191027T020000
TZOFFSETFROM:+0100
TZOFFSETTO:+0200
TZNAME:Europe/Paris CEST
END:DAYLIGHT
BEGIN:DAYLIGHT
DTSTART:20200329T030000
RDATE:20201025T020000
TZOFFSETFROM:+0100
TZOFFSETTO:+0200
TZNAME:Europe/Paris CEST
END:DAYLIGHT
BEGIN:DAYLIGHT
DTSTART:20210328T030000
RDATE:20211031T020000
TZOFFSETFROM:+0100
TZOFFSETTO:+0200
TZNAME:Europe/Paris CEST
END:DAYLIGHT
BEGIN:DAYLIGHT
DTSTART:20220327T030000
RDATE:20221030T020000
TZOFFSETFROM:+0100
TZOFFSETTO:+0200
TZNAME:Europe/Paris CEST
END:DAYLIGHT
BEGIN:DAYLIGHT
DTSTART:20230326T030000
RDATE:20231029T020000
TZOFFSETFROM:+0100
TZOFFSETTO:+0200
TZNAME:Europe/Paris CEST
END:DAYLIGHT
BEGIN:DAYLIGHT
DTSTART:20240331T030000
RDATE:20241027T020000
TZOFFSETFROM:+0100
TZOFFSETTO:+0200
TZNAME:Europe/Paris CEST
END:DAYLIGHT
BEGIN:DAYLIGHT
DTSTART:20250330T030000
RDATE:20251026T020000
TZOFFSETFROM:+0100
TZOFFSETTO:+0200
TZNAME:Europe/Paris CEST
END:DAYLIGHT
BEGIN:DAYLIGHT
DTSTART:20260329T030000
RDATE:20261025T020000
TZOFFSETFROM:+0100
TZOFFSETTO:+0200
TZNAME:Europe/Paris CEST
END:DAYLIGHT
END:VTIMEZONE
BEGIN:VEVENT
UID:13c36419ec93640787828c768f446ba0
CATEGORIES:Compétition Ski de Fond
CREATED:20171121T093310
SUMMARY:LA TRACE VOSGIENNE
URL;VALUE=URI:https://skivosges.net/agenda/detailevenement/891/-/la-trace-vosgienne?tmpl=
 component
DESCRIPTION:<!-- #gskiepreuve code généré par le plugin jevents pour GskiEpreuves. Ne p
 as modifier cette ligne, ni tout le contenu suivant  #gskiepreuve --><div c
 lass="gski-evenement_infos"><div class="gski-evenement-nom">LA TRACE VOSGIE
 NNE</div><div class="gski-evenement-report"></div><ul class="gski-evenement
 -liste-infos"><li>Codex évenement FNAT0200</li><li>Station : LA BRESSE</li>
 <li>Organisateur : 14469 A.S GERARDMER SKI NORDIQUE</li><li>Courriel : <!--
  Cette adresse électronique est protégée contre les robots spammeurs. --><s
 pan class="cloaked_email ep_dbb90e11"><span data-ep-a="chr&#105;" data-ep-b
 ="&#111;.f&#114;"><span data-ep-b="&#121;aho" data-ep-a="stia"><span data-e
 p-a="&#110;&#46;&#98;a" data-ep-b="t&#111;z&#64;"></span></span></span></sp
 an><script>RegularLabs.EmailProtector.unCloak("ep_dbb90e11");</script></li>
 </ul><div class="gski-evenement-infos-2"><div class="gski-evenement-info-in
 scriptions"><div class="gski-evenement-inscriptions-periodes">Période d'ins
 cription à l'evènement du dimanche 07 janvier 2018 à 00:00 au vendredi 12 j
 anvier 2018 à 12:00 <span class="gski-evenement-inscriptions-impossibles">(
 Inscriptions impossibles).</span><div class="gski-evenement-inscriptions-ty
 pes-titres">Inscriptions ouvertes aux detenteurs des titres Fédéraux valide
 s suivants : Licenciés Compétiteurs</div></div></div><div class="gski-evene
 ment-epreuves"><div class="gski-evenement-epreuves-titres">Epreuves :</div>
 <ul class="gski-evenement-epreuves-list"><li><div class="gski-epreuve-date"
 >Le dimanche 14 janvier 2018</div><ul class="gski-epreuve-liste-infos"><li>
 Codex épreuve FNAM0201</li><li>Fond Populaire (depart en ligne)</li><li>Cat
 égorie(s) : U16 a M12 (Garçons)</li></ul></li><li><div class="gski-epreuve-
 date">Le dimanche 14 janvier 2018</div><ul class="gski-epreuve-liste-infos"
 ><li>Codex épreuve FNAF0201</li><li>Fond Populaire (depart en ligne)</li><l
 i>Catégorie(s) : U16 a M12 (Filles)</li></ul></li><li><div class="gski-epre
 uve-date">Le dimanche 14 janvier 2018</div><ul class="gski-epreuve-liste-in
 fos"><li>Codex épreuve FNAF0202</li><li>Fond Populaire (depart en ligne)</l
 i><li>Catégorie(s) : U18 a M12 (Dames)</li></ul></li><li><div class="gski-e
 preuve-date">Le dimanche 14 janvier 2018</div><ul class="gski-epreuve-liste
 -infos"><li>Codex épreuve FNAM0202</li><li>Fond Populaire (depart en ligne)
 </li><li>Catégorie(s) : U18 a M12 (Hommes)</li></ul></li><li><div class="gs
 ki-epreuve-date">Le dimanche 14 janvier 2018</div><ul class="gski-epreuve-l
 iste-infos"><li>Codex épreuve FNAM0203</li><li>Fond Populaire (depart en li
 gne)</li><li>Catégorie(s) : Senior a Master12 (Hommes)</li></ul></li><li><d
 iv class="gski-epreuve-date">Le dimanche 14 janvier 2018</div><ul class="gs
 ki-epreuve-liste-infos"><li>Codex épreuve FNAF0203</li><li>Fond Populaire (
 depart en ligne)</li><li>Catégorie(s) : Senior a Master12 (Dames)</li></ul>
 </li></ul></div><div class="gskiepreuves-links"><ul><li><a href="/index.php
 ?option=com_jevents&task=icalevent.detail&evid=886&Itemid=1703">Voir les in
 formations dans l'agenda...</a></li><li><a href="/index.php?option=com_gski
 epreuves&view=afficheresultats&format_option=tous&filter[search]=FNAT0200&f
 ilter[date_debut]=14-01-2018&filter[date_fin]=14-01-2018&code_activite=FOND
 &Itemid=1703">Vers les résultats...</a></li></ul></div></div"><!-- #/gskiep
 reuve fin du dode généré par le plugin jevents pour GskiEpreuves. . Ne pas 
 modifier cette ligne, ni tout le contenu précedant.  #/gskiepreuve --> <a h
 ref="https://skivosges.net/agenda/detailevenement/891/-/la-trace-vosgienne?
 tmpl=component">Cet évènement a été importé depuis :https://skivosges.net/a
 genda/detailevenement/891/-/la-trace-vosgienne?tmpl=component</a>
X-ALT-DESC;FMTTYPE=text/html:<!-- #gskiepreuve code généré par le plugin jevents pour GskiEpreuves. Ne p
 as modifier cette ligne, ni tout le contenu suivant  #gskiepreuve --><div c
 lass="gski-evenement_infos"><div class="gski-evenement-nom">LA TRACE VOSGIE
 NNE</div><div class="gski-evenement-report"></div><ul class="gski-evenement
 -liste-infos"><li>Codex évenement FNAT0200</li><li>Station : LA BRESSE</li>
 <li>Organisateur : 14469 A.S GERARDMER SKI NORDIQUE</li><li>Courriel : <!--
  Cette adresse électronique est protégée contre les robots spammeurs. --><s
 pan class="cloaked_email ep_dbb90e11"><span data-ep-a="chr&#105;" data-ep-b
 ="&#111;.f&#114;"><span data-ep-b="&#121;aho" data-ep-a="stia"><span data-e
 p-a="&#110;&#46;&#98;a" data-ep-b="t&#111;z&#64;"></span></span></span></sp
 an><script>RegularLabs.EmailProtector.unCloak("ep_dbb90e11");</script></li>
 </ul><div class="gski-evenement-infos-2"><div class="gski-evenement-info-in
 scriptions"><div class="gski-evenement-inscriptions-periodes">Période d'ins
 cription à l'evènement du dimanche 07 janvier 2018 à 00:00 au vendredi 12 j
 anvier 2018 à 12:00 <span class="gski-evenement-inscriptions-impossibles">(
 Inscriptions impossibles).</span><div class="gski-evenement-inscriptions-ty
 pes-titres">Inscriptions ouvertes aux detenteurs des titres Fédéraux valide
 s suivants : Licenciés Compétiteurs</div></div></div><div class="gski-evene
 ment-epreuves"><div class="gski-evenement-epreuves-titres">Epreuves :</div>
 <ul class="gski-evenement-epreuves-list"><li><div class="gski-epreuve-date"
 >Le dimanche 14 janvier 2018</div><ul class="gski-epreuve-liste-infos"><li>
 Codex épreuve FNAM0201</li><li>Fond Populaire (depart en ligne)</li><li>Cat
 égorie(s) : U16 a M12 (Garçons)</li></ul></li><li><div class="gski-epreuve-
 date">Le dimanche 14 janvier 2018</div><ul class="gski-epreuve-liste-infos"
 ><li>Codex épreuve FNAF0201</li><li>Fond Populaire (depart en ligne)</li><l
 i>Catégorie(s) : U16 a M12 (Filles)</li></ul></li><li><div class="gski-epre
 uve-date">Le dimanche 14 janvier 2018</div><ul class="gski-epreuve-liste-in
 fos"><li>Codex épreuve FNAF0202</li><li>Fond Populaire (depart en ligne)</l
 i><li>Catégorie(s) : U18 a M12 (Dames)</li></ul></li><li><div class="gski-e
 preuve-date">Le dimanche 14 janvier 2018</div><ul class="gski-epreuve-liste
 -infos"><li>Codex épreuve FNAM0202</li><li>Fond Populaire (depart en ligne)
 </li><li>Catégorie(s) : U18 a M12 (Hommes)</li></ul></li><li><div class="gs
 ki-epreuve-date">Le dimanche 14 janvier 2018</div><ul class="gski-epreuve-l
 iste-infos"><li>Codex épreuve FNAM0203</li><li>Fond Populaire (depart en li
 gne)</li><li>Catégorie(s) : Senior a Master12 (Hommes)</li></ul></li><li><d
 iv class="gski-epreuve-date">Le dimanche 14 janvier 2018</div><ul class="gs
 ki-epreuve-liste-infos"><li>Codex épreuve FNAF0203</li><li>Fond Populaire (
 depart en ligne)</li><li>Catégorie(s) : Senior a Master12 (Dames)</li></ul>
 </li></ul></div><div class="gskiepreuves-links"><ul><li><a href="https://sk
 ivosges.net/index.php?option=com_jevents&task=icalevent.detail&evid=886&Ite
 mid=1703">Voir les informations dans l'agenda...</a></li><li><a href="https
 ://skivosges.net/index.php?option=com_gskiepreuves&view=afficheresultats&fo
 rmat_option=tous&filter[search]=FNAT0200&filter[date_debut]=14-01-2018&filt
 er[date_fin]=14-01-2018&code_activite=FOND&Itemid=1703">Vers les résultats.
 ..</a></li></ul></div></div"><!-- #/gskiepreuve fin du dode généré par le p
 lugin jevents pour GskiEpreuves. . Ne pas modifier cette ligne, ni tout le 
 contenu précedant.  #/gskiepreuve --> <a href="https://skivosges.net/agenda
 /detailevenement/891/-/la-trace-vosgienne?tmpl=component">Cet évènement a é
 té importé depuis :https://skivosges.net/agenda/detailevenement/891/-/la-tr
 ace-vosgienne?tmpl=component</a>DTSTAMP:20260421T051404
DTSTART;TZID=Europe/Paris;VALUE=DATE:20180114
DTEND;TZID=Europe/Paris;VALUE=DATE:20180115
SEQUENCE:0
TRANSP:OPAQUE
END:VEVENT
END:VCALENDAR