BEGIN:VCALENDAR
VERSION:2.0
PRODID:-//jEvents 2.0 for Joomla//EN
CALSCALE:GREGORIAN
METHOD:PUBLISH
BEGIN:VTIMEZONE
TZID:Europe/Paris
BEGIN:STANDARD
DTSTART:20170113T000000
RDATE:20170326T030000
TZOFFSETFROM:+0200
TZOFFSETTO:+0100
TZNAME:Europe/Paris CET
END:STANDARD
BEGIN:STANDARD
DTSTART:20171029T020000
RDATE:20180325T030000
TZOFFSETFROM:+0200
TZOFFSETTO:+0100
TZNAME:Europe/Paris CET
END:STANDARD
BEGIN:STANDARD
DTSTART:20181028T020000
RDATE:20190331T030000
TZOFFSETFROM:+0200
TZOFFSETTO:+0100
TZNAME:Europe/Paris CET
END:STANDARD
BEGIN:STANDARD
DTSTART:20191027T020000
RDATE:20200329T030000
TZOFFSETFROM:+0200
TZOFFSETTO:+0100
TZNAME:Europe/Paris CET
END:STANDARD
BEGIN:STANDARD
DTSTART:20201025T020000
RDATE:20210328T030000
TZOFFSETFROM:+0200
TZOFFSETTO:+0100
TZNAME:Europe/Paris CET
END:STANDARD
BEGIN:STANDARD
DTSTART:20211031T020000
RDATE:20220327T030000
TZOFFSETFROM:+0200
TZOFFSETTO:+0100
TZNAME:Europe/Paris CET
END:STANDARD
BEGIN:STANDARD
DTSTART:20221030T020000
RDATE:20230326T030000
TZOFFSETFROM:+0200
TZOFFSETTO:+0100
TZNAME:Europe/Paris CET
END:STANDARD
BEGIN:STANDARD
DTSTART:20231029T020000
RDATE:20240331T030000
TZOFFSETFROM:+0200
TZOFFSETTO:+0100
TZNAME:Europe/Paris CET
END:STANDARD
BEGIN:STANDARD
DTSTART:20241027T020000
RDATE:20250330T030000
TZOFFSETFROM:+0200
TZOFFSETTO:+0100
TZNAME:Europe/Paris CET
END:STANDARD
BEGIN:STANDARD
DTSTART:20251026T020000
RDATE:20260329T030000
TZOFFSETFROM:+0200
TZOFFSETTO:+0100
TZNAME:Europe/Paris CET
END:STANDARD
BEGIN:STANDARD
DTSTART:20261025T020000
RDATE:20270328T030000
TZOFFSETFROM:+0200
TZOFFSETTO:+0100
TZNAME:Europe/Paris CET
END:STANDARD
BEGIN:DAYLIGHT
DTSTART:20170326T030000
RDATE:20171029T020000
TZOFFSETFROM:+0100
TZOFFSETTO:+0200
TZNAME:Europe/Paris CEST
END:DAYLIGHT
BEGIN:DAYLIGHT
DTSTART:20180325T030000
RDATE:20181028T020000
TZOFFSETFROM:+0100
TZOFFSETTO:+0200
TZNAME:Europe/Paris CEST
END:DAYLIGHT
BEGIN:DAYLIGHT
DTSTART:20190331T030000
RDATE:20191027T020000
TZOFFSETFROM:+0100
TZOFFSETTO:+0200
TZNAME:Europe/Paris CEST
END:DAYLIGHT
BEGIN:DAYLIGHT
DTSTART:20200329T030000
RDATE:20201025T020000
TZOFFSETFROM:+0100
TZOFFSETTO:+0200
TZNAME:Europe/Paris CEST
END:DAYLIGHT
BEGIN:DAYLIGHT
DTSTART:20210328T030000
RDATE:20211031T020000
TZOFFSETFROM:+0100
TZOFFSETTO:+0200
TZNAME:Europe/Paris CEST
END:DAYLIGHT
BEGIN:DAYLIGHT
DTSTART:20220327T030000
RDATE:20221030T020000
TZOFFSETFROM:+0100
TZOFFSETTO:+0200
TZNAME:Europe/Paris CEST
END:DAYLIGHT
BEGIN:DAYLIGHT
DTSTART:20230326T030000
RDATE:20231029T020000
TZOFFSETFROM:+0100
TZOFFSETTO:+0200
TZNAME:Europe/Paris CEST
END:DAYLIGHT
BEGIN:DAYLIGHT
DTSTART:20240331T030000
RDATE:20241027T020000
TZOFFSETFROM:+0100
TZOFFSETTO:+0200
TZNAME:Europe/Paris CEST
END:DAYLIGHT
BEGIN:DAYLIGHT
DTSTART:20250330T030000
RDATE:20251026T020000
TZOFFSETFROM:+0100
TZOFFSETTO:+0200
TZNAME:Europe/Paris CEST
END:DAYLIGHT
BEGIN:DAYLIGHT
DTSTART:20260329T030000
RDATE:20261025T020000
TZOFFSETFROM:+0100
TZOFFSETTO:+0200
TZNAME:Europe/Paris CEST
END:DAYLIGHT
END:VTIMEZONE
BEGIN:VEVENT
UID:35d0a426b4f71fb228bae0eeb9f9999b
CATEGORIES:Circuit Massif D2 (alpin)
CREATED:20171121T093310
SUMMARY:CD2 Coupe du CESA Haute-Thur
URL;VALUE=URI:https://skivosges.net/agenda/detailevenement/893/-/cd2-coupe-du-cesa-haute-
 thur?tmpl=component
DESCRIPTION:<!-- #gskiepreuve code généré par le plugin jevents pour GskiEpreuves. Ne p
 as modifier cette ligne, ni tout le contenu suivant  #gskiepreuve --><div c
 lass="gski-evenement_infos"><div class="gski-evenement-nom">CD2 Coupe du CE
 SA Haute-Thur</div><div class="gski-evenement-report"></div><ul class="gski
 -evenement-liste-infos"><li>Codex évenement AMVT0120</li><li>Station : MARK
 STEIN</li><li>Organisateur : 14058 SKI CLUB EDELWEISS SAINT AMARIN</li><li>
 Courriel : <!-- Cette adresse électronique est protégée contre les robots s
 pammeurs. --><span class="cloaked_email ep_c2e77992"><span data-ep-a="&#109
 ;atth" data-ep-b=""><span data-ep-a="&#105;e&#117;&#46;&#103;" data-ep-b="g
 e.&#102;&#114;"><span data-ep-b="&#64;&#111;&#114;&#97;n" data-ep-a="&#101;
 &#114;re&#114;"></span></span></span></span><script>RegularLabs.EmailProtec
 tor.unCloak("ep_c2e77992");</script></li><li>Téléphone : 06 82 36 24 20</li
 ><li><span class="gski-evenement-obs">Délégué Technique : KOENIG DANIEL</sp
 an></li></ul><div class="gski-evenement-infos-2"><div class="gski-evenement
 -info-inscriptions"><div class="gski-evenement-inscriptions-periodes">Pério
 de d'inscription à l'evènement du dimanche 07 janvier 2018 à 00:00 au samed
 i 13 janvier 2018 à 10:00 <span class="gski-evenement-inscriptions-impossib
 les">(Inscriptions impossibles).</span><div class="gski-evenement-inscripti
 ons-types-titres">Inscriptions ouvertes aux detenteurs des titres Fédéraux 
 valides suivants : Licenciés Compétiteurs</div></div></div><div class="gski
 -evenement-epreuves"><div class="gski-evenement-epreuves-titres">Epreuves :
 </div><ul class="gski-evenement-epreuves-list"><li><div class="gski-epreuve
 -date">Le dimanche 14 janvier 2018</div><ul class="gski-epreuve-liste-infos
 "><li>Codex épreuve AMVM0121</li><li>Slalom</li><li>Catégorie(s) : U16 (Gar
 çons)</li></ul></li><li><div class="gski-epreuve-date">Le dimanche 14 janvi
 er 2018</div><ul class="gski-epreuve-liste-infos"><li>Codex épreuve AMVF012
 1</li><li>Slalom</li><li>Catégorie(s) : U16 (Filles)</li></ul></li><li><div
  class="gski-epreuve-date">Le dimanche 14 janvier 2018</div><ul class="gski
 -epreuve-liste-infos"><li>Codex épreuve AMVF0122</li><li>Slalom</li><li>Cat
 égorie(s) : U18 a Masters (Dames)</li></ul></li><li><div class="gski-epreuv
 e-date">Le dimanche 14 janvier 2018</div><ul class="gski-epreuve-liste-info
 s"><li>Codex épreuve AMVM0122</li><li>Slalom</li><li>Catégorie(s) : U18 a M
 asters (Hommes)</li></ul></li></ul></div><div class="gskiepreuves-links"><u
 l><li><a href="/index.php?option=com_jevents&task=icalevent.detail&evid=888
 &Itemid=1703">Voir les informations dans l'agenda...</a></li><li><a href="/
 index.php?option=com_gskiepreuves&view=afficheresultats&format_option=tous&
 filter[search]=AMVT0120&filter[date_debut]=14-01-2018&filter[date_fin]=14-0
 1-2018&code_activite=ALP&Itemid=1703">Vers les résultats...</a></li></ul></
 div></div"><!-- #/gskiepreuve fin du dode généré par le plugin jevents pour
  GskiEpreuves. . Ne pas modifier cette ligne, ni tout le contenu précedant.
   #/gskiepreuve --> <a href="https://skivosges.net/agenda/detailevenement/8
 93/-/cd2-coupe-du-cesa-haute-thur?tmpl=component">Cet évènement a été impor
 té depuis :https://skivosges.net/agenda/detailevenement/893/-/cd2-coupe-du-
 cesa-haute-thur?tmpl=component</a>
X-ALT-DESC;FMTTYPE=text/html:<!-- #gskiepreuve code généré par le plugin jevents pour GskiEpreuves. Ne p
 as modifier cette ligne, ni tout le contenu suivant  #gskiepreuve --><div c
 lass="gski-evenement_infos"><div class="gski-evenement-nom">CD2 Coupe du CE
 SA Haute-Thur</div><div class="gski-evenement-report"></div><ul class="gski
 -evenement-liste-infos"><li>Codex évenement AMVT0120</li><li>Station : MARK
 STEIN</li><li>Organisateur : 14058 SKI CLUB EDELWEISS SAINT AMARIN</li><li>
 Courriel : <!-- Cette adresse électronique est protégée contre les robots s
 pammeurs. --><span class="cloaked_email ep_c2e77992"><span data-ep-a="&#109
 ;atth" data-ep-b=""><span data-ep-a="&#105;e&#117;&#46;&#103;" data-ep-b="g
 e.&#102;&#114;"><span data-ep-b="&#64;&#111;&#114;&#97;n" data-ep-a="&#101;
 &#114;re&#114;"></span></span></span></span><script>RegularLabs.EmailProtec
 tor.unCloak("ep_c2e77992");</script></li><li>Téléphone : 06 82 36 24 20</li
 ><li><span class="gski-evenement-obs">Délégué Technique : KOENIG DANIEL</sp
 an></li></ul><div class="gski-evenement-infos-2"><div class="gski-evenement
 -info-inscriptions"><div class="gski-evenement-inscriptions-periodes">Pério
 de d'inscription à l'evènement du dimanche 07 janvier 2018 à 00:00 au samed
 i 13 janvier 2018 à 10:00 <span class="gski-evenement-inscriptions-impossib
 les">(Inscriptions impossibles).</span><div class="gski-evenement-inscripti
 ons-types-titres">Inscriptions ouvertes aux detenteurs des titres Fédéraux 
 valides suivants : Licenciés Compétiteurs</div></div></div><div class="gski
 -evenement-epreuves"><div class="gski-evenement-epreuves-titres">Epreuves :
 </div><ul class="gski-evenement-epreuves-list"><li><div class="gski-epreuve
 -date">Le dimanche 14 janvier 2018</div><ul class="gski-epreuve-liste-infos
 "><li>Codex épreuve AMVM0121</li><li>Slalom</li><li>Catégorie(s) : U16 (Gar
 çons)</li></ul></li><li><div class="gski-epreuve-date">Le dimanche 14 janvi
 er 2018</div><ul class="gski-epreuve-liste-infos"><li>Codex épreuve AMVF012
 1</li><li>Slalom</li><li>Catégorie(s) : U16 (Filles)</li></ul></li><li><div
  class="gski-epreuve-date">Le dimanche 14 janvier 2018</div><ul class="gski
 -epreuve-liste-infos"><li>Codex épreuve AMVF0122</li><li>Slalom</li><li>Cat
 égorie(s) : U18 a Masters (Dames)</li></ul></li><li><div class="gski-epreuv
 e-date">Le dimanche 14 janvier 2018</div><ul class="gski-epreuve-liste-info
 s"><li>Codex épreuve AMVM0122</li><li>Slalom</li><li>Catégorie(s) : U18 a M
 asters (Hommes)</li></ul></li></ul></div><div class="gskiepreuves-links"><u
 l><li><a href="https://skivosges.net/index.php?option=com_jevents&task=ical
 event.detail&evid=888&Itemid=1703">Voir les informations dans l'agenda...</
 a></li><li><a href="https://skivosges.net/index.php?option=com_gskiepreuves
 &view=afficheresultats&format_option=tous&filter[search]=AMVT0120&filter[da
 te_debut]=14-01-2018&filter[date_fin]=14-01-2018&code_activite=ALP&Itemid=1
 703">Vers les résultats...</a></li></ul></div></div"><!-- #/gskiepreuve fin
  du dode généré par le plugin jevents pour GskiEpreuves. . Ne pas modifier 
 cette ligne, ni tout le contenu précedant.  #/gskiepreuve --> <a href="http
 s://skivosges.net/agenda/detailevenement/893/-/cd2-coupe-du-cesa-haute-thur
 ?tmpl=component">Cet évènement a été importé depuis :https://skivosges.net/
 agenda/detailevenement/893/-/cd2-coupe-du-cesa-haute-thur?tmpl=component</a
 >DTSTAMP:20260421T051325
DTSTART;TZID=Europe/Paris;VALUE=DATE:20180114
DTEND;TZID=Europe/Paris;VALUE=DATE:20180115
SEQUENCE:0
TRANSP:OPAQUE
END:VEVENT
END:VCALENDAR