BEGIN:VCALENDAR
VERSION:2.0
PRODID:-//jEvents 2.0 for Joomla//EN
CALSCALE:GREGORIAN
METHOD:PUBLISH
BEGIN:VTIMEZONE
TZID:Europe/Paris
BEGIN:STANDARD
DTSTART:20170113T000000
RDATE:20170326T030000
TZOFFSETFROM:+0200
TZOFFSETTO:+0100
TZNAME:Europe/Paris CET
END:STANDARD
BEGIN:STANDARD
DTSTART:20171029T020000
RDATE:20180325T030000
TZOFFSETFROM:+0200
TZOFFSETTO:+0100
TZNAME:Europe/Paris CET
END:STANDARD
BEGIN:STANDARD
DTSTART:20181028T020000
RDATE:20190331T030000
TZOFFSETFROM:+0200
TZOFFSETTO:+0100
TZNAME:Europe/Paris CET
END:STANDARD
BEGIN:STANDARD
DTSTART:20191027T020000
RDATE:20200329T030000
TZOFFSETFROM:+0200
TZOFFSETTO:+0100
TZNAME:Europe/Paris CET
END:STANDARD
BEGIN:STANDARD
DTSTART:20201025T020000
RDATE:20210328T030000
TZOFFSETFROM:+0200
TZOFFSETTO:+0100
TZNAME:Europe/Paris CET
END:STANDARD
BEGIN:STANDARD
DTSTART:20211031T020000
RDATE:20220327T030000
TZOFFSETFROM:+0200
TZOFFSETTO:+0100
TZNAME:Europe/Paris CET
END:STANDARD
BEGIN:STANDARD
DTSTART:20221030T020000
RDATE:20230326T030000
TZOFFSETFROM:+0200
TZOFFSETTO:+0100
TZNAME:Europe/Paris CET
END:STANDARD
BEGIN:STANDARD
DTSTART:20231029T020000
RDATE:20240331T030000
TZOFFSETFROM:+0200
TZOFFSETTO:+0100
TZNAME:Europe/Paris CET
END:STANDARD
BEGIN:STANDARD
DTSTART:20241027T020000
RDATE:20250330T030000
TZOFFSETFROM:+0200
TZOFFSETTO:+0100
TZNAME:Europe/Paris CET
END:STANDARD
BEGIN:STANDARD
DTSTART:20251026T020000
RDATE:20260329T030000
TZOFFSETFROM:+0200
TZOFFSETTO:+0100
TZNAME:Europe/Paris CET
END:STANDARD
BEGIN:STANDARD
DTSTART:20261025T020000
RDATE:20270328T030000
TZOFFSETFROM:+0200
TZOFFSETTO:+0100
TZNAME:Europe/Paris CET
END:STANDARD
BEGIN:DAYLIGHT
DTSTART:20170326T030000
RDATE:20171029T020000
TZOFFSETFROM:+0100
TZOFFSETTO:+0200
TZNAME:Europe/Paris CEST
END:DAYLIGHT
BEGIN:DAYLIGHT
DTSTART:20180325T030000
RDATE:20181028T020000
TZOFFSETFROM:+0100
TZOFFSETTO:+0200
TZNAME:Europe/Paris CEST
END:DAYLIGHT
BEGIN:DAYLIGHT
DTSTART:20190331T030000
RDATE:20191027T020000
TZOFFSETFROM:+0100
TZOFFSETTO:+0200
TZNAME:Europe/Paris CEST
END:DAYLIGHT
BEGIN:DAYLIGHT
DTSTART:20200329T030000
RDATE:20201025T020000
TZOFFSETFROM:+0100
TZOFFSETTO:+0200
TZNAME:Europe/Paris CEST
END:DAYLIGHT
BEGIN:DAYLIGHT
DTSTART:20210328T030000
RDATE:20211031T020000
TZOFFSETFROM:+0100
TZOFFSETTO:+0200
TZNAME:Europe/Paris CEST
END:DAYLIGHT
BEGIN:DAYLIGHT
DTSTART:20220327T030000
RDATE:20221030T020000
TZOFFSETFROM:+0100
TZOFFSETTO:+0200
TZNAME:Europe/Paris CEST
END:DAYLIGHT
BEGIN:DAYLIGHT
DTSTART:20230326T030000
RDATE:20231029T020000
TZOFFSETFROM:+0100
TZOFFSETTO:+0200
TZNAME:Europe/Paris CEST
END:DAYLIGHT
BEGIN:DAYLIGHT
DTSTART:20240331T030000
RDATE:20241027T020000
TZOFFSETFROM:+0100
TZOFFSETTO:+0200
TZNAME:Europe/Paris CEST
END:DAYLIGHT
BEGIN:DAYLIGHT
DTSTART:20250330T030000
RDATE:20251026T020000
TZOFFSETFROM:+0100
TZOFFSETTO:+0200
TZNAME:Europe/Paris CEST
END:DAYLIGHT
BEGIN:DAYLIGHT
DTSTART:20260329T030000
RDATE:20261025T020000
TZOFFSETFROM:+0100
TZOFFSETTO:+0200
TZNAME:Europe/Paris CEST
END:DAYLIGHT
END:VTIMEZONE
BEGIN:VEVENT
UID:ac5685b8a6f7895952f6e429b3b6318b
CATEGORIES:Circuit Alsace Jeunes (alpin)
CREATED:20171121T093310
SUMMARY:CJA Coupe de Bronze
URL;VALUE=URI:https://skivosges.net/agenda/detailevenement/895/-/cja-coupe-de-bronze?tmpl
 =component
DESCRIPTION:<!-- #gskiepreuve code généré par le plugin jevents pour GskiEpreuves. Ne p
 as modifier cette ligne, ni tout le contenu suivant  #gskiepreuve --><div c
 lass="gski-evenement_infos"><div class="gski-evenement-nom">CJA Coupe de Br
 onze</div><div class="gski-evenement-report"></div><ul class="gski-evenemen
 t-liste-infos"><li>Codex évenement AMVT0140</li><li>Lieu : MARKSTEIN</li><l
 i>Station : MARKSTEIN</li><li>Piste : Stade de Slalom</li><li>Organisateur 
 : 14356 S.C.O.S.E.G. GUEBWILLER</li><li>Courriel : <!-- Cette adresse élect
 ronique est protégée contre les robots spammeurs. --><span class="cloaked_e
 mail ep_452ca5e8"><span data-ep-b="&#102;&#114;" data-ep-a="&#103;&#101;ng"
 ><span data-ep-a="&#46;&#99;&#108;&#97;" data-ep-b="do&#111;."><span data-e
 p-a="&#117;&#100;&#101;&#64;" data-ep-b="&#119;&#97;&#110;&#97;"></span></s
 pan></span></span><script>RegularLabs.EmailProtector.unCloak("ep_452ca5e8")
 ;</script></li><li><span class="gski-evenement-obs">Délégué Technique : FUC
 HS MICHEL</span></li></ul><div class="gski-evenement-infos-2"><div class="g
 ski-evenement-info-inscriptions"><div class="gski-evenement-inscriptions-pe
 riodes">Période d'inscription à l'evènement du lundi 08 janvier 2018 à 00:0
 0 au vendredi 12 janvier 2018 à 18:00 <span class="gski-evenement-inscripti
 ons-impossibles">(Inscriptions impossibles).</span><div class="gski-eveneme
 nt-inscriptions-types-titres">Inscriptions ouvertes aux detenteurs des titr
 es Fédéraux valides suivants : Licenciés Compétiteurs</div></div></div><div
  class="gski-evenement-epreuves"><div class="gski-evenement-epreuves-titres
 ">Epreuves :</div><ul class="gski-evenement-epreuves-list"><li><div class="
 gski-epreuve-date">Le dimanche 14 janvier 2018 à 09:30</div><ul class="gski
 -epreuve-liste-infos"><li>Codex épreuve AMVM0141</li><li>Slalom Geant</li><
 li>Catégorie(s) : U12 (Garçons)</li></ul></li><li><div class="gski-epreuve-
 date">Le dimanche 14 janvier 2018 à 09:30</div><ul class="gski-epreuve-list
 e-infos"><li>Codex épreuve AMVF0141</li><li>Slalom Geant</li><li>Catégorie(
 s) : U12 (Filles)</li></ul></li><li><div class="gski-epreuve-date">Le diman
 che 14 janvier 2018 à 09:30</div><ul class="gski-epreuve-liste-infos"><li>C
 odex épreuve AMVM0142</li><li>Slalom Geant</li><li>Catégorie(s) : U14 (Garç
 ons)</li></ul></li><li><div class="gski-epreuve-date">Le dimanche 14 janvie
 r 2018 à 09:30</div><ul class="gski-epreuve-liste-infos"><li>Codex épreuve 
 AMVF0142</li><li>Slalom Geant</li><li>Catégorie(s) : U14 (Filles)</li></ul>
 </li><li><div class="gski-epreuve-date">Le dimanche 14 janvier 2018 à 09:30
 </div><ul class="gski-epreuve-liste-infos"><li>Codex épreuve AMVF0143</li><
 li>Slalom Geant</li><li>Catégorie(s) : U12/U14 (Filles)</li></ul></li><li><
 div class="gski-epreuve-date">Le dimanche 14 janvier 2018 à 09:30</div><ul 
 class="gski-epreuve-liste-infos"><li>Codex épreuve AMVM0143</li><li>Slalom 
 Geant</li><li>Catégorie(s) : U12/U14 (Garçons)</li></ul></li></ul></div><di
 v class="gskiepreuves-links"><ul><li><a href="/index.php?option=com_jevents
 &task=icalevent.detail&evid=890&Itemid=1703">Voir les informations dans l'a
 genda...</a></li><li><a href="/index.php?option=com_gskiepreuves&view=affic
 heresultats&format_option=tous&filter[search]=AMVT0140&filter[date_debut]=1
 4-01-2018&filter[date_fin]=14-01-2018&code_activite=ALP&Itemid=1703">Vers l
 es résultats...</a></li><li>Publications concernant cet évènement :<ul><li>
 <a href="/index.php?option=com_content&view=article&id=6028&Itemid=1703">Sa
 medi 13 Janvier 2018 à 15:25 : Le 14/01/2018 MARKSTEIN Liste de départs</a>
 </li></ul></li></ul></div></div"><!-- #/gskiepreuve fin du dode généré par 
 le plugin jevents pour GskiEpreuves. . Ne pas modifier cette ligne, ni tout
  le contenu précedant.  #/gskiepreuve --> <a href="https://skivosges.net/ag
 enda/detailevenement/895/-/cja-coupe-de-bronze?tmpl=component">Cet évènemen
 t a été importé depuis :https://skivosges.net/agenda/detailevenement/895/-/
 cja-coupe-de-bronze?tmpl=component</a>
X-ALT-DESC;FMTTYPE=text/html:<!-- #gskiepreuve code généré par le plugin jevents pour GskiEpreuves. Ne p
 as modifier cette ligne, ni tout le contenu suivant  #gskiepreuve --><div c
 lass="gski-evenement_infos"><div class="gski-evenement-nom">CJA Coupe de Br
 onze</div><div class="gski-evenement-report"></div><ul class="gski-evenemen
 t-liste-infos"><li>Codex évenement AMVT0140</li><li>Lieu : MARKSTEIN</li><l
 i>Station : MARKSTEIN</li><li>Piste : Stade de Slalom</li><li>Organisateur 
 : 14356 S.C.O.S.E.G. GUEBWILLER</li><li>Courriel : <!-- Cette adresse élect
 ronique est protégée contre les robots spammeurs. --><span class="cloaked_e
 mail ep_452ca5e8"><span data-ep-b="&#102;&#114;" data-ep-a="&#103;&#101;ng"
 ><span data-ep-a="&#46;&#99;&#108;&#97;" data-ep-b="do&#111;."><span data-e
 p-a="&#117;&#100;&#101;&#64;" data-ep-b="&#119;&#97;&#110;&#97;"></span></s
 pan></span></span><script>RegularLabs.EmailProtector.unCloak("ep_452ca5e8")
 ;</script></li><li><span class="gski-evenement-obs">Délégué Technique : FUC
 HS MICHEL</span></li></ul><div class="gski-evenement-infos-2"><div class="g
 ski-evenement-info-inscriptions"><div class="gski-evenement-inscriptions-pe
 riodes">Période d'inscription à l'evènement du lundi 08 janvier 2018 à 00:0
 0 au vendredi 12 janvier 2018 à 18:00 <span class="gski-evenement-inscripti
 ons-impossibles">(Inscriptions impossibles).</span><div class="gski-eveneme
 nt-inscriptions-types-titres">Inscriptions ouvertes aux detenteurs des titr
 es Fédéraux valides suivants : Licenciés Compétiteurs</div></div></div><div
  class="gski-evenement-epreuves"><div class="gski-evenement-epreuves-titres
 ">Epreuves :</div><ul class="gski-evenement-epreuves-list"><li><div class="
 gski-epreuve-date">Le dimanche 14 janvier 2018 à 09:30</div><ul class="gski
 -epreuve-liste-infos"><li>Codex épreuve AMVM0141</li><li>Slalom Geant</li><
 li>Catégorie(s) : U12 (Garçons)</li></ul></li><li><div class="gski-epreuve-
 date">Le dimanche 14 janvier 2018 à 09:30</div><ul class="gski-epreuve-list
 e-infos"><li>Codex épreuve AMVF0141</li><li>Slalom Geant</li><li>Catégorie(
 s) : U12 (Filles)</li></ul></li><li><div class="gski-epreuve-date">Le diman
 che 14 janvier 2018 à 09:30</div><ul class="gski-epreuve-liste-infos"><li>C
 odex épreuve AMVM0142</li><li>Slalom Geant</li><li>Catégorie(s) : U14 (Garç
 ons)</li></ul></li><li><div class="gski-epreuve-date">Le dimanche 14 janvie
 r 2018 à 09:30</div><ul class="gski-epreuve-liste-infos"><li>Codex épreuve 
 AMVF0142</li><li>Slalom Geant</li><li>Catégorie(s) : U14 (Filles)</li></ul>
 </li><li><div class="gski-epreuve-date">Le dimanche 14 janvier 2018 à 09:30
 </div><ul class="gski-epreuve-liste-infos"><li>Codex épreuve AMVF0143</li><
 li>Slalom Geant</li><li>Catégorie(s) : U12/U14 (Filles)</li></ul></li><li><
 div class="gski-epreuve-date">Le dimanche 14 janvier 2018 à 09:30</div><ul 
 class="gski-epreuve-liste-infos"><li>Codex épreuve AMVM0143</li><li>Slalom 
 Geant</li><li>Catégorie(s) : U12/U14 (Garçons)</li></ul></li></ul></div><di
 v class="gskiepreuves-links"><ul><li><a href="https://skivosges.net/index.p
 hp?option=com_jevents&task=icalevent.detail&evid=890&Itemid=1703">Voir les 
 informations dans l'agenda...</a></li><li><a href="https://skivosges.net/in
 dex.php?option=com_gskiepreuves&view=afficheresultats&format_option=tous&fi
 lter[search]=AMVT0140&filter[date_debut]=14-01-2018&filter[date_fin]=14-01-
 2018&code_activite=ALP&Itemid=1703">Vers les résultats...</a></li><li>Publi
 cations concernant cet évènement :<ul><li><a href="https://skivosges.net/in
 dex.php?option=com_content&view=article&id=6028&Itemid=1703">Samedi 13 Janv
 ier 2018 à 15:25 : Le 14/01/2018 MARKSTEIN Liste de départs</a></li></ul></
 li></ul></div></div"><!-- #/gskiepreuve fin du dode généré par le plugin je
 vents pour GskiEpreuves. . Ne pas modifier cette ligne, ni tout le contenu 
 précedant.  #/gskiepreuve --> <a href="https://skivosges.net/agenda/detaile
 venement/895/-/cja-coupe-de-bronze?tmpl=component">Cet évènement a été impo
 rté depuis :https://skivosges.net/agenda/detailevenement/895/-/cja-coupe-de
 -bronze?tmpl=component</a>DTSTAMP:20260421T051416
DTSTART;TZID=Europe/Paris;VALUE=DATE:20180114
DTEND;TZID=Europe/Paris;VALUE=DATE:20180115
SEQUENCE:0
TRANSP:OPAQUE
END:VEVENT
END:VCALENDAR