BEGIN:VCALENDAR
VERSION:2.0
PRODID:-//jEvents 2.0 for Joomla//EN
CALSCALE:GREGORIAN
METHOD:PUBLISH
BEGIN:VTIMEZONE
TZID:Europe/Paris
BEGIN:STANDARD
DTSTART:20170113T000000
RDATE:20170326T030000
TZOFFSETFROM:+0200
TZOFFSETTO:+0100
TZNAME:Europe/Paris CET
END:STANDARD
BEGIN:STANDARD
DTSTART:20171029T020000
RDATE:20180325T030000
TZOFFSETFROM:+0200
TZOFFSETTO:+0100
TZNAME:Europe/Paris CET
END:STANDARD
BEGIN:STANDARD
DTSTART:20181028T020000
RDATE:20190331T030000
TZOFFSETFROM:+0200
TZOFFSETTO:+0100
TZNAME:Europe/Paris CET
END:STANDARD
BEGIN:STANDARD
DTSTART:20191027T020000
RDATE:20200329T030000
TZOFFSETFROM:+0200
TZOFFSETTO:+0100
TZNAME:Europe/Paris CET
END:STANDARD
BEGIN:STANDARD
DTSTART:20201025T020000
RDATE:20210328T030000
TZOFFSETFROM:+0200
TZOFFSETTO:+0100
TZNAME:Europe/Paris CET
END:STANDARD
BEGIN:STANDARD
DTSTART:20211031T020000
RDATE:20220327T030000
TZOFFSETFROM:+0200
TZOFFSETTO:+0100
TZNAME:Europe/Paris CET
END:STANDARD
BEGIN:STANDARD
DTSTART:20221030T020000
RDATE:20230326T030000
TZOFFSETFROM:+0200
TZOFFSETTO:+0100
TZNAME:Europe/Paris CET
END:STANDARD
BEGIN:STANDARD
DTSTART:20231029T020000
RDATE:20240331T030000
TZOFFSETFROM:+0200
TZOFFSETTO:+0100
TZNAME:Europe/Paris CET
END:STANDARD
BEGIN:STANDARD
DTSTART:20241027T020000
RDATE:20250330T030000
TZOFFSETFROM:+0200
TZOFFSETTO:+0100
TZNAME:Europe/Paris CET
END:STANDARD
BEGIN:STANDARD
DTSTART:20251026T020000
RDATE:20260329T030000
TZOFFSETFROM:+0200
TZOFFSETTO:+0100
TZNAME:Europe/Paris CET
END:STANDARD
BEGIN:STANDARD
DTSTART:20261025T020000
RDATE:20270328T030000
TZOFFSETFROM:+0200
TZOFFSETTO:+0100
TZNAME:Europe/Paris CET
END:STANDARD
BEGIN:DAYLIGHT
DTSTART:20170326T030000
RDATE:20171029T020000
TZOFFSETFROM:+0100
TZOFFSETTO:+0200
TZNAME:Europe/Paris CEST
END:DAYLIGHT
BEGIN:DAYLIGHT
DTSTART:20180325T030000
RDATE:20181028T020000
TZOFFSETFROM:+0100
TZOFFSETTO:+0200
TZNAME:Europe/Paris CEST
END:DAYLIGHT
BEGIN:DAYLIGHT
DTSTART:20190331T030000
RDATE:20191027T020000
TZOFFSETFROM:+0100
TZOFFSETTO:+0200
TZNAME:Europe/Paris CEST
END:DAYLIGHT
BEGIN:DAYLIGHT
DTSTART:20200329T030000
RDATE:20201025T020000
TZOFFSETFROM:+0100
TZOFFSETTO:+0200
TZNAME:Europe/Paris CEST
END:DAYLIGHT
BEGIN:DAYLIGHT
DTSTART:20210328T030000
RDATE:20211031T020000
TZOFFSETFROM:+0100
TZOFFSETTO:+0200
TZNAME:Europe/Paris CEST
END:DAYLIGHT
BEGIN:DAYLIGHT
DTSTART:20220327T030000
RDATE:20221030T020000
TZOFFSETFROM:+0100
TZOFFSETTO:+0200
TZNAME:Europe/Paris CEST
END:DAYLIGHT
BEGIN:DAYLIGHT
DTSTART:20230326T030000
RDATE:20231029T020000
TZOFFSETFROM:+0100
TZOFFSETTO:+0200
TZNAME:Europe/Paris CEST
END:DAYLIGHT
BEGIN:DAYLIGHT
DTSTART:20240331T030000
RDATE:20241027T020000
TZOFFSETFROM:+0100
TZOFFSETTO:+0200
TZNAME:Europe/Paris CEST
END:DAYLIGHT
BEGIN:DAYLIGHT
DTSTART:20250330T030000
RDATE:20251026T020000
TZOFFSETFROM:+0100
TZOFFSETTO:+0200
TZNAME:Europe/Paris CEST
END:DAYLIGHT
BEGIN:DAYLIGHT
DTSTART:20260329T030000
RDATE:20261025T020000
TZOFFSETFROM:+0100
TZOFFSETTO:+0200
TZNAME:Europe/Paris CEST
END:DAYLIGHT
END:VTIMEZONE
BEGIN:VEVENT
UID:8cd23457ceca77c05bfc2fe40faa0ef3
CATEGORIES:Circuit Lorraine Jeunes (alpin)
CREATED:20171121T093310
SUMMARY:CJL Coupe de Bronze  Prix CEERI
URL;VALUE=URI:https://skivosges.net/agenda/detailevenement/896/-/cjl-coupe-de-bronze-prix
 -ceeri?tmpl=component
DESCRIPTION:CJL Coupe de Bronze  Prix CEERI\n - Codex évenement AMVT0150\n - Station : 
 FRERE JOSEPH\n - Piste : Thérèse Leduc\n - Organisateur : 14083 U.S VENTRON
 \n - Courriel : RegularLabs.EmailProtector.unCloak("ep_0a6c2eba");\n - Délé
 gué Technique : RUER ALAINPériode d'inscription à l'evènement du dimanche 0
 7 janvier 2018 à 00:00 au vendredi 12 janvier 2018 à 17:00 (Inscriptions im
 possibles).Inscriptions ouvertes aux detenteurs des titres Fédéraux valides
  suivants : Licenciés CompétiteursEpreuves :\n - Le dimanche 14 janvier 201
 8 à 10:00\n - Codex épreuve AMVM0151\n - Slalom\n - Catégorie(s) : U12 (Gar
 çons)\n - Le dimanche 14 janvier 2018 à 10:00\n - Codex épreuve AMVF0151\n 
 - Slalom\n - Catégorie(s) : U12 (Filles)\n - Le dimanche 14 janvier 2018 à 
 10:00\n - Codex épreuve AMVM0152\n - Slalom\n - Catégorie(s) : U14 (Garçons
 )\n - Le dimanche 14 janvier 2018 à 10:00\n - Codex épreuve AMVF0152\n - Sl
 alom\n - Catégorie(s) : U14 (Filles)\n - Le dimanche 14 janvier 2018 à 10:0
 0\n - Codex épreuve AMVM0153\n - Slalom\n - Catégorie(s) : U12/U14 (Garçons
 )\n - Le dimanche 14 janvier 2018 à 10:00\n - Codex épreuve AMVF0153\n - Sl
 alom\n - Catégorie(s) : U12/U14 (Filles)\n - Voir les informations dans l'a
 genda... (/index.php?option=com_jevents&amp;task=icalevent.detail&amp;evid=
 891&amp;Itemid=1703)\n - Vers les résultats... (/index.php?option=com_gskie
 preuves&amp;view=afficheresultats&amp;format_option=tous&amp;filter[search]
 =AMVT0150&amp;filter[date_debut]=14-01-2018&amp;filter[date_fin]=14-01-2018
 &amp;code_activite=ALP&amp;Itemid=1703)\n - Publications concernant cet évè
 nement :\n - Vendredi 12 Janvier 2018 à 18:37 : Le 14/01/2018 FRERE JOSEPH 
 Liste de départs Cet évènement a été importé depuis :https://skivosges.net/
 agenda/detailevenement/896/-/cjl-coupe-de-bronze-prix-ceeri?tmpl=component 
 (https://skivosges.net/agenda/detailevenement/896/-/cjl-coupe-de-bronze-pri
 x-ceeri?tmpl=component)
X-ALT-DESC;FMTTYPE=text/html:<!-- #gskiepreuve code généré par le plugin jevents pour GskiEpreuves. Ne p
 as modifier cette ligne, ni tout le contenu suivant  #gskiepreuve --><div c
 lass="gski-evenement_infos"><div class="gski-evenement-nom">CJL Coupe de Br
 onze  Prix CEERI</div><div class="gski-evenement-report"></div><ul class="g
 ski-evenement-liste-infos"><li>Codex évenement AMVT0150</li><li>Station : F
 RERE JOSEPH</li><li>Piste : Th&eacute;r&egrave;se Leduc</li><li>Organisateu
 r : 14083 U.S VENTRON</li><li>Courriel : <!-- Cette adresse électronique es
 t protégée contre les robots spammeurs. --><span class="cloaked_email ep_0a
 6c2eba"><span data-ep-a="&#115;t&#101;ph" data-ep-b="&#108;&#101;&#46;&#102
 ;r"><span data-ep-a="&#97;&#110;&#101;&#46;&#103;" data-ep-b="&#114;i&#99;&
 #97;b"><span data-ep-a="&#105;g&#97;&#110;t" data-ep-b="&#64;&#110;u&#109;e
 "></span></span></span></span><script>RegularLabs.EmailProtector.unCloak("e
 p_0a6c2eba");</script></li><li><span class="gski-evenement-obs">Délégué Tec
 hnique : RUER ALAIN</span></li></ul><div class="gski-evenement-infos-2"><di
 v class="gski-evenement-info-inscriptions"><div class="gski-evenement-inscr
 iptions-periodes">Période d'inscription à l'evènement du dimanche 07 janvie
 r 2018 à 00:00 au vendredi 12 janvier 2018 à 17:00 <span class="gski-evenem
 ent-inscriptions-impossibles">(Inscriptions impossibles).</span><div class=
 "gski-evenement-inscriptions-types-titres">Inscriptions ouvertes aux detent
 eurs des titres Fédéraux valides suivants : Licenciés Compétiteurs</div></d
 iv></div><div class="gski-evenement-epreuves"><div class="gski-evenement-ep
 reuves-titres">Epreuves :</div><ul class="gski-evenement-epreuves-list"><li
 ><div class="gski-epreuve-date">Le dimanche 14 janvier 2018 à 10:00</div><u
 l class="gski-epreuve-liste-infos"><li>Codex épreuve AMVM0151</li><li>Slalo
 m</li><li>Catégorie(s) : U12 (Garçons)</li></ul></li><li><div class="gski-e
 preuve-date">Le dimanche 14 janvier 2018 à 10:00</div><ul class="gski-epreu
 ve-liste-infos"><li>Codex épreuve AMVF0151</li><li>Slalom</li><li>Catégorie
 (s) : U12 (Filles)</li></ul></li><li><div class="gski-epreuve-date">Le dima
 nche 14 janvier 2018 à 10:00</div><ul class="gski-epreuve-liste-infos"><li>
 Codex épreuve AMVM0152</li><li>Slalom</li><li>Catégorie(s) : U14 (Garçons)<
 /li></ul></li><li><div class="gski-epreuve-date">Le dimanche 14 janvier 201
 8 à 10:00</div><ul class="gski-epreuve-liste-infos"><li>Codex épreuve AMVF0
 152</li><li>Slalom</li><li>Catégorie(s) : U14 (Filles)</li></ul></li><li><d
 iv class="gski-epreuve-date">Le dimanche 14 janvier 2018 à 10:00</div><ul c
 lass="gski-epreuve-liste-infos"><li>Codex épreuve AMVM0153</li><li>Slalom</
 li><li>Catégorie(s) : U12/U14 (Garçons)</li></ul></li><li><div class="gski-
 epreuve-date">Le dimanche 14 janvier 2018 à 10:00</div><ul class="gski-epre
 uve-liste-infos"><li>Codex épreuve AMVF0153</li><li>Slalom</li><li>Catégori
 e(s) : U12/U14 (Filles)</li></ul></li></ul></div><div class="gskiepreuves-l
 inks"><ul><li><a href="https://skivosges.net/index.php?option=com_jevents&t
 ask=icalevent.detail&evid=891&Itemid=1703">Voir les informations dans l'age
 nda...</a></li><li><a href="https://skivosges.net/index.php?option=com_gski
 epreuves&view=afficheresultats&format_option=tous&filter[search]=AMVT0150&f
 ilter[date_debut]=14-01-2018&filter[date_fin]=14-01-2018&code_activite=ALP&
 Itemid=1703">Vers les résultats...</a></li><li>Publications concernant cet 
 évènement :<ul><li><a href="https://skivosges.net/index.php?option=com_cont
 ent&view=article&id=6024&Itemid=1703">Vendredi 12 Janvier 2018 à 18:37 : Le
  14/01/2018 FRERE JOSEPH Liste de départs</a></li></ul></li></ul></div></di
 v"><!-- #/gskiepreuve fin du dode généré par le plugin jevents pour GskiEpr
 euves. . Ne pas modifier cette ligne, ni tout le contenu précedant.  #/gski
 epreuve --> <a href="https://skivosges.net/agenda/detailevenement/896/-/cjl
 -coupe-de-bronze-prix-ceeri?tmpl=component">Cet évènement a été importé dep
 uis :https://skivosges.net/agenda/detailevenement/896/-/cjl-coupe-de-bronze
 -prix-ceeri?tmpl=component</a>DTSTAMP:20260421T051123
DTSTART;TZID=Europe/Paris;VALUE=DATE:20180114
DTEND;TZID=Europe/Paris;VALUE=DATE:20180115
SEQUENCE:0
TRANSP:OPAQUE
END:VEVENT
END:VCALENDAR