BEGIN:VCALENDAR
VERSION:2.0
PRODID:-//jEvents 2.0 for Joomla//EN
CALSCALE:GREGORIAN
METHOD:PUBLISH
BEGIN:VTIMEZONE
TZID:Europe/Paris
BEGIN:STANDARD
DTSTART:20170113T000000
RDATE:20170326T030000
TZOFFSETFROM:+0200
TZOFFSETTO:+0100
TZNAME:Europe/Paris CET
END:STANDARD
BEGIN:STANDARD
DTSTART:20171029T020000
RDATE:20180325T030000
TZOFFSETFROM:+0200
TZOFFSETTO:+0100
TZNAME:Europe/Paris CET
END:STANDARD
BEGIN:STANDARD
DTSTART:20181028T020000
RDATE:20190331T030000
TZOFFSETFROM:+0200
TZOFFSETTO:+0100
TZNAME:Europe/Paris CET
END:STANDARD
BEGIN:STANDARD
DTSTART:20191027T020000
RDATE:20200329T030000
TZOFFSETFROM:+0200
TZOFFSETTO:+0100
TZNAME:Europe/Paris CET
END:STANDARD
BEGIN:STANDARD
DTSTART:20201025T020000
RDATE:20210328T030000
TZOFFSETFROM:+0200
TZOFFSETTO:+0100
TZNAME:Europe/Paris CET
END:STANDARD
BEGIN:STANDARD
DTSTART:20211031T020000
RDATE:20220327T030000
TZOFFSETFROM:+0200
TZOFFSETTO:+0100
TZNAME:Europe/Paris CET
END:STANDARD
BEGIN:STANDARD
DTSTART:20221030T020000
RDATE:20230326T030000
TZOFFSETFROM:+0200
TZOFFSETTO:+0100
TZNAME:Europe/Paris CET
END:STANDARD
BEGIN:STANDARD
DTSTART:20231029T020000
RDATE:20240331T030000
TZOFFSETFROM:+0200
TZOFFSETTO:+0100
TZNAME:Europe/Paris CET
END:STANDARD
BEGIN:STANDARD
DTSTART:20241027T020000
RDATE:20250330T030000
TZOFFSETFROM:+0200
TZOFFSETTO:+0100
TZNAME:Europe/Paris CET
END:STANDARD
BEGIN:STANDARD
DTSTART:20251026T020000
RDATE:20260329T030000
TZOFFSETFROM:+0200
TZOFFSETTO:+0100
TZNAME:Europe/Paris CET
END:STANDARD
BEGIN:STANDARD
DTSTART:20261025T020000
RDATE:20270328T030000
TZOFFSETFROM:+0200
TZOFFSETTO:+0100
TZNAME:Europe/Paris CET
END:STANDARD
BEGIN:DAYLIGHT
DTSTART:20170326T030000
RDATE:20171029T020000
TZOFFSETFROM:+0100
TZOFFSETTO:+0200
TZNAME:Europe/Paris CEST
END:DAYLIGHT
BEGIN:DAYLIGHT
DTSTART:20180325T030000
RDATE:20181028T020000
TZOFFSETFROM:+0100
TZOFFSETTO:+0200
TZNAME:Europe/Paris CEST
END:DAYLIGHT
BEGIN:DAYLIGHT
DTSTART:20190331T030000
RDATE:20191027T020000
TZOFFSETFROM:+0100
TZOFFSETTO:+0200
TZNAME:Europe/Paris CEST
END:DAYLIGHT
BEGIN:DAYLIGHT
DTSTART:20200329T030000
RDATE:20201025T020000
TZOFFSETFROM:+0100
TZOFFSETTO:+0200
TZNAME:Europe/Paris CEST
END:DAYLIGHT
BEGIN:DAYLIGHT
DTSTART:20210328T030000
RDATE:20211031T020000
TZOFFSETFROM:+0100
TZOFFSETTO:+0200
TZNAME:Europe/Paris CEST
END:DAYLIGHT
BEGIN:DAYLIGHT
DTSTART:20220327T030000
RDATE:20221030T020000
TZOFFSETFROM:+0100
TZOFFSETTO:+0200
TZNAME:Europe/Paris CEST
END:DAYLIGHT
BEGIN:DAYLIGHT
DTSTART:20230326T030000
RDATE:20231029T020000
TZOFFSETFROM:+0100
TZOFFSETTO:+0200
TZNAME:Europe/Paris CEST
END:DAYLIGHT
BEGIN:DAYLIGHT
DTSTART:20240331T030000
RDATE:20241027T020000
TZOFFSETFROM:+0100
TZOFFSETTO:+0200
TZNAME:Europe/Paris CEST
END:DAYLIGHT
BEGIN:DAYLIGHT
DTSTART:20250330T030000
RDATE:20251026T020000
TZOFFSETFROM:+0100
TZOFFSETTO:+0200
TZNAME:Europe/Paris CEST
END:DAYLIGHT
BEGIN:DAYLIGHT
DTSTART:20260329T030000
RDATE:20261025T020000
TZOFFSETFROM:+0100
TZOFFSETTO:+0200
TZNAME:Europe/Paris CEST
END:DAYLIGHT
END:VTIMEZONE
BEGIN:VEVENT
UID:fb28851d40bb639828ec33394da49961
CATEGORIES:Opens et Promos (alpin)
CREATED:20171121T093310
SUMMARY:PROMO Dimanches de la Glisse **REPORTE(E) au 04/03/2018**
URL;VALUE=URI:https://skivosges.net/agenda/detailevenement/897/-/promo-dimanches-de-la-gl
 isse-reporte-e-au-04-03-2018?tmpl=component
DESCRIPTION:<!-- #gskiepreuve code généré par le plugin jevents pour GskiEpreuves. Ne p
 as modifier cette ligne, ni tout le contenu suivant  #gskiepreuve --><div c
 lass="gski-evenement_infos"><div class="gski-evenement-nom">PROMO Dimanches
  de la Glisse</div><div class="gski-evenement-report"> <font class="gskiatt
 ention">(Epreuve reportée au 04/03/2018)</font></div><ul class="gski-evenem
 ent-liste-infos"><li>Codex évenement AMVT0160</li><li>Station : CHAMP DU FE
 U</li><li>Organisateur : 14071 A.S DES CHEMINOTS STRASBOURG</li><li>Courrie
 l : <!-- Cette adresse électronique est protégée contre les robots spammeur
 s. --><span class="cloaked_email ep_12d4f5b2"><span data-ep-a="h&#101;&#114
 ;&#118;&#101;" data-ep-b=""><span data-ep-a=".&#98;&#114;&#105;g" data-ep-b
 ="&#101;&#46;n&#101;&#116;"><span data-ep-b="&#97;&#112;&#111;s&#116;" data
 -ep-a="n&#111;&#110;&#64;&#108;"></span></span></span></span><script>Regula
 rLabs.EmailProtector.unCloak("ep_12d4f5b2");</script></li><li><span class="
 gski-evenement-obs">Délégué Technique : BRIGNON HERVE</span></li></ul><div 
 class="gski-evenement-infos-2"><div class="gski-evenement-info-inscriptions
 "><div class="gski-evenement-inscriptions-periodes">Période d'inscription à
  l'evènement du dimanche 07 janvier 2018 à 00:00 au vendredi 12 janvier 201
 8 à 12:00 <span class="gski-evenement-inscriptions-impossibles">(Inscriptio
 ns impossibles).</span><div class="gski-evenement-inscriptions-types-titres
 ">Inscriptions ouvertes aux detenteurs des titres Fédéraux valides suivants
  : Licenciés Compétiteurs et Titres Loisirs et Dirigeants</div></div></div>
 <div class="gski-evenement-epreuves"><div class="gski-evenement-epreuves-ti
 tres">Epreuves :</div><ul class="gski-evenement-epreuves-list"><li><div cla
 ss="gski-epreuve-date">Le dimanche 14 janvier 2018</div><ul class="gski-epr
 euve-liste-infos"><li>Codex épreuve AMVM0161</li><li>Slalom Geant</li><li>C
 atégorie(s) : U8/U10 (Garçons)</li></ul></li><li><div class="gski-epreuve-d
 ate">Le dimanche 14 janvier 2018</div><ul class="gski-epreuve-liste-infos">
 <li>Codex épreuve AMVF0161</li><li>Slalom Geant</li><li>Catégorie(s) : U8/U
 10 (Filles)</li></ul></li><li><div class="gski-epreuve-date">Le dimanche 14
  janvier 2018</div><ul class="gski-epreuve-liste-infos"><li>Codex épreuve A
 MVM0162</li><li>Slalom Geant</li><li>Catégorie(s) : U12 a U16 (Garçons)</li
 ></ul></li><li><div class="gski-epreuve-date">Le dimanche 14 janvier 2018</
 div><ul class="gski-epreuve-liste-infos"><li>Codex épreuve AMVF0162</li><li
 >Slalom Geant</li><li>Catégorie(s) : U12 a U16 (Filles)</li></ul></li></ul>
 </div><div class="gskiepreuves-links"><ul><li><a href="/index.php?option=co
 m_jevents&task=icalevent.detail&evid=892&Itemid=1703">Voir les informations
  dans l'agenda...</a></li><li><a href="/index.php?option=com_gskiepreuves&v
 iew=afficheresultats&format_option=tous&filter[search]=AMVT0160&filter[date
 _debut]=04-03-2018&filter[date_fin]=04-03-2018&code_activite=ALP&Itemid=170
 3">Vers les résultats...</a></li></ul></div></div"><!-- #/gskiepreuve fin d
 u dode généré par le plugin jevents pour GskiEpreuves. . Ne pas modifier ce
 tte ligne, ni tout le contenu précedant.  #/gskiepreuve --> <a href="https:
 //skivosges.net/agenda/detailevenement/897/-/promo-dimanches-de-la-glisse-r
 eporte-e-au-04-03-2018?tmpl=component">Cet évènement a été importé depuis :
 https://skivosges.net/agenda/detailevenement/897/-/promo-dimanches-de-la-gl
 isse-reporte-e-au-04-03-2018?tmpl=component</a>
X-ALT-DESC;FMTTYPE=text/html:<!-- #gskiepreuve code généré par le plugin jevents pour GskiEpreuves. Ne p
 as modifier cette ligne, ni tout le contenu suivant  #gskiepreuve --><div c
 lass="gski-evenement_infos"><div class="gski-evenement-nom">PROMO Dimanches
  de la Glisse</div><div class="gski-evenement-report"> <font class="gskiatt
 ention">(Epreuve reportée au 04/03/2018)</font></div><ul class="gski-evenem
 ent-liste-infos"><li>Codex évenement AMVT0160</li><li>Station : CHAMP DU FE
 U</li><li>Organisateur : 14071 A.S DES CHEMINOTS STRASBOURG</li><li>Courrie
 l : <!-- Cette adresse électronique est protégée contre les robots spammeur
 s. --><span class="cloaked_email ep_12d4f5b2"><span data-ep-a="h&#101;&#114
 ;&#118;&#101;" data-ep-b=""><span data-ep-a=".&#98;&#114;&#105;g" data-ep-b
 ="&#101;&#46;n&#101;&#116;"><span data-ep-b="&#97;&#112;&#111;s&#116;" data
 -ep-a="n&#111;&#110;&#64;&#108;"></span></span></span></span><script>Regula
 rLabs.EmailProtector.unCloak("ep_12d4f5b2");</script></li><li><span class="
 gski-evenement-obs">Délégué Technique : BRIGNON HERVE</span></li></ul><div 
 class="gski-evenement-infos-2"><div class="gski-evenement-info-inscriptions
 "><div class="gski-evenement-inscriptions-periodes">Période d'inscription à
  l'evènement du dimanche 07 janvier 2018 à 00:00 au vendredi 12 janvier 201
 8 à 12:00 <span class="gski-evenement-inscriptions-impossibles">(Inscriptio
 ns impossibles).</span><div class="gski-evenement-inscriptions-types-titres
 ">Inscriptions ouvertes aux detenteurs des titres Fédéraux valides suivants
  : Licenciés Compétiteurs et Titres Loisirs et Dirigeants</div></div></div>
 <div class="gski-evenement-epreuves"><div class="gski-evenement-epreuves-ti
 tres">Epreuves :</div><ul class="gski-evenement-epreuves-list"><li><div cla
 ss="gski-epreuve-date">Le dimanche 14 janvier 2018</div><ul class="gski-epr
 euve-liste-infos"><li>Codex épreuve AMVM0161</li><li>Slalom Geant</li><li>C
 atégorie(s) : U8/U10 (Garçons)</li></ul></li><li><div class="gski-epreuve-d
 ate">Le dimanche 14 janvier 2018</div><ul class="gski-epreuve-liste-infos">
 <li>Codex épreuve AMVF0161</li><li>Slalom Geant</li><li>Catégorie(s) : U8/U
 10 (Filles)</li></ul></li><li><div class="gski-epreuve-date">Le dimanche 14
  janvier 2018</div><ul class="gski-epreuve-liste-infos"><li>Codex épreuve A
 MVM0162</li><li>Slalom Geant</li><li>Catégorie(s) : U12 a U16 (Garçons)</li
 ></ul></li><li><div class="gski-epreuve-date">Le dimanche 14 janvier 2018</
 div><ul class="gski-epreuve-liste-infos"><li>Codex épreuve AMVF0162</li><li
 >Slalom Geant</li><li>Catégorie(s) : U12 a U16 (Filles)</li></ul></li></ul>
 </div><div class="gskiepreuves-links"><ul><li><a href="https://skivosges.ne
 t/index.php?option=com_jevents&task=icalevent.detail&evid=892&Itemid=1703">
 Voir les informations dans l'agenda...</a></li><li><a href="https://skivosg
 es.net/index.php?option=com_gskiepreuves&view=afficheresultats&format_optio
 n=tous&filter[search]=AMVT0160&filter[date_debut]=04-03-2018&filter[date_fi
 n]=04-03-2018&code_activite=ALP&Itemid=1703">Vers les résultats...</a></li>
 </ul></div></div"><!-- #/gskiepreuve fin du dode généré par le plugin jeven
 ts pour GskiEpreuves. . Ne pas modifier cette ligne, ni tout le contenu pré
 cedant.  #/gskiepreuve --> <a href="https://skivosges.net/agenda/detaileven
 ement/897/-/promo-dimanches-de-la-glisse-reporte-e-au-04-03-2018?tmpl=compo
 nent">Cet évènement a été importé depuis :https://skivosges.net/agenda/deta
 ilevenement/897/-/promo-dimanches-de-la-glisse-reporte-e-au-04-03-2018?tmpl
 =component</a>DTSTAMP:20260421T051329
DTSTART;TZID=Europe/Paris;VALUE=DATE:20180114
DTEND;TZID=Europe/Paris;VALUE=DATE:20180115
SEQUENCE:0
TRANSP:OPAQUE
END:VEVENT
END:VCALENDAR