BEGIN:VCALENDAR
VERSION:2.0
PRODID:-//jEvents 2.0 for Joomla//EN
CALSCALE:GREGORIAN
METHOD:PUBLISH
BEGIN:VTIMEZONE
TZID:Europe/Paris
BEGIN:STANDARD
DTSTART:20170127T000000
RDATE:20170326T030000
TZOFFSETFROM:+0200
TZOFFSETTO:+0100
TZNAME:Europe/Paris CET
END:STANDARD
BEGIN:STANDARD
DTSTART:20171029T020000
RDATE:20180325T030000
TZOFFSETFROM:+0200
TZOFFSETTO:+0100
TZNAME:Europe/Paris CET
END:STANDARD
BEGIN:STANDARD
DTSTART:20181028T020000
RDATE:20190331T030000
TZOFFSETFROM:+0200
TZOFFSETTO:+0100
TZNAME:Europe/Paris CET
END:STANDARD
BEGIN:STANDARD
DTSTART:20191027T020000
RDATE:20200329T030000
TZOFFSETFROM:+0200
TZOFFSETTO:+0100
TZNAME:Europe/Paris CET
END:STANDARD
BEGIN:STANDARD
DTSTART:20201025T020000
RDATE:20210328T030000
TZOFFSETFROM:+0200
TZOFFSETTO:+0100
TZNAME:Europe/Paris CET
END:STANDARD
BEGIN:STANDARD
DTSTART:20211031T020000
RDATE:20220327T030000
TZOFFSETFROM:+0200
TZOFFSETTO:+0100
TZNAME:Europe/Paris CET
END:STANDARD
BEGIN:STANDARD
DTSTART:20221030T020000
RDATE:20230326T030000
TZOFFSETFROM:+0200
TZOFFSETTO:+0100
TZNAME:Europe/Paris CET
END:STANDARD
BEGIN:STANDARD
DTSTART:20231029T020000
RDATE:20240331T030000
TZOFFSETFROM:+0200
TZOFFSETTO:+0100
TZNAME:Europe/Paris CET
END:STANDARD
BEGIN:STANDARD
DTSTART:20241027T020000
RDATE:20250330T030000
TZOFFSETFROM:+0200
TZOFFSETTO:+0100
TZNAME:Europe/Paris CET
END:STANDARD
BEGIN:STANDARD
DTSTART:20251026T020000
RDATE:20260329T030000
TZOFFSETFROM:+0200
TZOFFSETTO:+0100
TZNAME:Europe/Paris CET
END:STANDARD
BEGIN:STANDARD
DTSTART:20261025T020000
RDATE:20270328T030000
TZOFFSETFROM:+0200
TZOFFSETTO:+0100
TZNAME:Europe/Paris CET
END:STANDARD
BEGIN:DAYLIGHT
DTSTART:20170326T030000
RDATE:20171029T020000
TZOFFSETFROM:+0100
TZOFFSETTO:+0200
TZNAME:Europe/Paris CEST
END:DAYLIGHT
BEGIN:DAYLIGHT
DTSTART:20180325T030000
RDATE:20181028T020000
TZOFFSETFROM:+0100
TZOFFSETTO:+0200
TZNAME:Europe/Paris CEST
END:DAYLIGHT
BEGIN:DAYLIGHT
DTSTART:20190331T030000
RDATE:20191027T020000
TZOFFSETFROM:+0100
TZOFFSETTO:+0200
TZNAME:Europe/Paris CEST
END:DAYLIGHT
BEGIN:DAYLIGHT
DTSTART:20200329T030000
RDATE:20201025T020000
TZOFFSETFROM:+0100
TZOFFSETTO:+0200
TZNAME:Europe/Paris CEST
END:DAYLIGHT
BEGIN:DAYLIGHT
DTSTART:20210328T030000
RDATE:20211031T020000
TZOFFSETFROM:+0100
TZOFFSETTO:+0200
TZNAME:Europe/Paris CEST
END:DAYLIGHT
BEGIN:DAYLIGHT
DTSTART:20220327T030000
RDATE:20221030T020000
TZOFFSETFROM:+0100
TZOFFSETTO:+0200
TZNAME:Europe/Paris CEST
END:DAYLIGHT
BEGIN:DAYLIGHT
DTSTART:20230326T030000
RDATE:20231029T020000
TZOFFSETFROM:+0100
TZOFFSETTO:+0200
TZNAME:Europe/Paris CEST
END:DAYLIGHT
BEGIN:DAYLIGHT
DTSTART:20240331T030000
RDATE:20241027T020000
TZOFFSETFROM:+0100
TZOFFSETTO:+0200
TZNAME:Europe/Paris CEST
END:DAYLIGHT
BEGIN:DAYLIGHT
DTSTART:20250330T030000
RDATE:20251026T020000
TZOFFSETFROM:+0100
TZOFFSETTO:+0200
TZNAME:Europe/Paris CEST
END:DAYLIGHT
BEGIN:DAYLIGHT
DTSTART:20260329T030000
RDATE:20261025T020000
TZOFFSETFROM:+0100
TZOFFSETTO:+0200
TZNAME:Europe/Paris CEST
END:DAYLIGHT
END:VTIMEZONE
BEGIN:VEVENT
UID:ee97c899836bd0880bd0c11158c408e1
CATEGORIES:Compétition Biathlon
CREATED:20171121T093310
SUMMARY:Biathlon Régional Réserve
URL;VALUE=URI:https://skivosges.net/agenda/detailevenement/914/-/biathlon-regional-reserv
 e?tmpl=component
DESCRIPTION:<!-- #gskiepreuve code généré par le plugin jevents pour GskiEpreuves. Ne p
 as modifier cette ligne, ni tout le contenu suivant  #gskiepreuve --><div c
 lass="gski-evenement_infos"><div class="gski-evenement-nom">Biathlon Région
 al Réserve</div><div class="gski-evenement-report"></div><ul class="gski-ev
 enement-liste-infos"><li>Codex évenement BMVT0040</li><li>Organisateur : </
 li></ul><div class="gski-evenement-infos-2"><div class="gski-evenement-info
 -inscriptions"><div class="gski-evenement-inscriptions-periodes">Période d'
 inscription à l'evènement du dimanche 21 janvier 2018 à 00:00 au vendredi 2
 6 janvier 2018 à 12:00 <span class="gski-evenement-inscriptions-impossibles
 ">(Inscriptions impossibles).</span><div class="gski-evenement-inscriptions
 -types-titres">Inscriptions ouvertes aux detenteurs des titres Fédéraux val
 ides suivants : Licenciés Compétiteurs</div></div></div><div class="gski-ev
 enement-epreuves"><div class="gski-evenement-epreuves-titres">Epreuves :</d
 iv><ul class="gski-evenement-epreuves-list"><li><div class="gski-epreuve-da
 te">Le dimanche 28 janvier 2018</div><ul class="gski-epreuve-liste-infos"><
 li>Codex épreuve BMVF0041</li><li>Individuel</li><li>Catégorie(s) : U14/U16
  (Filles)</li></ul></li><li><div class="gski-epreuve-date">Le dimanche 28 j
 anvier 2018</div><ul class="gski-epreuve-liste-infos"><li>Codex épreuve BMV
 M0041</li><li>Individuel</li><li>Catégorie(s) : U14/U16 (Garçons)</li></ul>
 </li><li><div class="gski-epreuve-date">Le dimanche 28 janvier 2018</div><u
 l class="gski-epreuve-liste-infos"><li>Codex épreuve BMVF0042</li><li>Indiv
 iduel</li><li>Catégorie(s) : U16 a SEN (Filles)</li></ul></li><li><div clas
 s="gski-epreuve-date">Le dimanche 28 janvier 2018</div><ul class="gski-epre
 uve-liste-infos"><li>Codex épreuve BMVM0042</li><li>Individuel</li><li>Caté
 gorie(s) : U16 a SEN (Garçons)</li></ul></li></ul></div><div class="gskiepr
 euves-links"><ul><li><a href="/index.php?option=com_jevents&task=icalevent.
 detail&evid=909&Itemid=1703">Voir les informations dans l'agenda...</a></li
 ></ul></div></div"><!-- #/gskiepreuve fin du dode généré par le plugin jeve
 nts pour GskiEpreuves. . Ne pas modifier cette ligne, ni tout le contenu pr
 écedant.  #/gskiepreuve --> <a href="https://skivosges.net/agenda/detaileve
 nement/914/-/biathlon-regional-reserve?tmpl=component">Cet évènement a été 
 importé depuis :https://skivosges.net/agenda/detailevenement/914/-/biathlon
 -regional-reserve?tmpl=component</a>
X-ALT-DESC;FMTTYPE=text/html:<!-- #gskiepreuve code généré par le plugin jevents pour GskiEpreuves. Ne p
 as modifier cette ligne, ni tout le contenu suivant  #gskiepreuve --><div c
 lass="gski-evenement_infos"><div class="gski-evenement-nom">Biathlon Région
 al Réserve</div><div class="gski-evenement-report"></div><ul class="gski-ev
 enement-liste-infos"><li>Codex évenement BMVT0040</li><li>Organisateur : </
 li></ul><div class="gski-evenement-infos-2"><div class="gski-evenement-info
 -inscriptions"><div class="gski-evenement-inscriptions-periodes">Période d'
 inscription à l'evènement du dimanche 21 janvier 2018 à 00:00 au vendredi 2
 6 janvier 2018 à 12:00 <span class="gski-evenement-inscriptions-impossibles
 ">(Inscriptions impossibles).</span><div class="gski-evenement-inscriptions
 -types-titres">Inscriptions ouvertes aux detenteurs des titres Fédéraux val
 ides suivants : Licenciés Compétiteurs</div></div></div><div class="gski-ev
 enement-epreuves"><div class="gski-evenement-epreuves-titres">Epreuves :</d
 iv><ul class="gski-evenement-epreuves-list"><li><div class="gski-epreuve-da
 te">Le dimanche 28 janvier 2018</div><ul class="gski-epreuve-liste-infos"><
 li>Codex épreuve BMVF0041</li><li>Individuel</li><li>Catégorie(s) : U14/U16
  (Filles)</li></ul></li><li><div class="gski-epreuve-date">Le dimanche 28 j
 anvier 2018</div><ul class="gski-epreuve-liste-infos"><li>Codex épreuve BMV
 M0041</li><li>Individuel</li><li>Catégorie(s) : U14/U16 (Garçons)</li></ul>
 </li><li><div class="gski-epreuve-date">Le dimanche 28 janvier 2018</div><u
 l class="gski-epreuve-liste-infos"><li>Codex épreuve BMVF0042</li><li>Indiv
 iduel</li><li>Catégorie(s) : U16 a SEN (Filles)</li></ul></li><li><div clas
 s="gski-epreuve-date">Le dimanche 28 janvier 2018</div><ul class="gski-epre
 uve-liste-infos"><li>Codex épreuve BMVM0042</li><li>Individuel</li><li>Caté
 gorie(s) : U16 a SEN (Garçons)</li></ul></li></ul></div><div class="gskiepr
 euves-links"><ul><li><a href="https://skivosges.net/index.php?option=com_je
 vents&task=icalevent.detail&evid=909&Itemid=1703">Voir les informations dan
 s l'agenda...</a></li></ul></div></div"><!-- #/gskiepreuve fin du dode géné
 ré par le plugin jevents pour GskiEpreuves. . Ne pas modifier cette ligne, 
 ni tout le contenu précedant.  #/gskiepreuve --> <a href="https://skivosges
 .net/agenda/detailevenement/914/-/biathlon-regional-reserve?tmpl=component"
 >Cet évènement a été importé depuis :https://skivosges.net/agenda/detaileve
 nement/914/-/biathlon-regional-reserve?tmpl=component</a>DTSTAMP:20260421T051408
DTSTART;TZID=Europe/Paris;VALUE=DATE:20180128
DTEND;TZID=Europe/Paris;VALUE=DATE:20180129
SEQUENCE:0
TRANSP:OPAQUE
END:VEVENT
END:VCALENDAR