BEGIN:VCALENDAR
VERSION:2.0
PRODID:-//jEvents 2.0 for Joomla//EN
CALSCALE:GREGORIAN
METHOD:PUBLISH
BEGIN:VTIMEZONE
TZID:Europe/Paris
BEGIN:STANDARD
DTSTART:20170127T000000
RDATE:20170326T030000
TZOFFSETFROM:+0200
TZOFFSETTO:+0100
TZNAME:Europe/Paris CET
END:STANDARD
BEGIN:STANDARD
DTSTART:20171029T020000
RDATE:20180325T030000
TZOFFSETFROM:+0200
TZOFFSETTO:+0100
TZNAME:Europe/Paris CET
END:STANDARD
BEGIN:STANDARD
DTSTART:20181028T020000
RDATE:20190331T030000
TZOFFSETFROM:+0200
TZOFFSETTO:+0100
TZNAME:Europe/Paris CET
END:STANDARD
BEGIN:STANDARD
DTSTART:20191027T020000
RDATE:20200329T030000
TZOFFSETFROM:+0200
TZOFFSETTO:+0100
TZNAME:Europe/Paris CET
END:STANDARD
BEGIN:STANDARD
DTSTART:20201025T020000
RDATE:20210328T030000
TZOFFSETFROM:+0200
TZOFFSETTO:+0100
TZNAME:Europe/Paris CET
END:STANDARD
BEGIN:STANDARD
DTSTART:20211031T020000
RDATE:20220327T030000
TZOFFSETFROM:+0200
TZOFFSETTO:+0100
TZNAME:Europe/Paris CET
END:STANDARD
BEGIN:STANDARD
DTSTART:20221030T020000
RDATE:20230326T030000
TZOFFSETFROM:+0200
TZOFFSETTO:+0100
TZNAME:Europe/Paris CET
END:STANDARD
BEGIN:STANDARD
DTSTART:20231029T020000
RDATE:20240331T030000
TZOFFSETFROM:+0200
TZOFFSETTO:+0100
TZNAME:Europe/Paris CET
END:STANDARD
BEGIN:STANDARD
DTSTART:20241027T020000
RDATE:20250330T030000
TZOFFSETFROM:+0200
TZOFFSETTO:+0100
TZNAME:Europe/Paris CET
END:STANDARD
BEGIN:STANDARD
DTSTART:20251026T020000
RDATE:20260329T030000
TZOFFSETFROM:+0200
TZOFFSETTO:+0100
TZNAME:Europe/Paris CET
END:STANDARD
BEGIN:STANDARD
DTSTART:20261025T020000
RDATE:20270328T030000
TZOFFSETFROM:+0200
TZOFFSETTO:+0100
TZNAME:Europe/Paris CET
END:STANDARD
BEGIN:DAYLIGHT
DTSTART:20170326T030000
RDATE:20171029T020000
TZOFFSETFROM:+0100
TZOFFSETTO:+0200
TZNAME:Europe/Paris CEST
END:DAYLIGHT
BEGIN:DAYLIGHT
DTSTART:20180325T030000
RDATE:20181028T020000
TZOFFSETFROM:+0100
TZOFFSETTO:+0200
TZNAME:Europe/Paris CEST
END:DAYLIGHT
BEGIN:DAYLIGHT
DTSTART:20190331T030000
RDATE:20191027T020000
TZOFFSETFROM:+0100
TZOFFSETTO:+0200
TZNAME:Europe/Paris CEST
END:DAYLIGHT
BEGIN:DAYLIGHT
DTSTART:20200329T030000
RDATE:20201025T020000
TZOFFSETFROM:+0100
TZOFFSETTO:+0200
TZNAME:Europe/Paris CEST
END:DAYLIGHT
BEGIN:DAYLIGHT
DTSTART:20210328T030000
RDATE:20211031T020000
TZOFFSETFROM:+0100
TZOFFSETTO:+0200
TZNAME:Europe/Paris CEST
END:DAYLIGHT
BEGIN:DAYLIGHT
DTSTART:20220327T030000
RDATE:20221030T020000
TZOFFSETFROM:+0100
TZOFFSETTO:+0200
TZNAME:Europe/Paris CEST
END:DAYLIGHT
BEGIN:DAYLIGHT
DTSTART:20230326T030000
RDATE:20231029T020000
TZOFFSETFROM:+0100
TZOFFSETTO:+0200
TZNAME:Europe/Paris CEST
END:DAYLIGHT
BEGIN:DAYLIGHT
DTSTART:20240331T030000
RDATE:20241027T020000
TZOFFSETFROM:+0100
TZOFFSETTO:+0200
TZNAME:Europe/Paris CEST
END:DAYLIGHT
BEGIN:DAYLIGHT
DTSTART:20250330T030000
RDATE:20251026T020000
TZOFFSETFROM:+0100
TZOFFSETTO:+0200
TZNAME:Europe/Paris CEST
END:DAYLIGHT
BEGIN:DAYLIGHT
DTSTART:20260329T030000
RDATE:20261025T020000
TZOFFSETFROM:+0100
TZOFFSETTO:+0200
TZNAME:Europe/Paris CEST
END:DAYLIGHT
END:VTIMEZONE
BEGIN:VEVENT
UID:73b31243e8d74e05dd2d43038945ef71
CATEGORIES:Compétition Ski de Fond
CREATED:20171121T093310
SUMMARY:NORDIQUE DES CRETES
URL;VALUE=URI:https://skivosges.net/agenda/detailevenement/915/-/nordique-des-cretes?tmpl
 =component
DESCRIPTION:NORDIQUE DES CRETES\n - Codex évenement FMVT0110\n - Station : MARKSTEIN\n 
 - Organisateur : 14044 TOURING CLUB MULHOUSE\n - Délégué Technique : FISCHE
 R MARCPériode d'inscription à l'evènement du dimanche 14 janvier 2018 à 00:
 00 au mardi 23 janvier 2018 à 23:59 (Inscriptions impossibles).Inscriptions
  ouvertes aux detenteurs des titres Fédéraux valides suivants : Licenciés C
 ompétiteursEpreuves :\n - Le dimanche 28 janvier 2018\n - Codex épreuve FMV
 F0111\n - Mass Start (Depart ligne)\n - Catégorie(s) : U8 (Filles)\n - Le d
 imanche 28 janvier 2018\n - Codex épreuve FMVF0112\n - Mass Start (Depart l
 igne)\n - Catégorie(s) : Senior (Dames)\n - Le dimanche 28 janvier 2018\n -
  Codex épreuve FMVM0111\n - Mass Start (Depart ligne)\n - Catégorie(s) : U1
 8/U20 (Hommes)\n - Le dimanche 28 janvier 2018\n - Codex épreuve FMVM0112\n
  - Mass Start (Depart ligne)\n - Catégorie(s) : Senior (Hommes)\n - Voir le
 s informations dans l'agenda... (/index.php?option=com_jevents&amp;task=ica
 levent.detail&amp;evid=910&amp;Itemid=1703) Cet évènement a été importé dep
 uis :https://skivosges.net/agenda/detailevenement/915/-/nordique-des-cretes
 ?tmpl=component
X-ALT-DESC;FMTTYPE=text/html:<!-- #gskiepreuve code généré par le plugin jevents pour GskiEpreuves. Ne p
 as modifier cette ligne, ni tout le contenu suivant  #gskiepreuve --><div c
 lass="gski-evenement_infos"><div class="gski-evenement-nom">NORDIQUE DES CR
 ETES</div><div class="gski-evenement-report"></div><ul class="gski-evenemen
 t-liste-infos"><li>Codex évenement FMVT0110</li><li>Station : MARKSTEIN</li
 ><li>Organisateur : 14044 TOURING CLUB MULHOUSE</li><li><span class="gski-e
 venement-obs">Délégué Technique : FISCHER MARC</span></li></ul><div class="
 gski-evenement-infos-2"><div class="gski-evenement-info-inscriptions"><div 
 class="gski-evenement-inscriptions-periodes">Période d'inscription à l'evèn
 ement du dimanche 14 janvier 2018 à 00:00 au mardi 23 janvier 2018 à 23:59 
 <span class="gski-evenement-inscriptions-impossibles">(Inscriptions impossi
 bles).</span><div class="gski-evenement-inscriptions-types-titres">Inscript
 ions ouvertes aux detenteurs des titres Fédéraux valides suivants : Licenci
 és Compétiteurs</div></div></div><div class="gski-evenement-epreuves"><div 
 class="gski-evenement-epreuves-titres">Epreuves :</div><ul class="gski-even
 ement-epreuves-list"><li><div class="gski-epreuve-date">Le dimanche 28 janv
 ier 2018</div><ul class="gski-epreuve-liste-infos"><li>Codex épreuve FMVF01
 11</li><li>Mass Start (Depart ligne)</li><li>Catégorie(s) : U8 (Filles)</li
 ></ul></li><li><div class="gski-epreuve-date">Le dimanche 28 janvier 2018</
 div><ul class="gski-epreuve-liste-infos"><li>Codex épreuve FMVF0112</li><li
 >Mass Start (Depart ligne)</li><li>Catégorie(s) : Senior (Dames)</li></ul><
 /li><li><div class="gski-epreuve-date">Le dimanche 28 janvier 2018</div><ul
  class="gski-epreuve-liste-infos"><li>Codex épreuve FMVM0111</li><li>Mass S
 tart (Depart ligne)</li><li>Catégorie(s) : U18/U20 (Hommes)</li></ul></li><
 li><div class="gski-epreuve-date">Le dimanche 28 janvier 2018</div><ul clas
 s="gski-epreuve-liste-infos"><li>Codex épreuve FMVM0112</li><li>Mass Start 
 (Depart ligne)</li><li>Catégorie(s) : Senior (Hommes)</li></ul></li></ul></
 div><div class="gskiepreuves-links"><ul><li><a href="https://skivosges.net/
 index.php?option=com_jevents&task=icalevent.detail&evid=910&Itemid=1703">Vo
 ir les informations dans l'agenda...</a></li></ul></div></div"><!-- #/gskie
 preuve fin du dode généré par le plugin jevents pour GskiEpreuves. . Ne pas
  modifier cette ligne, ni tout le contenu précedant.  #/gskiepreuve --> <a 
 href="https://skivosges.net/agenda/detailevenement/915/-/nordique-des-crete
 s?tmpl=component">Cet évènement a été importé depuis :https://skivosges.net
 /agenda/detailevenement/915/-/nordique-des-cretes?tmpl=component</a>DTSTAMP:20260421T051111
DTSTART;TZID=Europe/Paris;VALUE=DATE:20180128
DTEND;TZID=Europe/Paris;VALUE=DATE:20180129
SEQUENCE:0
TRANSP:OPAQUE
END:VEVENT
END:VCALENDAR