BEGIN:VCALENDAR
VERSION:2.0
PRODID:-//jEvents 2.0 for Joomla//EN
CALSCALE:GREGORIAN
METHOD:PUBLISH
BEGIN:VTIMEZONE
TZID:Europe/Paris
BEGIN:STANDARD
DTSTART:20170127T000000
RDATE:20170326T030000
TZOFFSETFROM:+0200
TZOFFSETTO:+0100
TZNAME:Europe/Paris CET
END:STANDARD
BEGIN:STANDARD
DTSTART:20171029T020000
RDATE:20180325T030000
TZOFFSETFROM:+0200
TZOFFSETTO:+0100
TZNAME:Europe/Paris CET
END:STANDARD
BEGIN:STANDARD
DTSTART:20181028T020000
RDATE:20190331T030000
TZOFFSETFROM:+0200
TZOFFSETTO:+0100
TZNAME:Europe/Paris CET
END:STANDARD
BEGIN:STANDARD
DTSTART:20191027T020000
RDATE:20200329T030000
TZOFFSETFROM:+0200
TZOFFSETTO:+0100
TZNAME:Europe/Paris CET
END:STANDARD
BEGIN:STANDARD
DTSTART:20201025T020000
RDATE:20210328T030000
TZOFFSETFROM:+0200
TZOFFSETTO:+0100
TZNAME:Europe/Paris CET
END:STANDARD
BEGIN:STANDARD
DTSTART:20211031T020000
RDATE:20220327T030000
TZOFFSETFROM:+0200
TZOFFSETTO:+0100
TZNAME:Europe/Paris CET
END:STANDARD
BEGIN:STANDARD
DTSTART:20221030T020000
RDATE:20230326T030000
TZOFFSETFROM:+0200
TZOFFSETTO:+0100
TZNAME:Europe/Paris CET
END:STANDARD
BEGIN:STANDARD
DTSTART:20231029T020000
RDATE:20240331T030000
TZOFFSETFROM:+0200
TZOFFSETTO:+0100
TZNAME:Europe/Paris CET
END:STANDARD
BEGIN:STANDARD
DTSTART:20241027T020000
RDATE:20250330T030000
TZOFFSETFROM:+0200
TZOFFSETTO:+0100
TZNAME:Europe/Paris CET
END:STANDARD
BEGIN:STANDARD
DTSTART:20251026T020000
RDATE:20260329T030000
TZOFFSETFROM:+0200
TZOFFSETTO:+0100
TZNAME:Europe/Paris CET
END:STANDARD
BEGIN:STANDARD
DTSTART:20261025T020000
RDATE:20270328T030000
TZOFFSETFROM:+0200
TZOFFSETTO:+0100
TZNAME:Europe/Paris CET
END:STANDARD
BEGIN:DAYLIGHT
DTSTART:20170326T030000
RDATE:20171029T020000
TZOFFSETFROM:+0100
TZOFFSETTO:+0200
TZNAME:Europe/Paris CEST
END:DAYLIGHT
BEGIN:DAYLIGHT
DTSTART:20180325T030000
RDATE:20181028T020000
TZOFFSETFROM:+0100
TZOFFSETTO:+0200
TZNAME:Europe/Paris CEST
END:DAYLIGHT
BEGIN:DAYLIGHT
DTSTART:20190331T030000
RDATE:20191027T020000
TZOFFSETFROM:+0100
TZOFFSETTO:+0200
TZNAME:Europe/Paris CEST
END:DAYLIGHT
BEGIN:DAYLIGHT
DTSTART:20200329T030000
RDATE:20201025T020000
TZOFFSETFROM:+0100
TZOFFSETTO:+0200
TZNAME:Europe/Paris CEST
END:DAYLIGHT
BEGIN:DAYLIGHT
DTSTART:20210328T030000
RDATE:20211031T020000
TZOFFSETFROM:+0100
TZOFFSETTO:+0200
TZNAME:Europe/Paris CEST
END:DAYLIGHT
BEGIN:DAYLIGHT
DTSTART:20220327T030000
RDATE:20221030T020000
TZOFFSETFROM:+0100
TZOFFSETTO:+0200
TZNAME:Europe/Paris CEST
END:DAYLIGHT
BEGIN:DAYLIGHT
DTSTART:20230326T030000
RDATE:20231029T020000
TZOFFSETFROM:+0100
TZOFFSETTO:+0200
TZNAME:Europe/Paris CEST
END:DAYLIGHT
BEGIN:DAYLIGHT
DTSTART:20240331T030000
RDATE:20241027T020000
TZOFFSETFROM:+0100
TZOFFSETTO:+0200
TZNAME:Europe/Paris CEST
END:DAYLIGHT
BEGIN:DAYLIGHT
DTSTART:20250330T030000
RDATE:20251026T020000
TZOFFSETFROM:+0100
TZOFFSETTO:+0200
TZNAME:Europe/Paris CEST
END:DAYLIGHT
BEGIN:DAYLIGHT
DTSTART:20260329T030000
RDATE:20261025T020000
TZOFFSETFROM:+0100
TZOFFSETTO:+0200
TZNAME:Europe/Paris CEST
END:DAYLIGHT
END:VTIMEZONE
BEGIN:VEVENT
UID:c82af44409ae6ae1e2fe86781840a766
CATEGORIES:Opens et Promos (alpin)
CREATED:20171121T093310
SUMMARY:PROMO  U8 à Masters Dimanches de la Glisse **REPORTE**
URL;VALUE=URI:https://skivosges.net/agenda/detailevenement/920/-/promo-u8-a-masters-diman
 ches-de-la-glisse-reporte?tmpl=component
DESCRIPTION:PROMO  U8 à Masters Dimanches de la Glisse (Epreuve reportée, date à determ
 iner)\n - Codex évenement AMVT0310\n - Station : CHAMP DU FEU\n - Organisat
 eur : 14003 SKI CLUB BARR\n - Courriel : RegularLabs.EmailProtector.unCloak
 ("ep_52367f96");Période d'inscription à l'evènement du dimanche 21 janvier 
 2018 à 00:00 au samedi 27 janvier 2018 à 18:00 (Inscriptions impossibles).I
 nscriptions ouvertes aux detenteurs des titres Fédéraux valides suivants : 
 Licenciés Compétiteurs et Titres Loisirs et DirigeantsEpreuves :\n - Le dim
 anche 28 janvier 2018\n - Codex épreuve AMVM0311\n - Slalom Geant\n - Catég
 orie(s) : U8/U10 (Garçons)\n - Le dimanche 28 janvier 2018\n - Codex épreuv
 e AMVF0311\n - Slalom Geant\n - Catégorie(s) : U8/U10 (Filles)\n - Le diman
 che 28 janvier 2018\n - Codex épreuve AMVM0312\n - Slalom Geant\n - Catégor
 ie(s) : U12 a U16 (Garçons)\n - Le dimanche 28 janvier 2018\n - Codex épreu
 ve AMVF0312\n - Slalom Geant\n - Catégorie(s) : U12 a U16 (Filles)\n - Le d
 imanche 28 janvier 2018\n - Codex épreuve AMVM0313\n - Slalom Geant\n - Cat
 égorie(s) : U18 a Masters (Hommes)\n - Le dimanche 28 janvier 2018\n - Code
 x épreuve AMVF0313\n - Slalom Geant\n - Catégorie(s) : U18 a Masters (Dames
 )\n - Voir les informations dans l'agenda... (/index.php?option=com_jevents
 &amp;task=icalevent.detail&amp;evid=915&amp;Itemid=1703) Cet évènement a ét
 é importé depuis :https://skivosges.net/agenda/detailevenement/920/-/promo-
 u8-a-masters-dimanches-de-la-glisse-reporte?tmpl=component (https://skivosg
 es.net/agenda/detailevenement/920/-/promo-u8-a-masters-dimanches-de-la-glis
 se-reporte?tmpl=component)
X-ALT-DESC;FMTTYPE=text/html:<!-- #gskiepreuve code généré par le plugin jevents pour GskiEpreuves. Ne p
 as modifier cette ligne, ni tout le contenu suivant  #gskiepreuve --><div c
 lass="gski-evenement_infos"><div class="gski-evenement-nom">PROMO  U8 à Mas
 ters Dimanches de la Glisse</div><div class="gski-evenement-report"> <font 
 class="gskiattention">(Epreuve reportée, date à determiner)</font></div><ul
  class="gski-evenement-liste-infos"><li>Codex évenement AMVT0310</li><li>St
 ation : CHAMP DU FEU</li><li>Organisateur : 14003 SKI CLUB BARR</li><li>Cou
 rriel : <!-- Cette adresse électronique est protégée contre les robots spam
 meurs. --><span class="cloaked_email ep_52367f96"><span data-ep-a="w&#105;&
 #101;s&#46;" data-ep-b=""><span data-ep-a="&#99;&#104;ri&#115;" data-ep-b="
 l&#46;&#99;om"><span data-ep-a="&#116;o&#112;&#104;&#101;" data-ep-b="&#64;
 &#103;&#109;&#97;i"></span></span></span></span><script>RegularLabs.EmailPr
 otector.unCloak("ep_52367f96");</script></li></ul><div class="gski-evenemen
 t-infos-2"><div class="gski-evenement-info-inscriptions"><div class="gski-e
 venement-inscriptions-periodes">Période d'inscription à l'evènement du dima
 nche 21 janvier 2018 à 00:00 au samedi 27 janvier 2018 à 18:00 <span class=
 "gski-evenement-inscriptions-impossibles">(Inscriptions impossibles).</span
 ><div class="gski-evenement-inscriptions-types-titres">Inscriptions ouverte
 s aux detenteurs des titres Fédéraux valides suivants : Licenciés Compétite
 urs et Titres Loisirs et Dirigeants</div></div></div><div class="gski-evene
 ment-epreuves"><div class="gski-evenement-epreuves-titres">Epreuves :</div>
 <ul class="gski-evenement-epreuves-list"><li><div class="gski-epreuve-date"
 >Le dimanche 28 janvier 2018</div><ul class="gski-epreuve-liste-infos"><li>
 Codex épreuve AMVM0311</li><li>Slalom Geant</li><li>Catégorie(s) : U8/U10 (
 Garçons)</li></ul></li><li><div class="gski-epreuve-date">Le dimanche 28 ja
 nvier 2018</div><ul class="gski-epreuve-liste-infos"><li>Codex épreuve AMVF
 0311</li><li>Slalom Geant</li><li>Catégorie(s) : U8/U10 (Filles)</li></ul><
 /li><li><div class="gski-epreuve-date">Le dimanche 28 janvier 2018</div><ul
  class="gski-epreuve-liste-infos"><li>Codex épreuve AMVM0312</li><li>Slalom
  Geant</li><li>Catégorie(s) : U12 a U16 (Garçons)</li></ul></li><li><div cl
 ass="gski-epreuve-date">Le dimanche 28 janvier 2018</div><ul class="gski-ep
 reuve-liste-infos"><li>Codex épreuve AMVF0312</li><li>Slalom Geant</li><li>
 Catégorie(s) : U12 a U16 (Filles)</li></ul></li><li><div class="gski-epreuv
 e-date">Le dimanche 28 janvier 2018</div><ul class="gski-epreuve-liste-info
 s"><li>Codex épreuve AMVM0313</li><li>Slalom Geant</li><li>Catégorie(s) : U
 18 a Masters (Hommes)</li></ul></li><li><div class="gski-epreuve-date">Le d
 imanche 28 janvier 2018</div><ul class="gski-epreuve-liste-infos"><li>Codex
  épreuve AMVF0313</li><li>Slalom Geant</li><li>Catégorie(s) : U18 a Masters
  (Dames)</li></ul></li></ul></div><div class="gskiepreuves-links"><ul><li><
 a href="https://skivosges.net/index.php?option=com_jevents&task=icalevent.d
 etail&evid=915&Itemid=1703">Voir les informations dans l'agenda...</a></li>
 </ul></div></div"><!-- #/gskiepreuve fin du dode généré par le plugin jeven
 ts pour GskiEpreuves. . Ne pas modifier cette ligne, ni tout le contenu pré
 cedant.  #/gskiepreuve --> <a href="https://skivosges.net/agenda/detaileven
 ement/920/-/promo-u8-a-masters-dimanches-de-la-glisse-reporte?tmpl=componen
 t">Cet évènement a été importé depuis :https://skivosges.net/agenda/detaile
 venement/920/-/promo-u8-a-masters-dimanches-de-la-glisse-reporte?tmpl=compo
 nent</a>DTSTAMP:20260421T051036
DTSTART;TZID=Europe/Paris;VALUE=DATE:20180128
DTEND;TZID=Europe/Paris;VALUE=DATE:20180129
SEQUENCE:0
TRANSP:OPAQUE
END:VEVENT
END:VCALENDAR