BEGIN:VCALENDAR
VERSION:2.0
PRODID:-//jEvents 2.0 for Joomla//EN
CALSCALE:GREGORIAN
METHOD:PUBLISH
BEGIN:VTIMEZONE
TZID:Europe/Paris
BEGIN:STANDARD
DTSTART:20170202T000000
RDATE:20170326T030000
TZOFFSETFROM:+0200
TZOFFSETTO:+0100
TZNAME:Europe/Paris CET
END:STANDARD
BEGIN:STANDARD
DTSTART:20171029T020000
RDATE:20180325T030000
TZOFFSETFROM:+0200
TZOFFSETTO:+0100
TZNAME:Europe/Paris CET
END:STANDARD
BEGIN:STANDARD
DTSTART:20181028T020000
RDATE:20190331T030000
TZOFFSETFROM:+0200
TZOFFSETTO:+0100
TZNAME:Europe/Paris CET
END:STANDARD
BEGIN:STANDARD
DTSTART:20191027T020000
RDATE:20200329T030000
TZOFFSETFROM:+0200
TZOFFSETTO:+0100
TZNAME:Europe/Paris CET
END:STANDARD
BEGIN:STANDARD
DTSTART:20201025T020000
RDATE:20210328T030000
TZOFFSETFROM:+0200
TZOFFSETTO:+0100
TZNAME:Europe/Paris CET
END:STANDARD
BEGIN:STANDARD
DTSTART:20211031T020000
RDATE:20220327T030000
TZOFFSETFROM:+0200
TZOFFSETTO:+0100
TZNAME:Europe/Paris CET
END:STANDARD
BEGIN:STANDARD
DTSTART:20221030T020000
RDATE:20230326T030000
TZOFFSETFROM:+0200
TZOFFSETTO:+0100
TZNAME:Europe/Paris CET
END:STANDARD
BEGIN:STANDARD
DTSTART:20231029T020000
RDATE:20240331T030000
TZOFFSETFROM:+0200
TZOFFSETTO:+0100
TZNAME:Europe/Paris CET
END:STANDARD
BEGIN:STANDARD
DTSTART:20241027T020000
RDATE:20250330T030000
TZOFFSETFROM:+0200
TZOFFSETTO:+0100
TZNAME:Europe/Paris CET
END:STANDARD
BEGIN:STANDARD
DTSTART:20251026T020000
RDATE:20260329T030000
TZOFFSETFROM:+0200
TZOFFSETTO:+0100
TZNAME:Europe/Paris CET
END:STANDARD
BEGIN:STANDARD
DTSTART:20261025T020000
RDATE:20270328T030000
TZOFFSETFROM:+0200
TZOFFSETTO:+0100
TZNAME:Europe/Paris CET
END:STANDARD
BEGIN:DAYLIGHT
DTSTART:20170326T030000
RDATE:20171029T020000
TZOFFSETFROM:+0100
TZOFFSETTO:+0200
TZNAME:Europe/Paris CEST
END:DAYLIGHT
BEGIN:DAYLIGHT
DTSTART:20180325T030000
RDATE:20181028T020000
TZOFFSETFROM:+0100
TZOFFSETTO:+0200
TZNAME:Europe/Paris CEST
END:DAYLIGHT
BEGIN:DAYLIGHT
DTSTART:20190331T030000
RDATE:20191027T020000
TZOFFSETFROM:+0100
TZOFFSETTO:+0200
TZNAME:Europe/Paris CEST
END:DAYLIGHT
BEGIN:DAYLIGHT
DTSTART:20200329T030000
RDATE:20201025T020000
TZOFFSETFROM:+0100
TZOFFSETTO:+0200
TZNAME:Europe/Paris CEST
END:DAYLIGHT
BEGIN:DAYLIGHT
DTSTART:20210328T030000
RDATE:20211031T020000
TZOFFSETFROM:+0100
TZOFFSETTO:+0200
TZNAME:Europe/Paris CEST
END:DAYLIGHT
BEGIN:DAYLIGHT
DTSTART:20220327T030000
RDATE:20221030T020000
TZOFFSETFROM:+0100
TZOFFSETTO:+0200
TZNAME:Europe/Paris CEST
END:DAYLIGHT
BEGIN:DAYLIGHT
DTSTART:20230326T030000
RDATE:20231029T020000
TZOFFSETFROM:+0100
TZOFFSETTO:+0200
TZNAME:Europe/Paris CEST
END:DAYLIGHT
BEGIN:DAYLIGHT
DTSTART:20240331T030000
RDATE:20241027T020000
TZOFFSETFROM:+0100
TZOFFSETTO:+0200
TZNAME:Europe/Paris CEST
END:DAYLIGHT
BEGIN:DAYLIGHT
DTSTART:20250330T030000
RDATE:20251026T020000
TZOFFSETFROM:+0100
TZOFFSETTO:+0200
TZNAME:Europe/Paris CEST
END:DAYLIGHT
BEGIN:DAYLIGHT
DTSTART:20260329T030000
RDATE:20261025T020000
TZOFFSETFROM:+0100
TZOFFSETTO:+0200
TZNAME:Europe/Paris CEST
END:DAYLIGHT
END:VTIMEZONE
BEGIN:VEVENT
UID:e8f726fa47550dae192d704cd7b26c12
CATEGORIES:Compétition Saut
CREATED:20171121T093310
SUMMARY:Championnats de France U15
URL;VALUE=URI:https://skivosges.net/agenda/detailevenement/924/-/championnats-de-france-u
 15?tmpl=component
DESCRIPTION:<!-- #gskiepreuve code généré par le plugin jevents pour GskiEpreuves. Ne p
 as modifier cette ligne, ni tout le contenu suivant  #gskiepreuve --><div c
 lass="gski-evenement_infos"><div class="gski-evenement-nom">Championnats de
  France U15</div><div class="gski-evenement-report"></div><ul class="gski-e
 venement-liste-infos"><li>Codex évenement TNAT0060</li><li>Station : LA BRE
 SSE LISPACH</li><li>Organisateur : 14024 LA BRESSAUDE SECTION SKI</li></ul>
 <div class="gski-evenement-infos-2"><div class="gski-evenement-info-inscrip
 tions"><div class="gski-evenement-inscriptions-periodes">Période d'inscript
 ion à l'evènement du samedi 27 janvier 2018 à 00:00 au jeudi 01 février 201
 8 à 12:00 <span class="gski-evenement-inscriptions-impossibles">(Inscriptio
 ns impossibles).</span><div class="gski-evenement-inscriptions-types-titres
 ">Inscriptions ouvertes aux detenteurs des titres Fédéraux valides suivants
  : Licenciés Compétiteurs</div></div></div><div class="gski-evenement-epreu
 ves"><div class="gski-evenement-epreuves-titres">Epreuves :</div><ul class=
 "gski-evenement-epreuves-list"><li><div class="gski-epreuve-date">Le samedi
  03 février 2018</div><ul class="gski-epreuve-liste-infos"><li>Codex épreuv
 e TNAM0061</li><li>Saut Special</li><li>Catégorie(s) : U7 a U15 (Garçons)</
 li></ul></li><li><div class="gski-epreuve-date">Le samedi 03 février 2018</
 div><ul class="gski-epreuve-liste-infos"><li>Codex épreuve TNAF0061</li><li
 >Saut Special</li><li>Catégorie(s) : U7 a U15 (Filles)</li></ul></li><li><d
 iv class="gski-epreuve-date">Le samedi 03 février 2018</div><ul class="gski
 -epreuve-liste-infos"><li>Codex épreuve TNAF0062</li><li>Saut Par Equipe</l
 i><li>Catégorie(s) : U7 a U15 (Filles)</li></ul></li></ul></div><div class=
 "gskiepreuves-links"><ul><li><a href="/index.php?option=com_jevents&task=ic
 alevent.detail&evid=919&Itemid=1703">Voir les informations dans l'agenda...
 </a></li></ul></div></div"><!-- #/gskiepreuve fin du dode généré par le plu
 gin jevents pour GskiEpreuves. . Ne pas modifier cette ligne, ni tout le co
 ntenu précedant.  #/gskiepreuve --> <a href="https://skivosges.net/agenda/d
 etailevenement/924/-/championnats-de-france-u15?tmpl=component">Cet évèneme
 nt a été importé depuis :https://skivosges.net/agenda/detailevenement/924/-
 /championnats-de-france-u15?tmpl=component</a>
X-ALT-DESC;FMTTYPE=text/html:<!-- #gskiepreuve code généré par le plugin jevents pour GskiEpreuves. Ne p
 as modifier cette ligne, ni tout le contenu suivant  #gskiepreuve --><div c
 lass="gski-evenement_infos"><div class="gski-evenement-nom">Championnats de
  France U15</div><div class="gski-evenement-report"></div><ul class="gski-e
 venement-liste-infos"><li>Codex évenement TNAT0060</li><li>Station : LA BRE
 SSE LISPACH</li><li>Organisateur : 14024 LA BRESSAUDE SECTION SKI</li></ul>
 <div class="gski-evenement-infos-2"><div class="gski-evenement-info-inscrip
 tions"><div class="gski-evenement-inscriptions-periodes">Période d'inscript
 ion à l'evènement du samedi 27 janvier 2018 à 00:00 au jeudi 01 février 201
 8 à 12:00 <span class="gski-evenement-inscriptions-impossibles">(Inscriptio
 ns impossibles).</span><div class="gski-evenement-inscriptions-types-titres
 ">Inscriptions ouvertes aux detenteurs des titres Fédéraux valides suivants
  : Licenciés Compétiteurs</div></div></div><div class="gski-evenement-epreu
 ves"><div class="gski-evenement-epreuves-titres">Epreuves :</div><ul class=
 "gski-evenement-epreuves-list"><li><div class="gski-epreuve-date">Le samedi
  03 février 2018</div><ul class="gski-epreuve-liste-infos"><li>Codex épreuv
 e TNAM0061</li><li>Saut Special</li><li>Catégorie(s) : U7 a U15 (Garçons)</
 li></ul></li><li><div class="gski-epreuve-date">Le samedi 03 février 2018</
 div><ul class="gski-epreuve-liste-infos"><li>Codex épreuve TNAF0061</li><li
 >Saut Special</li><li>Catégorie(s) : U7 a U15 (Filles)</li></ul></li><li><d
 iv class="gski-epreuve-date">Le samedi 03 février 2018</div><ul class="gski
 -epreuve-liste-infos"><li>Codex épreuve TNAF0062</li><li>Saut Par Equipe</l
 i><li>Catégorie(s) : U7 a U15 (Filles)</li></ul></li></ul></div><div class=
 "gskiepreuves-links"><ul><li><a href="https://skivosges.net/index.php?optio
 n=com_jevents&task=icalevent.detail&evid=919&Itemid=1703">Voir les informat
 ions dans l'agenda...</a></li></ul></div></div"><!-- #/gskiepreuve fin du d
 ode généré par le plugin jevents pour GskiEpreuves. . Ne pas modifier cette
  ligne, ni tout le contenu précedant.  #/gskiepreuve --> <a href="https://s
 kivosges.net/agenda/detailevenement/924/-/championnats-de-france-u15?tmpl=c
 omponent">Cet évènement a été importé depuis :https://skivosges.net/agenda/
 detailevenement/924/-/championnats-de-france-u15?tmpl=component</a>DTSTAMP:20260421T015558
DTSTART;TZID=Europe/Paris;VALUE=DATE:20180203
DTEND;TZID=Europe/Paris;VALUE=DATE:20180205
SEQUENCE:0
TRANSP:OPAQUE
END:VEVENT
END:VCALENDAR