BEGIN:VCALENDAR
VERSION:2.0
PRODID:-//jEvents 2.0 for Joomla//EN
CALSCALE:GREGORIAN
METHOD:PUBLISH
BEGIN:VTIMEZONE
TZID:Europe/Paris
BEGIN:STANDARD
DTSTART:20170203T000000
RDATE:20170326T030000
TZOFFSETFROM:+0200
TZOFFSETTO:+0100
TZNAME:Europe/Paris CET
END:STANDARD
BEGIN:STANDARD
DTSTART:20171029T020000
RDATE:20180325T030000
TZOFFSETFROM:+0200
TZOFFSETTO:+0100
TZNAME:Europe/Paris CET
END:STANDARD
BEGIN:STANDARD
DTSTART:20181028T020000
RDATE:20190331T030000
TZOFFSETFROM:+0200
TZOFFSETTO:+0100
TZNAME:Europe/Paris CET
END:STANDARD
BEGIN:STANDARD
DTSTART:20191027T020000
RDATE:20200329T030000
TZOFFSETFROM:+0200
TZOFFSETTO:+0100
TZNAME:Europe/Paris CET
END:STANDARD
BEGIN:STANDARD
DTSTART:20201025T020000
RDATE:20210328T030000
TZOFFSETFROM:+0200
TZOFFSETTO:+0100
TZNAME:Europe/Paris CET
END:STANDARD
BEGIN:STANDARD
DTSTART:20211031T020000
RDATE:20220327T030000
TZOFFSETFROM:+0200
TZOFFSETTO:+0100
TZNAME:Europe/Paris CET
END:STANDARD
BEGIN:STANDARD
DTSTART:20221030T020000
RDATE:20230326T030000
TZOFFSETFROM:+0200
TZOFFSETTO:+0100
TZNAME:Europe/Paris CET
END:STANDARD
BEGIN:STANDARD
DTSTART:20231029T020000
RDATE:20240331T030000
TZOFFSETFROM:+0200
TZOFFSETTO:+0100
TZNAME:Europe/Paris CET
END:STANDARD
BEGIN:STANDARD
DTSTART:20241027T020000
RDATE:20250330T030000
TZOFFSETFROM:+0200
TZOFFSETTO:+0100
TZNAME:Europe/Paris CET
END:STANDARD
BEGIN:STANDARD
DTSTART:20251026T020000
RDATE:20260329T030000
TZOFFSETFROM:+0200
TZOFFSETTO:+0100
TZNAME:Europe/Paris CET
END:STANDARD
BEGIN:STANDARD
DTSTART:20261025T020000
RDATE:20270328T030000
TZOFFSETFROM:+0200
TZOFFSETTO:+0100
TZNAME:Europe/Paris CET
END:STANDARD
BEGIN:DAYLIGHT
DTSTART:20170326T030000
RDATE:20171029T020000
TZOFFSETFROM:+0100
TZOFFSETTO:+0200
TZNAME:Europe/Paris CEST
END:DAYLIGHT
BEGIN:DAYLIGHT
DTSTART:20180325T030000
RDATE:20181028T020000
TZOFFSETFROM:+0100
TZOFFSETTO:+0200
TZNAME:Europe/Paris CEST
END:DAYLIGHT
BEGIN:DAYLIGHT
DTSTART:20190331T030000
RDATE:20191027T020000
TZOFFSETFROM:+0100
TZOFFSETTO:+0200
TZNAME:Europe/Paris CEST
END:DAYLIGHT
BEGIN:DAYLIGHT
DTSTART:20200329T030000
RDATE:20201025T020000
TZOFFSETFROM:+0100
TZOFFSETTO:+0200
TZNAME:Europe/Paris CEST
END:DAYLIGHT
BEGIN:DAYLIGHT
DTSTART:20210328T030000
RDATE:20211031T020000
TZOFFSETFROM:+0100
TZOFFSETTO:+0200
TZNAME:Europe/Paris CEST
END:DAYLIGHT
BEGIN:DAYLIGHT
DTSTART:20220327T030000
RDATE:20221030T020000
TZOFFSETFROM:+0100
TZOFFSETTO:+0200
TZNAME:Europe/Paris CEST
END:DAYLIGHT
BEGIN:DAYLIGHT
DTSTART:20230326T030000
RDATE:20231029T020000
TZOFFSETFROM:+0100
TZOFFSETTO:+0200
TZNAME:Europe/Paris CEST
END:DAYLIGHT
BEGIN:DAYLIGHT
DTSTART:20240331T030000
RDATE:20241027T020000
TZOFFSETFROM:+0100
TZOFFSETTO:+0200
TZNAME:Europe/Paris CEST
END:DAYLIGHT
BEGIN:DAYLIGHT
DTSTART:20250330T030000
RDATE:20251026T020000
TZOFFSETFROM:+0100
TZOFFSETTO:+0200
TZNAME:Europe/Paris CEST
END:DAYLIGHT
BEGIN:DAYLIGHT
DTSTART:20260329T030000
RDATE:20261025T020000
TZOFFSETFROM:+0100
TZOFFSETTO:+0200
TZNAME:Europe/Paris CEST
END:DAYLIGHT
END:VTIMEZONE
BEGIN:VEVENT
UID:0b725b72429f18704de612147a2d1f0b
CATEGORIES:Circuit Massif D2 (alpin)
CREATED:20171121T093310
SUMMARY:CD2 Coupe de la Ville de Belfort
URL;VALUE=URI:https://skivosges.net/agenda/detailevenement/930/-/cd2-coupe-de-la-ville-de
 -belfort?tmpl=component
DESCRIPTION:CD2 Coupe de la Ville de Belfort\n - Codex évenement AMVT0350\n - Station :
  BALLON D'ALSACE\n - Piste : Stade de slalom\n - Organisateur : 14004 STE S
 KI TOURISME MONTAGNE\n - Courriel : RegularLabs.EmailProtector.unCloak("ep_
 4fd333c4");\n - Téléphone : 0384901720\n - Délégué Technique : L'EPINGLE JE
 AN CLAUDEPériode d'inscription à l'evènement du dimanche 28 janvier 2018 à 
 00:00 au vendredi 02 février 2018 à 19:00 (Inscriptions impossibles).Inscri
 ptions ouvertes aux detenteurs des titres Fédéraux valides suivants : Licen
 ciés CompétiteursEpreuves :\n - Le dimanche 04 février 2018\n - Codex épreu
 ve AMVM0351\n - Slalom\n - Catégorie(s) : U16 (Garçons)\n - Le dimanche 04 
 février 2018\n - Codex épreuve AMVF0351\n - Slalom\n - Catégorie(s) : U16 (
 Filles)\n - Le dimanche 04 février 2018\n - Codex épreuve AMVF0352\n - Slal
 om\n - Catégorie(s) : U18 a Masters (Dames)\n - Le dimanche 04 février 2018
 \n - Codex épreuve AMVM0352\n - Slalom\n - Catégorie(s) : U18 a Masters (Ho
 mmes)\n - Voir les informations dans l'agenda... (/index.php?option=com_jev
 ents&amp;task=icalevent.detail&amp;evid=925&amp;Itemid=1703)\n - Vers les r
 ésultats... (/index.php?option=com_gskiepreuves&amp;view=afficheresultats&a
 mp;format_option=tous&amp;filter[search]=AMVT0350&amp;filter[date_debut]=04
 -02-2018&amp;filter[date_fin]=04-02-2018&amp;code_activite=ALP&amp;Itemid=1
 703) Cet évènement a été importé depuis :https://skivosges.net/agenda/detai
 levenement/930/-/cd2-coupe-de-la-ville-de-belfort?tmpl=component (https://s
 kivosges.net/agenda/detailevenement/930/-/cd2-coupe-de-la-ville-de-belfort?
 tmpl=component)
X-ALT-DESC;FMTTYPE=text/html:<!-- #gskiepreuve code généré par le plugin jevents pour GskiEpreuves. Ne p
 as modifier cette ligne, ni tout le contenu suivant  #gskiepreuve --><div c
 lass="gski-evenement_infos"><div class="gski-evenement-nom">CD2 Coupe de la
  Ville de Belfort</div><div class="gski-evenement-report"></div><ul class="
 gski-evenement-liste-infos"><li>Codex évenement AMVT0350</li><li>Station : 
 BALLON D'ALSACE</li><li>Piste : Stade de slalom</li><li>Organisateur : 1400
 4 STE SKI TOURISME MONTAGNE</li><li>Courriel : <!-- Cette adresse électroni
 que est protégée contre les robots spammeurs. --><span class="cloaked_email
  ep_4fd333c4"><span data-ep-a="&#106;&#103;&#104;" data-ep-b=""><span data-
 ep-a="&#64;ci" data-ep-b="r"><span data-ep-b="&#101;&#46;f" data-ep-a="tel"
 ></span></span></span></span><script>RegularLabs.EmailProtector.unCloak("ep
 _4fd333c4");</script></li><li>Téléphone : 0384901720</li><li><span class="g
 ski-evenement-obs">Délégué Technique : L'EPINGLE JEAN CLAUDE</span></li></u
 l><div class="gski-evenement-infos-2"><div class="gski-evenement-info-inscr
 iptions"><div class="gski-evenement-inscriptions-periodes">Période d'inscri
 ption à l'evènement du dimanche 28 janvier 2018 à 00:00 au vendredi 02 févr
 ier 2018 à 19:00 <span class="gski-evenement-inscriptions-impossibles">(Ins
 criptions impossibles).</span><div class="gski-evenement-inscriptions-types
 -titres">Inscriptions ouvertes aux detenteurs des titres Fédéraux valides s
 uivants : Licenciés Compétiteurs</div></div></div><div class="gski-evenemen
 t-epreuves"><div class="gski-evenement-epreuves-titres">Epreuves :</div><ul
  class="gski-evenement-epreuves-list"><li><div class="gski-epreuve-date">Le
  dimanche 04 février 2018</div><ul class="gski-epreuve-liste-infos"><li>Cod
 ex épreuve AMVM0351</li><li>Slalom</li><li>Catégorie(s) : U16 (Garçons)</li
 ></ul></li><li><div class="gski-epreuve-date">Le dimanche 04 février 2018</
 div><ul class="gski-epreuve-liste-infos"><li>Codex épreuve AMVF0351</li><li
 >Slalom</li><li>Catégorie(s) : U16 (Filles)</li></ul></li><li><div class="g
 ski-epreuve-date">Le dimanche 04 février 2018</div><ul class="gski-epreuve-
 liste-infos"><li>Codex épreuve AMVF0352</li><li>Slalom</li><li>Catégorie(s)
  : U18 a Masters (Dames)</li></ul></li><li><div class="gski-epreuve-date">L
 e dimanche 04 février 2018</div><ul class="gski-epreuve-liste-infos"><li>Co
 dex épreuve AMVM0352</li><li>Slalom</li><li>Catégorie(s) : U18 a Masters (H
 ommes)</li></ul></li></ul></div><div class="gskiepreuves-links"><ul><li><a 
 href="https://skivosges.net/index.php?option=com_jevents&task=icalevent.det
 ail&evid=925&Itemid=1703">Voir les informations dans l'agenda...</a></li><l
 i><a href="https://skivosges.net/index.php?option=com_gskiepreuves&view=aff
 icheresultats&format_option=tous&filter[search]=AMVT0350&filter[date_debut]
 =04-02-2018&filter[date_fin]=04-02-2018&code_activite=ALP&Itemid=1703">Vers
  les résultats...</a></li></ul></div></div"><!-- #/gskiepreuve fin du dode 
 généré par le plugin jevents pour GskiEpreuves. . Ne pas modifier cette lig
 ne, ni tout le contenu précedant.  #/gskiepreuve --> <a href="https://skivo
 sges.net/agenda/detailevenement/930/-/cd2-coupe-de-la-ville-de-belfort?tmpl
 =component">Cet évènement a été importé depuis :https://skivosges.net/agend
 a/detailevenement/930/-/cd2-coupe-de-la-ville-de-belfort?tmpl=component</a>DTSTAMP:20260421T050907
DTSTART;TZID=Europe/Paris;VALUE=DATE:20180204
DTEND;TZID=Europe/Paris;VALUE=DATE:20180205
SEQUENCE:0
TRANSP:OPAQUE
END:VEVENT
END:VCALENDAR