BEGIN:VCALENDAR
VERSION:2.0
PRODID:-//jEvents 2.0 for Joomla//EN
CALSCALE:GREGORIAN
METHOD:PUBLISH
BEGIN:VTIMEZONE
TZID:Europe/Paris
BEGIN:STANDARD
DTSTART:20170209T000000
RDATE:20170326T030000
TZOFFSETFROM:+0200
TZOFFSETTO:+0100
TZNAME:Europe/Paris CET
END:STANDARD
BEGIN:STANDARD
DTSTART:20171029T020000
RDATE:20180325T030000
TZOFFSETFROM:+0200
TZOFFSETTO:+0100
TZNAME:Europe/Paris CET
END:STANDARD
BEGIN:STANDARD
DTSTART:20181028T020000
RDATE:20190331T030000
TZOFFSETFROM:+0200
TZOFFSETTO:+0100
TZNAME:Europe/Paris CET
END:STANDARD
BEGIN:STANDARD
DTSTART:20191027T020000
RDATE:20200329T030000
TZOFFSETFROM:+0200
TZOFFSETTO:+0100
TZNAME:Europe/Paris CET
END:STANDARD
BEGIN:STANDARD
DTSTART:20201025T020000
RDATE:20210328T030000
TZOFFSETFROM:+0200
TZOFFSETTO:+0100
TZNAME:Europe/Paris CET
END:STANDARD
BEGIN:STANDARD
DTSTART:20211031T020000
RDATE:20220327T030000
TZOFFSETFROM:+0200
TZOFFSETTO:+0100
TZNAME:Europe/Paris CET
END:STANDARD
BEGIN:STANDARD
DTSTART:20221030T020000
RDATE:20230326T030000
TZOFFSETFROM:+0200
TZOFFSETTO:+0100
TZNAME:Europe/Paris CET
END:STANDARD
BEGIN:STANDARD
DTSTART:20231029T020000
RDATE:20240331T030000
TZOFFSETFROM:+0200
TZOFFSETTO:+0100
TZNAME:Europe/Paris CET
END:STANDARD
BEGIN:STANDARD
DTSTART:20241027T020000
RDATE:20250330T030000
TZOFFSETFROM:+0200
TZOFFSETTO:+0100
TZNAME:Europe/Paris CET
END:STANDARD
BEGIN:STANDARD
DTSTART:20251026T020000
RDATE:20260329T030000
TZOFFSETFROM:+0200
TZOFFSETTO:+0100
TZNAME:Europe/Paris CET
END:STANDARD
BEGIN:STANDARD
DTSTART:20261025T020000
RDATE:20270328T030000
TZOFFSETFROM:+0200
TZOFFSETTO:+0100
TZNAME:Europe/Paris CET
END:STANDARD
BEGIN:DAYLIGHT
DTSTART:20170326T030000
RDATE:20171029T020000
TZOFFSETFROM:+0100
TZOFFSETTO:+0200
TZNAME:Europe/Paris CEST
END:DAYLIGHT
BEGIN:DAYLIGHT
DTSTART:20180325T030000
RDATE:20181028T020000
TZOFFSETFROM:+0100
TZOFFSETTO:+0200
TZNAME:Europe/Paris CEST
END:DAYLIGHT
BEGIN:DAYLIGHT
DTSTART:20190331T030000
RDATE:20191027T020000
TZOFFSETFROM:+0100
TZOFFSETTO:+0200
TZNAME:Europe/Paris CEST
END:DAYLIGHT
BEGIN:DAYLIGHT
DTSTART:20200329T030000
RDATE:20201025T020000
TZOFFSETFROM:+0100
TZOFFSETTO:+0200
TZNAME:Europe/Paris CEST
END:DAYLIGHT
BEGIN:DAYLIGHT
DTSTART:20210328T030000
RDATE:20211031T020000
TZOFFSETFROM:+0100
TZOFFSETTO:+0200
TZNAME:Europe/Paris CEST
END:DAYLIGHT
BEGIN:DAYLIGHT
DTSTART:20220327T030000
RDATE:20221030T020000
TZOFFSETFROM:+0100
TZOFFSETTO:+0200
TZNAME:Europe/Paris CEST
END:DAYLIGHT
BEGIN:DAYLIGHT
DTSTART:20230326T030000
RDATE:20231029T020000
TZOFFSETFROM:+0100
TZOFFSETTO:+0200
TZNAME:Europe/Paris CEST
END:DAYLIGHT
BEGIN:DAYLIGHT
DTSTART:20240331T030000
RDATE:20241027T020000
TZOFFSETFROM:+0100
TZOFFSETTO:+0200
TZNAME:Europe/Paris CEST
END:DAYLIGHT
BEGIN:DAYLIGHT
DTSTART:20250330T030000
RDATE:20251026T020000
TZOFFSETFROM:+0100
TZOFFSETTO:+0200
TZNAME:Europe/Paris CEST
END:DAYLIGHT
BEGIN:DAYLIGHT
DTSTART:20260329T030000
RDATE:20261025T020000
TZOFFSETFROM:+0100
TZOFFSETTO:+0200
TZNAME:Europe/Paris CEST
END:DAYLIGHT
END:VTIMEZONE
BEGIN:VEVENT
UID:e8b5778a68a2c441baeca7987ed72e98
CATEGORIES:Compétition Biathlon
CREATED:20171121T093310
SUMMARY:Biathlon Régional 04
URL;VALUE=URI:https://skivosges.net/agenda/detailevenement/937/-/biathlon-regional-04?tmp
 l=component
DESCRIPTION:<!-- #gskiepreuve code généré par le plugin jevents pour GskiEpreuves. Ne p
 as modifier cette ligne, ni tout le contenu suivant  #gskiepreuve --><div c
 lass="gski-evenement_infos"><div class="gski-evenement-nom">Biathlon Région
 al 04</div><div class="gski-evenement-report"></div><ul class="gski-eveneme
 nt-liste-infos"><li>Codex évenement BMVT0050</li><li>Station : LA BRESSE LI
 SPACH</li><li>Organisateur : 14486 BASSE SUR LE RUPT SKI NORDIQUE</li><li>C
 ourriel : <!-- Cette adresse électronique est protégée contre les robots sp
 ammeurs. --><span class="cloaked_email ep_570e0b82"><span data-ep-a="&#106;
 &#111;el" data-ep-b="&#46;&#102;&#114;"><span data-ep-b="&#97;&#100;&#111;&
 #111;" data-ep-a="&#46;&#99;l&#97;"><span data-ep-a="&#117;d&#111;&#110;" d
 ata-ep-b="&#64;&#119;an"></span></span></span></span><script>RegularLabs.Em
 ailProtector.unCloak("ep_570e0b82");</script></li></ul><div class="gski-eve
 nement-infos-2"><div class="gski-evenement-info-inscriptions"><div class="g
 ski-evenement-inscriptions-periodes">Période d'inscription à l'evènement du
  samedi 03 février 2018 à 00:00 au vendredi 09 février 2018 à 12:00 <span c
 lass="gski-evenement-inscriptions-impossibles">(Inscriptions impossibles).<
 /span><div class="gski-evenement-inscriptions-types-titres">Inscriptions ou
 vertes aux detenteurs des titres Fédéraux valides suivants : Licenciés Comp
 étiteurs</div></div></div><div class="gski-evenement-info-live">L'épreuve s
 era chronometrée avec les résultats publiés en direct (live)</div><div clas
 s="gski-evenement-epreuves"><div class="gski-evenement-epreuves-titres">Epr
 euves :</div><ul class="gski-evenement-epreuves-list"><li><div class="gski-
 epreuve-date">Le samedi 10 février 2018</div><ul class="gski-epreuve-liste-
 infos"><li>Codex épreuve BMVF0051</li><li>Individuel</li><li>Catégorie(s) :
  U16 (Filles)</li></ul></li><li><div class="gski-epreuve-date">Le samedi 10
  février 2018</div><ul class="gski-epreuve-liste-infos"><li>Codex épreuve B
 MVF0052</li><li>Individuel</li><li>Catégorie(s) : U16 a U21 (Filles)</li></
 ul></li><li><div class="gski-epreuve-date">Le samedi 10 février 2018</div><
 ul class="gski-epreuve-liste-infos"><li>Codex épreuve BMVF0053</li><li>Indi
 viduel</li><li>Catégorie(s) : Senior (Dames)</li></ul></li><li><div class="
 gski-epreuve-date">Le samedi 10 février 2018</div><ul class="gski-epreuve-l
 iste-infos"><li>Codex épreuve BMVM0051</li><li>Individuel</li><li>Catégorie
 (s) : U16 (Garçons)</li></ul></li><li><div class="gski-epreuve-date">Le sam
 edi 10 février 2018</div><ul class="gski-epreuve-liste-infos"><li>Codex épr
 euve BMVM0052</li><li>Individuel</li><li>Catégorie(s) : U16 a U21 (Garçons)
 </li></ul></li><li><div class="gski-epreuve-date">Le samedi 10 février 2018
 </div><ul class="gski-epreuve-liste-infos"><li>Codex épreuve BMVM0053</li><
 li>Individuel</li><li>Catégorie(s) : Senior (Hommes)</li></ul></li></ul></d
 iv><div class="gskiepreuves-links"><ul><li><a href="/index.php?option=com_j
 events&task=icalevent.detail&evid=932&Itemid=1703">Voir les informations da
 ns l'agenda...</a></li></ul></div></div"><!-- #/gskiepreuve fin du dode gén
 éré par le plugin jevents pour GskiEpreuves. . Ne pas modifier cette ligne,
  ni tout le contenu précedant.  #/gskiepreuve --> <a href="https://skivosge
 s.net/agenda/detailevenement/937/-/biathlon-regional-04?tmpl=component">Cet
  évènement a été importé depuis :https://skivosges.net/agenda/detaileveneme
 nt/937/-/biathlon-regional-04?tmpl=component</a>
X-ALT-DESC;FMTTYPE=text/html:<!-- #gskiepreuve code généré par le plugin jevents pour GskiEpreuves. Ne p
 as modifier cette ligne, ni tout le contenu suivant  #gskiepreuve --><div c
 lass="gski-evenement_infos"><div class="gski-evenement-nom">Biathlon Région
 al 04</div><div class="gski-evenement-report"></div><ul class="gski-eveneme
 nt-liste-infos"><li>Codex évenement BMVT0050</li><li>Station : LA BRESSE LI
 SPACH</li><li>Organisateur : 14486 BASSE SUR LE RUPT SKI NORDIQUE</li><li>C
 ourriel : <!-- Cette adresse électronique est protégée contre les robots sp
 ammeurs. --><span class="cloaked_email ep_570e0b82"><span data-ep-a="&#106;
 &#111;el" data-ep-b="&#46;&#102;&#114;"><span data-ep-b="&#97;&#100;&#111;&
 #111;" data-ep-a="&#46;&#99;l&#97;"><span data-ep-a="&#117;d&#111;&#110;" d
 ata-ep-b="&#64;&#119;an"></span></span></span></span><script>RegularLabs.Em
 ailProtector.unCloak("ep_570e0b82");</script></li></ul><div class="gski-eve
 nement-infos-2"><div class="gski-evenement-info-inscriptions"><div class="g
 ski-evenement-inscriptions-periodes">Période d'inscription à l'evènement du
  samedi 03 février 2018 à 00:00 au vendredi 09 février 2018 à 12:00 <span c
 lass="gski-evenement-inscriptions-impossibles">(Inscriptions impossibles).<
 /span><div class="gski-evenement-inscriptions-types-titres">Inscriptions ou
 vertes aux detenteurs des titres Fédéraux valides suivants : Licenciés Comp
 étiteurs</div></div></div><div class="gski-evenement-info-live">L'épreuve s
 era chronometrée avec les résultats publiés en direct (live)</div><div clas
 s="gski-evenement-epreuves"><div class="gski-evenement-epreuves-titres">Epr
 euves :</div><ul class="gski-evenement-epreuves-list"><li><div class="gski-
 epreuve-date">Le samedi 10 février 2018</div><ul class="gski-epreuve-liste-
 infos"><li>Codex épreuve BMVF0051</li><li>Individuel</li><li>Catégorie(s) :
  U16 (Filles)</li></ul></li><li><div class="gski-epreuve-date">Le samedi 10
  février 2018</div><ul class="gski-epreuve-liste-infos"><li>Codex épreuve B
 MVF0052</li><li>Individuel</li><li>Catégorie(s) : U16 a U21 (Filles)</li></
 ul></li><li><div class="gski-epreuve-date">Le samedi 10 février 2018</div><
 ul class="gski-epreuve-liste-infos"><li>Codex épreuve BMVF0053</li><li>Indi
 viduel</li><li>Catégorie(s) : Senior (Dames)</li></ul></li><li><div class="
 gski-epreuve-date">Le samedi 10 février 2018</div><ul class="gski-epreuve-l
 iste-infos"><li>Codex épreuve BMVM0051</li><li>Individuel</li><li>Catégorie
 (s) : U16 (Garçons)</li></ul></li><li><div class="gski-epreuve-date">Le sam
 edi 10 février 2018</div><ul class="gski-epreuve-liste-infos"><li>Codex épr
 euve BMVM0052</li><li>Individuel</li><li>Catégorie(s) : U16 a U21 (Garçons)
 </li></ul></li><li><div class="gski-epreuve-date">Le samedi 10 février 2018
 </div><ul class="gski-epreuve-liste-infos"><li>Codex épreuve BMVM0053</li><
 li>Individuel</li><li>Catégorie(s) : Senior (Hommes)</li></ul></li></ul></d
 iv><div class="gskiepreuves-links"><ul><li><a href="https://skivosges.net/i
 ndex.php?option=com_jevents&task=icalevent.detail&evid=932&Itemid=1703">Voi
 r les informations dans l'agenda...</a></li></ul></div></div"><!-- #/gskiep
 reuve fin du dode généré par le plugin jevents pour GskiEpreuves. . Ne pas 
 modifier cette ligne, ni tout le contenu précedant.  #/gskiepreuve --> <a h
 ref="https://skivosges.net/agenda/detailevenement/937/-/biathlon-regional-0
 4?tmpl=component">Cet évènement a été importé depuis :https://skivosges.net
 /agenda/detailevenement/937/-/biathlon-regional-04?tmpl=component</a>DTSTAMP:20260421T051420
DTSTART;TZID=Europe/Paris;VALUE=DATE:20180210
DTEND;TZID=Europe/Paris;VALUE=DATE:20180211
SEQUENCE:0
TRANSP:OPAQUE
END:VEVENT
END:VCALENDAR