BEGIN:VCALENDAR
VERSION:2.0
PRODID:-//jEvents 2.0 for Joomla//EN
CALSCALE:GREGORIAN
METHOD:PUBLISH
BEGIN:VTIMEZONE
TZID:Europe/Paris
BEGIN:STANDARD
DTSTART:20170209T000000
RDATE:20170326T030000
TZOFFSETFROM:+0200
TZOFFSETTO:+0100
TZNAME:Europe/Paris CET
END:STANDARD
BEGIN:STANDARD
DTSTART:20171029T020000
RDATE:20180325T030000
TZOFFSETFROM:+0200
TZOFFSETTO:+0100
TZNAME:Europe/Paris CET
END:STANDARD
BEGIN:STANDARD
DTSTART:20181028T020000
RDATE:20190331T030000
TZOFFSETFROM:+0200
TZOFFSETTO:+0100
TZNAME:Europe/Paris CET
END:STANDARD
BEGIN:STANDARD
DTSTART:20191027T020000
RDATE:20200329T030000
TZOFFSETFROM:+0200
TZOFFSETTO:+0100
TZNAME:Europe/Paris CET
END:STANDARD
BEGIN:STANDARD
DTSTART:20201025T020000
RDATE:20210328T030000
TZOFFSETFROM:+0200
TZOFFSETTO:+0100
TZNAME:Europe/Paris CET
END:STANDARD
BEGIN:STANDARD
DTSTART:20211031T020000
RDATE:20220327T030000
TZOFFSETFROM:+0200
TZOFFSETTO:+0100
TZNAME:Europe/Paris CET
END:STANDARD
BEGIN:STANDARD
DTSTART:20221030T020000
RDATE:20230326T030000
TZOFFSETFROM:+0200
TZOFFSETTO:+0100
TZNAME:Europe/Paris CET
END:STANDARD
BEGIN:STANDARD
DTSTART:20231029T020000
RDATE:20240331T030000
TZOFFSETFROM:+0200
TZOFFSETTO:+0100
TZNAME:Europe/Paris CET
END:STANDARD
BEGIN:STANDARD
DTSTART:20241027T020000
RDATE:20250330T030000
TZOFFSETFROM:+0200
TZOFFSETTO:+0100
TZNAME:Europe/Paris CET
END:STANDARD
BEGIN:STANDARD
DTSTART:20251026T020000
RDATE:20260329T030000
TZOFFSETFROM:+0200
TZOFFSETTO:+0100
TZNAME:Europe/Paris CET
END:STANDARD
BEGIN:STANDARD
DTSTART:20261025T020000
RDATE:20270328T030000
TZOFFSETFROM:+0200
TZOFFSETTO:+0100
TZNAME:Europe/Paris CET
END:STANDARD
BEGIN:DAYLIGHT
DTSTART:20170326T030000
RDATE:20171029T020000
TZOFFSETFROM:+0100
TZOFFSETTO:+0200
TZNAME:Europe/Paris CEST
END:DAYLIGHT
BEGIN:DAYLIGHT
DTSTART:20180325T030000
RDATE:20181028T020000
TZOFFSETFROM:+0100
TZOFFSETTO:+0200
TZNAME:Europe/Paris CEST
END:DAYLIGHT
BEGIN:DAYLIGHT
DTSTART:20190331T030000
RDATE:20191027T020000
TZOFFSETFROM:+0100
TZOFFSETTO:+0200
TZNAME:Europe/Paris CEST
END:DAYLIGHT
BEGIN:DAYLIGHT
DTSTART:20200329T030000
RDATE:20201025T020000
TZOFFSETFROM:+0100
TZOFFSETTO:+0200
TZNAME:Europe/Paris CEST
END:DAYLIGHT
BEGIN:DAYLIGHT
DTSTART:20210328T030000
RDATE:20211031T020000
TZOFFSETFROM:+0100
TZOFFSETTO:+0200
TZNAME:Europe/Paris CEST
END:DAYLIGHT
BEGIN:DAYLIGHT
DTSTART:20220327T030000
RDATE:20221030T020000
TZOFFSETFROM:+0100
TZOFFSETTO:+0200
TZNAME:Europe/Paris CEST
END:DAYLIGHT
BEGIN:DAYLIGHT
DTSTART:20230326T030000
RDATE:20231029T020000
TZOFFSETFROM:+0100
TZOFFSETTO:+0200
TZNAME:Europe/Paris CEST
END:DAYLIGHT
BEGIN:DAYLIGHT
DTSTART:20240331T030000
RDATE:20241027T020000
TZOFFSETFROM:+0100
TZOFFSETTO:+0200
TZNAME:Europe/Paris CEST
END:DAYLIGHT
BEGIN:DAYLIGHT
DTSTART:20250330T030000
RDATE:20251026T020000
TZOFFSETFROM:+0100
TZOFFSETTO:+0200
TZNAME:Europe/Paris CEST
END:DAYLIGHT
BEGIN:DAYLIGHT
DTSTART:20260329T030000
RDATE:20261025T020000
TZOFFSETFROM:+0100
TZOFFSETTO:+0200
TZNAME:Europe/Paris CEST
END:DAYLIGHT
END:VTIMEZONE
BEGIN:VEVENT
UID:91c3d7150c13bb0550af0cb6d9182ae4
CATEGORIES:Compétition Ski de Fond
CREATED:20171121T093310
SUMMARY:PROMO FOYERS 67
URL;VALUE=URI:https://skivosges.net/agenda/detailevenement/938/-/promo-foyers-67?tmpl=com
 ponent
DESCRIPTION:<!-- #gskiepreuve code généré par le plugin jevents pour GskiEpreuves. Ne p
 as modifier cette ligne, ni tout le contenu suivant  #gskiepreuve --><div c
 lass="gski-evenement_infos"><div class="gski-evenement-nom">PROMO FOYERS 67
 </div><div class="gski-evenement-report"></div><ul class="gski-evenement-li
 ste-infos"><li>Codex évenement FMVT0150</li><li>Lieu : Parking des Myrtille
 s</li><li>Station : CHAMP DU FEU</li><li>Organisateur : 14448 MOLSHEIM SKI 
 NORDIQUE</li></ul><div class="gski-evenement-infos-2"><div class="gski-even
 ement-info-inscriptions"><div class="gski-evenement-inscriptions-periodes">
 Période d'inscription à l'evènement du lundi 05 février 2018 à 21:00 au ven
 dredi 09 février 2018 à 19:00 <span class="gski-evenement-inscriptions-impo
 ssibles">(Inscriptions impossibles).</span><div class="gski-evenement-inscr
 iptions-types-titres">Inscriptions ouvertes aux detenteurs des titres Fédér
 aux valides suivants : Licenciés Compétiteurs, Titres Loisirs et Dirigeants
  et Tickets course</div></div></div><div class="gski-evenement-epreuves"><d
 iv class="gski-evenement-epreuves-titres">Epreuves :</div><ul class="gski-e
 venement-epreuves-list"><li><div class="gski-epreuve-date">Le samedi 10 fév
 rier 2018</div><ul class="gski-epreuve-liste-infos"><li>Codex épreuve FMVF0
 151</li><li>Depart Individuel</li><li>Catégorie(s) : U14 (Filles)</li></ul>
 </li><li><div class="gski-epreuve-date">Le samedi 10 février 2018</div><ul 
 class="gski-epreuve-liste-infos"><li>Codex épreuve FMVF0152</li><li>Depart 
 Individuel</li><li>Catégorie(s) : U10 (Filles)</li></ul></li><li><div class
 ="gski-epreuve-date">Le samedi 10 février 2018</div><ul class="gski-epreuve
 -liste-infos"><li>Codex épreuve FMVF0153</li><li>Depart Individuel</li><li>
 Catégorie(s) : U12 (Filles)</li></ul></li><li><div class="gski-epreuve-date
 ">Le samedi 10 février 2018</div><ul class="gski-epreuve-liste-infos"><li>C
 odex épreuve FMVM0151</li><li>Depart Individuel</li><li>Catégorie(s) : U14 
 (Garçons)</li></ul></li><li><div class="gski-epreuve-date">Le samedi 10 fév
 rier 2018</div><ul class="gski-epreuve-liste-infos"><li>Codex épreuve FMVM0
 152</li><li>Depart Individuel</li><li>Catégorie(s) : U10 (Garçons)</li></ul
 ></li><li><div class="gski-epreuve-date">Le samedi 10 février 2018</div><ul
  class="gski-epreuve-liste-infos"><li>Codex épreuve FMVM0153</li><li>Depart
  Individuel</li><li>Catégorie(s) : U12 (Garçons)</li></ul></li></ul></div><
 div class="gskiepreuves-links"><ul><li><a href="/index.php?option=com_jeven
 ts&task=icalevent.detail&evid=933&Itemid=1703">Voir les informations dans l
 'agenda...</a></li><li><a href="/index.php?option=com_gskiepreuves&view=aff
 icheresultats&format_option=tous&filter[search]=FMVT0150&filter[date_debut]
 =10-02-2018&filter[date_fin]=10-02-2018&code_activite=FOND&Itemid=1703">Ver
 s les résultats...</a></li></ul></div></div"><!-- #/gskiepreuve fin du dode
  généré par le plugin jevents pour GskiEpreuves. . Ne pas modifier cette li
 gne, ni tout le contenu précedant.  #/gskiepreuve --> <a href="https://skiv
 osges.net/agenda/detailevenement/938/-/promo-foyers-67?tmpl=component">Cet 
 évènement a été importé depuis :https://skivosges.net/agenda/detailevenemen
 t/938/-/promo-foyers-67?tmpl=component</a>
X-ALT-DESC;FMTTYPE=text/html:<!-- #gskiepreuve code généré par le plugin jevents pour GskiEpreuves. Ne p
 as modifier cette ligne, ni tout le contenu suivant  #gskiepreuve --><div c
 lass="gski-evenement_infos"><div class="gski-evenement-nom">PROMO FOYERS 67
 </div><div class="gski-evenement-report"></div><ul class="gski-evenement-li
 ste-infos"><li>Codex évenement FMVT0150</li><li>Lieu : Parking des Myrtille
 s</li><li>Station : CHAMP DU FEU</li><li>Organisateur : 14448 MOLSHEIM SKI 
 NORDIQUE</li></ul><div class="gski-evenement-infos-2"><div class="gski-even
 ement-info-inscriptions"><div class="gski-evenement-inscriptions-periodes">
 Période d'inscription à l'evènement du lundi 05 février 2018 à 21:00 au ven
 dredi 09 février 2018 à 19:00 <span class="gski-evenement-inscriptions-impo
 ssibles">(Inscriptions impossibles).</span><div class="gski-evenement-inscr
 iptions-types-titres">Inscriptions ouvertes aux detenteurs des titres Fédér
 aux valides suivants : Licenciés Compétiteurs, Titres Loisirs et Dirigeants
  et Tickets course</div></div></div><div class="gski-evenement-epreuves"><d
 iv class="gski-evenement-epreuves-titres">Epreuves :</div><ul class="gski-e
 venement-epreuves-list"><li><div class="gski-epreuve-date">Le samedi 10 fév
 rier 2018</div><ul class="gski-epreuve-liste-infos"><li>Codex épreuve FMVF0
 151</li><li>Depart Individuel</li><li>Catégorie(s) : U14 (Filles)</li></ul>
 </li><li><div class="gski-epreuve-date">Le samedi 10 février 2018</div><ul 
 class="gski-epreuve-liste-infos"><li>Codex épreuve FMVF0152</li><li>Depart 
 Individuel</li><li>Catégorie(s) : U10 (Filles)</li></ul></li><li><div class
 ="gski-epreuve-date">Le samedi 10 février 2018</div><ul class="gski-epreuve
 -liste-infos"><li>Codex épreuve FMVF0153</li><li>Depart Individuel</li><li>
 Catégorie(s) : U12 (Filles)</li></ul></li><li><div class="gski-epreuve-date
 ">Le samedi 10 février 2018</div><ul class="gski-epreuve-liste-infos"><li>C
 odex épreuve FMVM0151</li><li>Depart Individuel</li><li>Catégorie(s) : U14 
 (Garçons)</li></ul></li><li><div class="gski-epreuve-date">Le samedi 10 fév
 rier 2018</div><ul class="gski-epreuve-liste-infos"><li>Codex épreuve FMVM0
 152</li><li>Depart Individuel</li><li>Catégorie(s) : U10 (Garçons)</li></ul
 ></li><li><div class="gski-epreuve-date">Le samedi 10 février 2018</div><ul
  class="gski-epreuve-liste-infos"><li>Codex épreuve FMVM0153</li><li>Depart
  Individuel</li><li>Catégorie(s) : U12 (Garçons)</li></ul></li></ul></div><
 div class="gskiepreuves-links"><ul><li><a href="https://skivosges.net/index
 .php?option=com_jevents&task=icalevent.detail&evid=933&Itemid=1703">Voir le
 s informations dans l'agenda...</a></li><li><a href="https://skivosges.net/
 index.php?option=com_gskiepreuves&view=afficheresultats&format_option=tous&
 filter[search]=FMVT0150&filter[date_debut]=10-02-2018&filter[date_fin]=10-0
 2-2018&code_activite=FOND&Itemid=1703">Vers les résultats...</a></li></ul><
 /div></div"><!-- #/gskiepreuve fin du dode généré par le plugin jevents pou
 r GskiEpreuves. . Ne pas modifier cette ligne, ni tout le contenu précedant
 .  #/gskiepreuve --> <a href="https://skivosges.net/agenda/detailevenement/
 938/-/promo-foyers-67?tmpl=component">Cet évènement a été importé depuis :h
 ttps://skivosges.net/agenda/detailevenement/938/-/promo-foyers-67?tmpl=comp
 onent</a>DTSTAMP:20260421T051411
DTSTART;TZID=Europe/Paris;VALUE=DATE:20180210
DTEND;TZID=Europe/Paris;VALUE=DATE:20180211
SEQUENCE:0
TRANSP:OPAQUE
END:VEVENT
END:VCALENDAR