BEGIN:VCALENDAR
VERSION:2.0
PRODID:-//jEvents 2.0 for Joomla//EN
CALSCALE:GREGORIAN
METHOD:PUBLISH
BEGIN:VTIMEZONE
TZID:Europe/Paris
BEGIN:STANDARD
DTSTART:20170209T000000
RDATE:20170326T030000
TZOFFSETFROM:+0200
TZOFFSETTO:+0100
TZNAME:Europe/Paris CET
END:STANDARD
BEGIN:STANDARD
DTSTART:20171029T020000
RDATE:20180325T030000
TZOFFSETFROM:+0200
TZOFFSETTO:+0100
TZNAME:Europe/Paris CET
END:STANDARD
BEGIN:STANDARD
DTSTART:20181028T020000
RDATE:20190331T030000
TZOFFSETFROM:+0200
TZOFFSETTO:+0100
TZNAME:Europe/Paris CET
END:STANDARD
BEGIN:STANDARD
DTSTART:20191027T020000
RDATE:20200329T030000
TZOFFSETFROM:+0200
TZOFFSETTO:+0100
TZNAME:Europe/Paris CET
END:STANDARD
BEGIN:STANDARD
DTSTART:20201025T020000
RDATE:20210328T030000
TZOFFSETFROM:+0200
TZOFFSETTO:+0100
TZNAME:Europe/Paris CET
END:STANDARD
BEGIN:STANDARD
DTSTART:20211031T020000
RDATE:20220327T030000
TZOFFSETFROM:+0200
TZOFFSETTO:+0100
TZNAME:Europe/Paris CET
END:STANDARD
BEGIN:STANDARD
DTSTART:20221030T020000
RDATE:20230326T030000
TZOFFSETFROM:+0200
TZOFFSETTO:+0100
TZNAME:Europe/Paris CET
END:STANDARD
BEGIN:STANDARD
DTSTART:20231029T020000
RDATE:20240331T030000
TZOFFSETFROM:+0200
TZOFFSETTO:+0100
TZNAME:Europe/Paris CET
END:STANDARD
BEGIN:STANDARD
DTSTART:20241027T020000
RDATE:20250330T030000
TZOFFSETFROM:+0200
TZOFFSETTO:+0100
TZNAME:Europe/Paris CET
END:STANDARD
BEGIN:STANDARD
DTSTART:20251026T020000
RDATE:20260329T030000
TZOFFSETFROM:+0200
TZOFFSETTO:+0100
TZNAME:Europe/Paris CET
END:STANDARD
BEGIN:STANDARD
DTSTART:20261025T020000
RDATE:20270328T030000
TZOFFSETFROM:+0200
TZOFFSETTO:+0100
TZNAME:Europe/Paris CET
END:STANDARD
BEGIN:DAYLIGHT
DTSTART:20170326T030000
RDATE:20171029T020000
TZOFFSETFROM:+0100
TZOFFSETTO:+0200
TZNAME:Europe/Paris CEST
END:DAYLIGHT
BEGIN:DAYLIGHT
DTSTART:20180325T030000
RDATE:20181028T020000
TZOFFSETFROM:+0100
TZOFFSETTO:+0200
TZNAME:Europe/Paris CEST
END:DAYLIGHT
BEGIN:DAYLIGHT
DTSTART:20190331T030000
RDATE:20191027T020000
TZOFFSETFROM:+0100
TZOFFSETTO:+0200
TZNAME:Europe/Paris CEST
END:DAYLIGHT
BEGIN:DAYLIGHT
DTSTART:20200329T030000
RDATE:20201025T020000
TZOFFSETFROM:+0100
TZOFFSETTO:+0200
TZNAME:Europe/Paris CEST
END:DAYLIGHT
BEGIN:DAYLIGHT
DTSTART:20210328T030000
RDATE:20211031T020000
TZOFFSETFROM:+0100
TZOFFSETTO:+0200
TZNAME:Europe/Paris CEST
END:DAYLIGHT
BEGIN:DAYLIGHT
DTSTART:20220327T030000
RDATE:20221030T020000
TZOFFSETFROM:+0100
TZOFFSETTO:+0200
TZNAME:Europe/Paris CEST
END:DAYLIGHT
BEGIN:DAYLIGHT
DTSTART:20230326T030000
RDATE:20231029T020000
TZOFFSETFROM:+0100
TZOFFSETTO:+0200
TZNAME:Europe/Paris CEST
END:DAYLIGHT
BEGIN:DAYLIGHT
DTSTART:20240331T030000
RDATE:20241027T020000
TZOFFSETFROM:+0100
TZOFFSETTO:+0200
TZNAME:Europe/Paris CEST
END:DAYLIGHT
BEGIN:DAYLIGHT
DTSTART:20250330T030000
RDATE:20251026T020000
TZOFFSETFROM:+0100
TZOFFSETTO:+0200
TZNAME:Europe/Paris CEST
END:DAYLIGHT
BEGIN:DAYLIGHT
DTSTART:20260329T030000
RDATE:20261025T020000
TZOFFSETFROM:+0100
TZOFFSETTO:+0200
TZNAME:Europe/Paris CEST
END:DAYLIGHT
END:VTIMEZONE
BEGIN:VEVENT
UID:42a6ac652cd5130fd88277e8a38172ca
CATEGORIES:Compétition Saut
CREATED:20171121T093310
SUMMARY:LA BRESSE  / Jeux du saut Crédit Mutuel  Lispach  K15m
URL;VALUE=URI:https://skivosges.net/agenda/detailevenement/940/-/la-bresse-jeux-du-saut-c
 redit-mutuel-lispach-k15m?tmpl=component
DESCRIPTION:<!-- #gskiepreuve code généré par le plugin jevents pour GskiEpreuves. Ne p
 as modifier cette ligne, ni tout le contenu suivant  #gskiepreuve --><div c
 lass="gski-evenement_infos"><div class="gski-evenement-nom">LA BRESSE  / Je
 ux du saut Crédit Mutuel  Lispach  K15m</div><div class="gski-evenement-rep
 ort"></div><ul class="gski-evenement-liste-infos"><li>Codex évenement TMVT0
 070</li><li>Station : LA BRESSE LISPACH</li><li>Organisateur : 14145 SKI CL
 UB KRUTH</li></ul><div class="gski-evenement-infos-2"><div class="gski-even
 ement-info-inscriptions"><div class="gski-evenement-inscriptions-periodes">
 Période d'inscription à l'evènement du samedi 03 février 2018 à 00:00 au je
 udi 08 février 2018 à 12:00 <span class="gski-evenement-inscriptions-imposs
 ibles">(Inscriptions impossibles).</span><div class="gski-evenement-inscrip
 tions-types-titres">Le type de titres Fédéraux autorisé n'est pas défini. V
 euillez contacter l'organisateur et lui signaler le problème.</div></div></
 div><div class="gskiepreuves-links"><ul><li><a href="/index.php?option=com_
 jevents&task=icalevent.detail&evid=935&Itemid=1703">Voir les informations d
 ans l'agenda...</a></li></ul></div></div"><!-- #/gskiepreuve fin du dode gé
 néré par le plugin jevents pour GskiEpreuves. . Ne pas modifier cette ligne
 , ni tout le contenu précedant.  #/gskiepreuve --> <a href="https://skivosg
 es.net/agenda/detailevenement/940/-/la-bresse-jeux-du-saut-credit-mutuel-li
 spach-k15m?tmpl=component">Cet évènement a été importé depuis :https://skiv
 osges.net/agenda/detailevenement/940/-/la-bresse-jeux-du-saut-credit-mutuel
 -lispach-k15m?tmpl=component</a>
X-ALT-DESC;FMTTYPE=text/html:<!-- #gskiepreuve code généré par le plugin jevents pour GskiEpreuves. Ne p
 as modifier cette ligne, ni tout le contenu suivant  #gskiepreuve --><div c
 lass="gski-evenement_infos"><div class="gski-evenement-nom">LA BRESSE  / Je
 ux du saut Crédit Mutuel  Lispach  K15m</div><div class="gski-evenement-rep
 ort"></div><ul class="gski-evenement-liste-infos"><li>Codex évenement TMVT0
 070</li><li>Station : LA BRESSE LISPACH</li><li>Organisateur : 14145 SKI CL
 UB KRUTH</li></ul><div class="gski-evenement-infos-2"><div class="gski-even
 ement-info-inscriptions"><div class="gski-evenement-inscriptions-periodes">
 Période d'inscription à l'evènement du samedi 03 février 2018 à 00:00 au je
 udi 08 février 2018 à 12:00 <span class="gski-evenement-inscriptions-imposs
 ibles">(Inscriptions impossibles).</span><div class="gski-evenement-inscrip
 tions-types-titres">Le type de titres Fédéraux autorisé n'est pas défini. V
 euillez contacter l'organisateur et lui signaler le problème.</div></div></
 div><div class="gskiepreuves-links"><ul><li><a href="https://skivosges.net/
 index.php?option=com_jevents&task=icalevent.detail&evid=935&Itemid=1703">Vo
 ir les informations dans l'agenda...</a></li></ul></div></div"><!-- #/gskie
 preuve fin du dode généré par le plugin jevents pour GskiEpreuves. . Ne pas
  modifier cette ligne, ni tout le contenu précedant.  #/gskiepreuve --> <a 
 href="https://skivosges.net/agenda/detailevenement/940/-/la-bresse-jeux-du-
 saut-credit-mutuel-lispach-k15m?tmpl=component">Cet évènement a été importé
  depuis :https://skivosges.net/agenda/detailevenement/940/-/la-bresse-jeux-
 du-saut-credit-mutuel-lispach-k15m?tmpl=component</a>DTSTAMP:20260421T051323
DTSTART;TZID=Europe/Paris;VALUE=DATE:20180210
DTEND;TZID=Europe/Paris;VALUE=DATE:20180211
SEQUENCE:0
TRANSP:OPAQUE
END:VEVENT
END:VCALENDAR