BEGIN:VCALENDAR
VERSION:2.0
PRODID:-//jEvents 2.0 for Joomla//EN
CALSCALE:GREGORIAN
METHOD:PUBLISH
BEGIN:VTIMEZONE
TZID:Europe/Paris
BEGIN:STANDARD
DTSTART:20170210T000000
RDATE:20170326T030000
TZOFFSETFROM:+0200
TZOFFSETTO:+0100
TZNAME:Europe/Paris CET
END:STANDARD
BEGIN:STANDARD
DTSTART:20171029T020000
RDATE:20180325T030000
TZOFFSETFROM:+0200
TZOFFSETTO:+0100
TZNAME:Europe/Paris CET
END:STANDARD
BEGIN:STANDARD
DTSTART:20181028T020000
RDATE:20190331T030000
TZOFFSETFROM:+0200
TZOFFSETTO:+0100
TZNAME:Europe/Paris CET
END:STANDARD
BEGIN:STANDARD
DTSTART:20191027T020000
RDATE:20200329T030000
TZOFFSETFROM:+0200
TZOFFSETTO:+0100
TZNAME:Europe/Paris CET
END:STANDARD
BEGIN:STANDARD
DTSTART:20201025T020000
RDATE:20210328T030000
TZOFFSETFROM:+0200
TZOFFSETTO:+0100
TZNAME:Europe/Paris CET
END:STANDARD
BEGIN:STANDARD
DTSTART:20211031T020000
RDATE:20220327T030000
TZOFFSETFROM:+0200
TZOFFSETTO:+0100
TZNAME:Europe/Paris CET
END:STANDARD
BEGIN:STANDARD
DTSTART:20221030T020000
RDATE:20230326T030000
TZOFFSETFROM:+0200
TZOFFSETTO:+0100
TZNAME:Europe/Paris CET
END:STANDARD
BEGIN:STANDARD
DTSTART:20231029T020000
RDATE:20240331T030000
TZOFFSETFROM:+0200
TZOFFSETTO:+0100
TZNAME:Europe/Paris CET
END:STANDARD
BEGIN:STANDARD
DTSTART:20241027T020000
RDATE:20250330T030000
TZOFFSETFROM:+0200
TZOFFSETTO:+0100
TZNAME:Europe/Paris CET
END:STANDARD
BEGIN:STANDARD
DTSTART:20251026T020000
RDATE:20260329T030000
TZOFFSETFROM:+0200
TZOFFSETTO:+0100
TZNAME:Europe/Paris CET
END:STANDARD
BEGIN:STANDARD
DTSTART:20261025T020000
RDATE:20270328T030000
TZOFFSETFROM:+0200
TZOFFSETTO:+0100
TZNAME:Europe/Paris CET
END:STANDARD
BEGIN:DAYLIGHT
DTSTART:20170326T030000
RDATE:20171029T020000
TZOFFSETFROM:+0100
TZOFFSETTO:+0200
TZNAME:Europe/Paris CEST
END:DAYLIGHT
BEGIN:DAYLIGHT
DTSTART:20180325T030000
RDATE:20181028T020000
TZOFFSETFROM:+0100
TZOFFSETTO:+0200
TZNAME:Europe/Paris CEST
END:DAYLIGHT
BEGIN:DAYLIGHT
DTSTART:20190331T030000
RDATE:20191027T020000
TZOFFSETFROM:+0100
TZOFFSETTO:+0200
TZNAME:Europe/Paris CEST
END:DAYLIGHT
BEGIN:DAYLIGHT
DTSTART:20200329T030000
RDATE:20201025T020000
TZOFFSETFROM:+0100
TZOFFSETTO:+0200
TZNAME:Europe/Paris CEST
END:DAYLIGHT
BEGIN:DAYLIGHT
DTSTART:20210328T030000
RDATE:20211031T020000
TZOFFSETFROM:+0100
TZOFFSETTO:+0200
TZNAME:Europe/Paris CEST
END:DAYLIGHT
BEGIN:DAYLIGHT
DTSTART:20220327T030000
RDATE:20221030T020000
TZOFFSETFROM:+0100
TZOFFSETTO:+0200
TZNAME:Europe/Paris CEST
END:DAYLIGHT
BEGIN:DAYLIGHT
DTSTART:20230326T030000
RDATE:20231029T020000
TZOFFSETFROM:+0100
TZOFFSETTO:+0200
TZNAME:Europe/Paris CEST
END:DAYLIGHT
BEGIN:DAYLIGHT
DTSTART:20240331T030000
RDATE:20241027T020000
TZOFFSETFROM:+0100
TZOFFSETTO:+0200
TZNAME:Europe/Paris CEST
END:DAYLIGHT
BEGIN:DAYLIGHT
DTSTART:20250330T030000
RDATE:20251026T020000
TZOFFSETFROM:+0100
TZOFFSETTO:+0200
TZNAME:Europe/Paris CEST
END:DAYLIGHT
BEGIN:DAYLIGHT
DTSTART:20260329T030000
RDATE:20261025T020000
TZOFFSETFROM:+0100
TZOFFSETTO:+0200
TZNAME:Europe/Paris CEST
END:DAYLIGHT
END:VTIMEZONE
BEGIN:VEVENT
UID:244ca32f7bee9efd6e8366a1fc8459bd
CATEGORIES:Opens et Promos (alpin)
CREATED:20171121T093310
SUMMARY:PROMO Dimanches de la Glisse
URL;VALUE=URI:https://skivosges.net/agenda/detailevenement/948/-/promo-dimanches-de-la-gl
 isse?tmpl=component
DESCRIPTION:<!-- #gskiepreuve code généré par le plugin jevents pour GskiEpreuves. Ne p
 as modifier cette ligne, ni tout le contenu suivant  #gskiepreuve --><div c
 lass="gski-evenement_infos"><div class="gski-evenement-nom">PROMO Dimanches
  de la Glisse</div><div class="gski-evenement-report"></div><ul class="gski
 -evenement-liste-infos"><li>Codex évenement AMVT0450</li><li>Station : CHAM
 P DU FEU</li><li>Organisateur : 14227 SKI CLUB BREITENBACH</li><li>Courriel
  : <!-- Cette adresse électronique est protégée contre les robots spammeurs
 . --><span class="cloaked_email ep_4c3d86aa"><span data-ep-a="j&#45;p&#104;
 " data-ep-b="&#114;"><span data-ep-b="g&#101;&#46;&#102;" data-ep-a="&#46;&
 #104;&#111;&#108;"><span data-ep-a="&#119;&#101;&#103;&#64;" data-ep-b="&#1
 11;r&#97;&#110;"></span></span></span></span><script>RegularLabs.EmailProte
 ctor.unCloak("ep_4c3d86aa");</script></li><li><span class="gski-evenement-o
 bs">Délégué Technique : HOLWEG JEAN CLAUDE</span></li></ul><div class="gski
 -evenement-infos-2"><div class="gski-evenement-info-inscriptions"><div clas
 s="gski-evenement-inscriptions-periodes">Période d'inscription à l'evènemen
 t du dimanche 04 février 2018 à 00:00 au samedi 10 février 2018 à 18:00 <sp
 an class="gski-evenement-inscriptions-impossibles">(Inscriptions impossible
 s).</span><div class="gski-evenement-inscriptions-types-titres">Inscription
 s ouvertes aux detenteurs des titres Fédéraux valides suivants : Licenciés 
 Compétiteurs et Titres Loisirs et Dirigeants</div></div></div><div class="g
 ski-evenement-epreuves"><div class="gski-evenement-epreuves-titres">Epreuve
 s :</div><ul class="gski-evenement-epreuves-list"><li><div class="gski-epre
 uve-date">Le dimanche 11 février 2018</div><ul class="gski-epreuve-liste-in
 fos"><li>Codex épreuve AMVM0451</li><li>Combine Race</li><li>Catégorie(s) :
  U8/U10 (Garçons)</li></ul></li><li><div class="gski-epreuve-date">Le diman
 che 11 février 2018</div><ul class="gski-epreuve-liste-infos"><li>Codex épr
 euve AMVF0451</li><li>Combine Race</li><li>Catégorie(s) : U8/U10 (Filles)</
 li></ul></li><li><div class="gski-epreuve-date">Le dimanche 11 février 2018
 </div><ul class="gski-epreuve-liste-infos"><li>Codex épreuve AMVM0452</li><
 li>Combine Race</li><li>Catégorie(s) : U12 a U16 (Garçons)</li></ul></li><l
 i><div class="gski-epreuve-date">Le dimanche 11 février 2018</div><ul class
 ="gski-epreuve-liste-infos"><li>Codex épreuve AMVF0452</li><li>Combine Race
 </li><li>Catégorie(s) : U12 a U16 (Filles)</li></ul></li><li><div class="gs
 ki-epreuve-date">Le dimanche 11 février 2018</div><ul class="gski-epreuve-l
 iste-infos"><li>Codex épreuve AMVM0453</li><li>Combine Race</li><li>Catégor
 ie(s) : U8/U10 (Garçons)</li></ul></li><li><div class="gski-epreuve-date">L
 e dimanche 11 février 2018</div><ul class="gski-epreuve-liste-infos"><li>Co
 dex épreuve AMVF0453</li><li>Combine Race</li><li>Catégorie(s) : U8/U10 (Fi
 lles)</li></ul></li></ul></div><div class="gskiepreuves-links"><ul><li><a h
 ref="/index.php?option=com_jevents&task=icalevent.detail&evid=943&Itemid=17
 03">Voir les informations dans l'agenda...</a></li><li><a href="/index.php?
 option=com_gskiepreuves&view=afficheresultats&format_option=tous&filter[sea
 rch]=AMVT0450&filter[date_debut]=11-02-2018&filter[date_fin]=11-02-2018&cod
 e_activite=ALP&Itemid=1703">Vers les résultats...</a></li></ul></div></div"
 ><!-- #/gskiepreuve fin du dode généré par le plugin jevents pour GskiEpreu
 ves. . Ne pas modifier cette ligne, ni tout le contenu précedant.  #/gskiep
 reuve --> <a href="https://skivosges.net/agenda/detailevenement/948/-/promo
 -dimanches-de-la-glisse?tmpl=component">Cet évènement a été importé depuis 
 :https://skivosges.net/agenda/detailevenement/948/-/promo-dimanches-de-la-g
 lisse?tmpl=component</a>
X-ALT-DESC;FMTTYPE=text/html:<!-- #gskiepreuve code généré par le plugin jevents pour GskiEpreuves. Ne p
 as modifier cette ligne, ni tout le contenu suivant  #gskiepreuve --><div c
 lass="gski-evenement_infos"><div class="gski-evenement-nom">PROMO Dimanches
  de la Glisse</div><div class="gski-evenement-report"></div><ul class="gski
 -evenement-liste-infos"><li>Codex évenement AMVT0450</li><li>Station : CHAM
 P DU FEU</li><li>Organisateur : 14227 SKI CLUB BREITENBACH</li><li>Courriel
  : <!-- Cette adresse électronique est protégée contre les robots spammeurs
 . --><span class="cloaked_email ep_4c3d86aa"><span data-ep-a="j&#45;p&#104;
 " data-ep-b="&#114;"><span data-ep-b="g&#101;&#46;&#102;" data-ep-a="&#46;&
 #104;&#111;&#108;"><span data-ep-a="&#119;&#101;&#103;&#64;" data-ep-b="&#1
 11;r&#97;&#110;"></span></span></span></span><script>RegularLabs.EmailProte
 ctor.unCloak("ep_4c3d86aa");</script></li><li><span class="gski-evenement-o
 bs">Délégué Technique : HOLWEG JEAN CLAUDE</span></li></ul><div class="gski
 -evenement-infos-2"><div class="gski-evenement-info-inscriptions"><div clas
 s="gski-evenement-inscriptions-periodes">Période d'inscription à l'evènemen
 t du dimanche 04 février 2018 à 00:00 au samedi 10 février 2018 à 18:00 <sp
 an class="gski-evenement-inscriptions-impossibles">(Inscriptions impossible
 s).</span><div class="gski-evenement-inscriptions-types-titres">Inscription
 s ouvertes aux detenteurs des titres Fédéraux valides suivants : Licenciés 
 Compétiteurs et Titres Loisirs et Dirigeants</div></div></div><div class="g
 ski-evenement-epreuves"><div class="gski-evenement-epreuves-titres">Epreuve
 s :</div><ul class="gski-evenement-epreuves-list"><li><div class="gski-epre
 uve-date">Le dimanche 11 février 2018</div><ul class="gski-epreuve-liste-in
 fos"><li>Codex épreuve AMVM0451</li><li>Combine Race</li><li>Catégorie(s) :
  U8/U10 (Garçons)</li></ul></li><li><div class="gski-epreuve-date">Le diman
 che 11 février 2018</div><ul class="gski-epreuve-liste-infos"><li>Codex épr
 euve AMVF0451</li><li>Combine Race</li><li>Catégorie(s) : U8/U10 (Filles)</
 li></ul></li><li><div class="gski-epreuve-date">Le dimanche 11 février 2018
 </div><ul class="gski-epreuve-liste-infos"><li>Codex épreuve AMVM0452</li><
 li>Combine Race</li><li>Catégorie(s) : U12 a U16 (Garçons)</li></ul></li><l
 i><div class="gski-epreuve-date">Le dimanche 11 février 2018</div><ul class
 ="gski-epreuve-liste-infos"><li>Codex épreuve AMVF0452</li><li>Combine Race
 </li><li>Catégorie(s) : U12 a U16 (Filles)</li></ul></li><li><div class="gs
 ki-epreuve-date">Le dimanche 11 février 2018</div><ul class="gski-epreuve-l
 iste-infos"><li>Codex épreuve AMVM0453</li><li>Combine Race</li><li>Catégor
 ie(s) : U8/U10 (Garçons)</li></ul></li><li><div class="gski-epreuve-date">L
 e dimanche 11 février 2018</div><ul class="gski-epreuve-liste-infos"><li>Co
 dex épreuve AMVF0453</li><li>Combine Race</li><li>Catégorie(s) : U8/U10 (Fi
 lles)</li></ul></li></ul></div><div class="gskiepreuves-links"><ul><li><a h
 ref="https://skivosges.net/index.php?option=com_jevents&task=icalevent.deta
 il&evid=943&Itemid=1703">Voir les informations dans l'agenda...</a></li><li
 ><a href="https://skivosges.net/index.php?option=com_gskiepreuves&view=affi
 cheresultats&format_option=tous&filter[search]=AMVT0450&filter[date_debut]=
 11-02-2018&filter[date_fin]=11-02-2018&code_activite=ALP&Itemid=1703">Vers 
 les résultats...</a></li></ul></div></div"><!-- #/gskiepreuve fin du dode g
 énéré par le plugin jevents pour GskiEpreuves. . Ne pas modifier cette lign
 e, ni tout le contenu précedant.  #/gskiepreuve --> <a href="https://skivos
 ges.net/agenda/detailevenement/948/-/promo-dimanches-de-la-glisse?tmpl=comp
 onent">Cet évènement a été importé depuis :https://skivosges.net/agenda/det
 ailevenement/948/-/promo-dimanches-de-la-glisse?tmpl=component</a>DTSTAMP:20260421T051316
DTSTART;TZID=Europe/Paris;VALUE=DATE:20180211
DTEND;TZID=Europe/Paris;VALUE=DATE:20180212
SEQUENCE:0
TRANSP:OPAQUE
END:VEVENT
END:VCALENDAR