BEGIN:VCALENDAR
VERSION:2.0
PRODID:-//jEvents 2.0 for Joomla//EN
CALSCALE:GREGORIAN
METHOD:PUBLISH
BEGIN:VTIMEZONE
TZID:Europe/Paris
BEGIN:STANDARD
DTSTART:20170217T000000
RDATE:20170326T030000
TZOFFSETFROM:+0200
TZOFFSETTO:+0100
TZNAME:Europe/Paris CET
END:STANDARD
BEGIN:STANDARD
DTSTART:20171029T020000
RDATE:20180325T030000
TZOFFSETFROM:+0200
TZOFFSETTO:+0100
TZNAME:Europe/Paris CET
END:STANDARD
BEGIN:STANDARD
DTSTART:20181028T020000
RDATE:20190331T030000
TZOFFSETFROM:+0200
TZOFFSETTO:+0100
TZNAME:Europe/Paris CET
END:STANDARD
BEGIN:STANDARD
DTSTART:20191027T020000
RDATE:20200329T030000
TZOFFSETFROM:+0200
TZOFFSETTO:+0100
TZNAME:Europe/Paris CET
END:STANDARD
BEGIN:STANDARD
DTSTART:20201025T020000
RDATE:20210328T030000
TZOFFSETFROM:+0200
TZOFFSETTO:+0100
TZNAME:Europe/Paris CET
END:STANDARD
BEGIN:STANDARD
DTSTART:20211031T020000
RDATE:20220327T030000
TZOFFSETFROM:+0200
TZOFFSETTO:+0100
TZNAME:Europe/Paris CET
END:STANDARD
BEGIN:STANDARD
DTSTART:20221030T020000
RDATE:20230326T030000
TZOFFSETFROM:+0200
TZOFFSETTO:+0100
TZNAME:Europe/Paris CET
END:STANDARD
BEGIN:STANDARD
DTSTART:20231029T020000
RDATE:20240331T030000
TZOFFSETFROM:+0200
TZOFFSETTO:+0100
TZNAME:Europe/Paris CET
END:STANDARD
BEGIN:STANDARD
DTSTART:20241027T020000
RDATE:20250330T030000
TZOFFSETFROM:+0200
TZOFFSETTO:+0100
TZNAME:Europe/Paris CET
END:STANDARD
BEGIN:STANDARD
DTSTART:20251026T020000
RDATE:20260329T030000
TZOFFSETFROM:+0200
TZOFFSETTO:+0100
TZNAME:Europe/Paris CET
END:STANDARD
BEGIN:STANDARD
DTSTART:20261025T020000
RDATE:20270328T030000
TZOFFSETFROM:+0200
TZOFFSETTO:+0100
TZNAME:Europe/Paris CET
END:STANDARD
BEGIN:DAYLIGHT
DTSTART:20170326T030000
RDATE:20171029T020000
TZOFFSETFROM:+0100
TZOFFSETTO:+0200
TZNAME:Europe/Paris CEST
END:DAYLIGHT
BEGIN:DAYLIGHT
DTSTART:20180325T030000
RDATE:20181028T020000
TZOFFSETFROM:+0100
TZOFFSETTO:+0200
TZNAME:Europe/Paris CEST
END:DAYLIGHT
BEGIN:DAYLIGHT
DTSTART:20190331T030000
RDATE:20191027T020000
TZOFFSETFROM:+0100
TZOFFSETTO:+0200
TZNAME:Europe/Paris CEST
END:DAYLIGHT
BEGIN:DAYLIGHT
DTSTART:20200329T030000
RDATE:20201025T020000
TZOFFSETFROM:+0100
TZOFFSETTO:+0200
TZNAME:Europe/Paris CEST
END:DAYLIGHT
BEGIN:DAYLIGHT
DTSTART:20210328T030000
RDATE:20211031T020000
TZOFFSETFROM:+0100
TZOFFSETTO:+0200
TZNAME:Europe/Paris CEST
END:DAYLIGHT
BEGIN:DAYLIGHT
DTSTART:20220327T030000
RDATE:20221030T020000
TZOFFSETFROM:+0100
TZOFFSETTO:+0200
TZNAME:Europe/Paris CEST
END:DAYLIGHT
BEGIN:DAYLIGHT
DTSTART:20230326T030000
RDATE:20231029T020000
TZOFFSETFROM:+0100
TZOFFSETTO:+0200
TZNAME:Europe/Paris CEST
END:DAYLIGHT
BEGIN:DAYLIGHT
DTSTART:20240331T030000
RDATE:20241027T020000
TZOFFSETFROM:+0100
TZOFFSETTO:+0200
TZNAME:Europe/Paris CEST
END:DAYLIGHT
BEGIN:DAYLIGHT
DTSTART:20250330T030000
RDATE:20251026T020000
TZOFFSETFROM:+0100
TZOFFSETTO:+0200
TZNAME:Europe/Paris CEST
END:DAYLIGHT
BEGIN:DAYLIGHT
DTSTART:20260329T030000
RDATE:20261025T020000
TZOFFSETFROM:+0100
TZOFFSETTO:+0200
TZNAME:Europe/Paris CEST
END:DAYLIGHT
END:VTIMEZONE
BEGIN:VEVENT
UID:d1c997987e20bc7dac25cb5b35434c93
CATEGORIES:Circuit Massif D2 (alpin)
CREATED:20171121T093310
SUMMARY:CD2 Coupe de la Ville de Mulhouse
URL;VALUE=URI:https://skivosges.net/agenda/detailevenement/953/-/cd2-coupe-de-la-ville-de
 -mulhouse?tmpl=component
DESCRIPTION:<!-- #gskiepreuve code généré par le plugin jevents pour GskiEpreuves. Ne p
 as modifier cette ligne, ni tout le contenu suivant  #gskiepreuve --><div c
 lass="gski-evenement_infos"><div class="gski-evenement-nom">CD2 Coupe de la
  Ville de Mulhouse</div><div class="gski-evenement-report"></div><ul class=
 "gski-evenement-liste-infos"><li>Codex évenement AMVT0470</li><li>Lieu : ma
 rkstein</li><li>Station : MARKSTEIN</li><li>Piste : Stade de Slalom</li><li
 >Organisateur : 14046 VOSGES TROTTERS MULHOUSE</li><li>Courriel : <!-- Cett
 e adresse électronique est protégée contre les robots spammeurs. --><span c
 lass="cloaked_email ep_0eb13df5"><span data-ep-a="&#101;&#115;&#116;" data-
 ep-b="f&#114;"><span data-ep-a="&#101;l&#108;" data-ep-b="&#116;&#122;&#46;
 "><span data-ep-a="&#101;&#64;s" data-ep-b="&#99;&#104;&#117;"></span></spa
 n></span></span><script>RegularLabs.EmailProtector.unCloak("ep_0eb13df5");<
 /script></li><li>Téléphone : 0630469185</li><li><span class="gski-evenement
 -obs">Délégué Technique : KOENIG DANIEL</span></li></ul><div class="gski-ev
 enement-infos-2"><div class="gski-evenement-info-inscriptions"><div class="
 gski-evenement-inscriptions-periodes">Période d'inscription à l'evènement d
 u dimanche 11 février 2018 à 02:00 au vendredi 16 février 2018 à 21:00 <spa
 n class="gski-evenement-inscriptions-impossibles">(Inscriptions impossibles
 ).</span><div class="gski-evenement-inscriptions-types-titres">Inscriptions
  ouvertes aux detenteurs des titres Fédéraux valides suivants : Licenciés C
 ompétiteurs</div></div></div><div class="gski-evenement-epreuves"><div clas
 s="gski-evenement-epreuves-titres">Epreuves :</div><ul class="gski-evenemen
 t-epreuves-list"><li><div class="gski-epreuve-date">Le dimanche 18 février 
 2018 à 10:00</div><ul class="gski-epreuve-liste-infos"><li>Codex épreuve AM
 VM0471</li><li>Slalom</li><li>Catégorie(s) : U16 (Garçons)</li></ul></li><l
 i><div class="gski-epreuve-date">Le dimanche 18 février 2018</div><ul class
 ="gski-epreuve-liste-infos"><li>Codex épreuve AMVF0471</li><li>Slalom</li><
 li>Catégorie(s) : U16 (Filles)</li></ul></li><li><div class="gski-epreuve-d
 ate">Le dimanche 18 février 2018 à 10:00</div><ul class="gski-epreuve-liste
 -infos"><li>Codex épreuve AMVF0472</li><li>Slalom</li><li>Catégorie(s) : U1
 8 a Masters (Dames)</li></ul></li><li><div class="gski-epreuve-date">Le dim
 anche 18 février 2018 à 10:00</div><ul class="gski-epreuve-liste-infos"><li
 >Codex épreuve AMVM0472</li><li>Slalom</li><li>Catégorie(s) : U18 a Masters
  (Hommes)</li></ul></li></ul></div><div class="gskiepreuves-links"><ul><li>
 <a href="/index.php?option=com_jevents&task=icalevent.detail&evid=948&Itemi
 d=1703">Voir les informations dans l'agenda...</a></li><li><a href="/index.
 php?option=com_gskiepreuves&view=afficheresultats&format_option=tous&filter
 [search]=AMVT0470&filter[date_debut]=18-02-2018&filter[date_fin]=18-02-2018
 &code_activite=ALP&Itemid=1703">Vers les résultats...</a></li></ul></div></
 div"><!-- #/gskiepreuve fin du dode généré par le plugin jevents pour GskiE
 preuves. . Ne pas modifier cette ligne, ni tout le contenu précedant.  #/gs
 kiepreuve --> <a href="https://skivosges.net/agenda/detailevenement/953/-/c
 d2-coupe-de-la-ville-de-mulhouse?tmpl=component">Cet évènement a été import
 é depuis :https://skivosges.net/agenda/detailevenement/953/-/cd2-coupe-de-l
 a-ville-de-mulhouse?tmpl=component</a>
X-ALT-DESC;FMTTYPE=text/html:<!-- #gskiepreuve code généré par le plugin jevents pour GskiEpreuves. Ne p
 as modifier cette ligne, ni tout le contenu suivant  #gskiepreuve --><div c
 lass="gski-evenement_infos"><div class="gski-evenement-nom">CD2 Coupe de la
  Ville de Mulhouse</div><div class="gski-evenement-report"></div><ul class=
 "gski-evenement-liste-infos"><li>Codex évenement AMVT0470</li><li>Lieu : ma
 rkstein</li><li>Station : MARKSTEIN</li><li>Piste : Stade de Slalom</li><li
 >Organisateur : 14046 VOSGES TROTTERS MULHOUSE</li><li>Courriel : <!-- Cett
 e adresse électronique est protégée contre les robots spammeurs. --><span c
 lass="cloaked_email ep_0eb13df5"><span data-ep-a="&#101;&#115;&#116;" data-
 ep-b="f&#114;"><span data-ep-a="&#101;l&#108;" data-ep-b="&#116;&#122;&#46;
 "><span data-ep-a="&#101;&#64;s" data-ep-b="&#99;&#104;&#117;"></span></spa
 n></span></span><script>RegularLabs.EmailProtector.unCloak("ep_0eb13df5");<
 /script></li><li>Téléphone : 0630469185</li><li><span class="gski-evenement
 -obs">Délégué Technique : KOENIG DANIEL</span></li></ul><div class="gski-ev
 enement-infos-2"><div class="gski-evenement-info-inscriptions"><div class="
 gski-evenement-inscriptions-periodes">Période d'inscription à l'evènement d
 u dimanche 11 février 2018 à 02:00 au vendredi 16 février 2018 à 21:00 <spa
 n class="gski-evenement-inscriptions-impossibles">(Inscriptions impossibles
 ).</span><div class="gski-evenement-inscriptions-types-titres">Inscriptions
  ouvertes aux detenteurs des titres Fédéraux valides suivants : Licenciés C
 ompétiteurs</div></div></div><div class="gski-evenement-epreuves"><div clas
 s="gski-evenement-epreuves-titres">Epreuves :</div><ul class="gski-evenemen
 t-epreuves-list"><li><div class="gski-epreuve-date">Le dimanche 18 février 
 2018 à 10:00</div><ul class="gski-epreuve-liste-infos"><li>Codex épreuve AM
 VM0471</li><li>Slalom</li><li>Catégorie(s) : U16 (Garçons)</li></ul></li><l
 i><div class="gski-epreuve-date">Le dimanche 18 février 2018</div><ul class
 ="gski-epreuve-liste-infos"><li>Codex épreuve AMVF0471</li><li>Slalom</li><
 li>Catégorie(s) : U16 (Filles)</li></ul></li><li><div class="gski-epreuve-d
 ate">Le dimanche 18 février 2018 à 10:00</div><ul class="gski-epreuve-liste
 -infos"><li>Codex épreuve AMVF0472</li><li>Slalom</li><li>Catégorie(s) : U1
 8 a Masters (Dames)</li></ul></li><li><div class="gski-epreuve-date">Le dim
 anche 18 février 2018 à 10:00</div><ul class="gski-epreuve-liste-infos"><li
 >Codex épreuve AMVM0472</li><li>Slalom</li><li>Catégorie(s) : U18 a Masters
  (Hommes)</li></ul></li></ul></div><div class="gskiepreuves-links"><ul><li>
 <a href="https://skivosges.net/index.php?option=com_jevents&task=icalevent.
 detail&evid=948&Itemid=1703">Voir les informations dans l'agenda...</a></li
 ><li><a href="https://skivosges.net/index.php?option=com_gskiepreuves&view=
 afficheresultats&format_option=tous&filter[search]=AMVT0470&filter[date_deb
 ut]=18-02-2018&filter[date_fin]=18-02-2018&code_activite=ALP&Itemid=1703">V
 ers les résultats...</a></li></ul></div></div"><!-- #/gskiepreuve fin du do
 de généré par le plugin jevents pour GskiEpreuves. . Ne pas modifier cette 
 ligne, ni tout le contenu précedant.  #/gskiepreuve --> <a href="https://sk
 ivosges.net/agenda/detailevenement/953/-/cd2-coupe-de-la-ville-de-mulhouse?
 tmpl=component">Cet évènement a été importé depuis :https://skivosges.net/a
 genda/detailevenement/953/-/cd2-coupe-de-la-ville-de-mulhouse?tmpl=componen
 t</a>DTSTAMP:20260421T051413
DTSTART;TZID=Europe/Paris;VALUE=DATE:20180218
DTEND;TZID=Europe/Paris;VALUE=DATE:20180219
SEQUENCE:0
TRANSP:OPAQUE
END:VEVENT
END:VCALENDAR