BEGIN:VCALENDAR
VERSION:2.0
PRODID:-//jEvents 2.0 for Joomla//EN
CALSCALE:GREGORIAN
METHOD:PUBLISH
BEGIN:VTIMEZONE
TZID:Europe/Paris
BEGIN:STANDARD
DTSTART:20170217T000000
RDATE:20170326T030000
TZOFFSETFROM:+0200
TZOFFSETTO:+0100
TZNAME:Europe/Paris CET
END:STANDARD
BEGIN:STANDARD
DTSTART:20171029T020000
RDATE:20180325T030000
TZOFFSETFROM:+0200
TZOFFSETTO:+0100
TZNAME:Europe/Paris CET
END:STANDARD
BEGIN:STANDARD
DTSTART:20181028T020000
RDATE:20190331T030000
TZOFFSETFROM:+0200
TZOFFSETTO:+0100
TZNAME:Europe/Paris CET
END:STANDARD
BEGIN:STANDARD
DTSTART:20191027T020000
RDATE:20200329T030000
TZOFFSETFROM:+0200
TZOFFSETTO:+0100
TZNAME:Europe/Paris CET
END:STANDARD
BEGIN:STANDARD
DTSTART:20201025T020000
RDATE:20210328T030000
TZOFFSETFROM:+0200
TZOFFSETTO:+0100
TZNAME:Europe/Paris CET
END:STANDARD
BEGIN:STANDARD
DTSTART:20211031T020000
RDATE:20220327T030000
TZOFFSETFROM:+0200
TZOFFSETTO:+0100
TZNAME:Europe/Paris CET
END:STANDARD
BEGIN:STANDARD
DTSTART:20221030T020000
RDATE:20230326T030000
TZOFFSETFROM:+0200
TZOFFSETTO:+0100
TZNAME:Europe/Paris CET
END:STANDARD
BEGIN:STANDARD
DTSTART:20231029T020000
RDATE:20240331T030000
TZOFFSETFROM:+0200
TZOFFSETTO:+0100
TZNAME:Europe/Paris CET
END:STANDARD
BEGIN:STANDARD
DTSTART:20241027T020000
RDATE:20250330T030000
TZOFFSETFROM:+0200
TZOFFSETTO:+0100
TZNAME:Europe/Paris CET
END:STANDARD
BEGIN:STANDARD
DTSTART:20251026T020000
RDATE:20260329T030000
TZOFFSETFROM:+0200
TZOFFSETTO:+0100
TZNAME:Europe/Paris CET
END:STANDARD
BEGIN:STANDARD
DTSTART:20261025T020000
RDATE:20270328T030000
TZOFFSETFROM:+0200
TZOFFSETTO:+0100
TZNAME:Europe/Paris CET
END:STANDARD
BEGIN:DAYLIGHT
DTSTART:20170326T030000
RDATE:20171029T020000
TZOFFSETFROM:+0100
TZOFFSETTO:+0200
TZNAME:Europe/Paris CEST
END:DAYLIGHT
BEGIN:DAYLIGHT
DTSTART:20180325T030000
RDATE:20181028T020000
TZOFFSETFROM:+0100
TZOFFSETTO:+0200
TZNAME:Europe/Paris CEST
END:DAYLIGHT
BEGIN:DAYLIGHT
DTSTART:20190331T030000
RDATE:20191027T020000
TZOFFSETFROM:+0100
TZOFFSETTO:+0200
TZNAME:Europe/Paris CEST
END:DAYLIGHT
BEGIN:DAYLIGHT
DTSTART:20200329T030000
RDATE:20201025T020000
TZOFFSETFROM:+0100
TZOFFSETTO:+0200
TZNAME:Europe/Paris CEST
END:DAYLIGHT
BEGIN:DAYLIGHT
DTSTART:20210328T030000
RDATE:20211031T020000
TZOFFSETFROM:+0100
TZOFFSETTO:+0200
TZNAME:Europe/Paris CEST
END:DAYLIGHT
BEGIN:DAYLIGHT
DTSTART:20220327T030000
RDATE:20221030T020000
TZOFFSETFROM:+0100
TZOFFSETTO:+0200
TZNAME:Europe/Paris CEST
END:DAYLIGHT
BEGIN:DAYLIGHT
DTSTART:20230326T030000
RDATE:20231029T020000
TZOFFSETFROM:+0100
TZOFFSETTO:+0200
TZNAME:Europe/Paris CEST
END:DAYLIGHT
BEGIN:DAYLIGHT
DTSTART:20240331T030000
RDATE:20241027T020000
TZOFFSETFROM:+0100
TZOFFSETTO:+0200
TZNAME:Europe/Paris CEST
END:DAYLIGHT
BEGIN:DAYLIGHT
DTSTART:20250330T030000
RDATE:20251026T020000
TZOFFSETFROM:+0100
TZOFFSETTO:+0200
TZNAME:Europe/Paris CEST
END:DAYLIGHT
BEGIN:DAYLIGHT
DTSTART:20260329T030000
RDATE:20261025T020000
TZOFFSETFROM:+0100
TZOFFSETTO:+0200
TZNAME:Europe/Paris CEST
END:DAYLIGHT
END:VTIMEZONE
BEGIN:VEVENT
UID:081a6e7ea4a0e407d0f223875f1e0356
CATEGORIES:Circuit Massif Jeunes (alpin)
CREATED:20171121T093310
SUMMARY:CJM Micro Coupe Massif U8/U10 Prix du Rouge Gazon
URL;VALUE=URI:https://skivosges.net/agenda/detailevenement/954/-/cjm-micro-coupe-massif-u
 8-u10-prix-du-rouge-gazon?tmpl=component
DESCRIPTION:<!-- #gskiepreuve code généré par le plugin jevents pour GskiEpreuves. Ne p
 as modifier cette ligne, ni tout le contenu suivant  #gskiepreuve --><div c
 lass="gski-evenement_infos"><div class="gski-evenement-nom">CJM Micro Coupe
  Massif U8/U10 Prix du Rouge Gazon</div><div class="gski-evenement-report">
 </div><ul class="gski-evenement-liste-infos"><li>Codex évenement AMVT0480</
 li><li>Station : ROUGE GAZON</li><li>Organisateur : 14063 SKIEURS DE ST MAU
 RICE/MOSELLE</li><li>Courriel : <!-- Cette adresse électronique est protégé
 e contre les robots spammeurs. --><span class="cloaked_email ep_014d084c"><
 span data-ep-a="&#100;a&#110;&#105;" data-ep-b=""><span data-ep-a="&#101;&#
 108;.m" data-ep-b="&#114;&#46;&#102;&#114;"><span data-ep-b="&#53;&#64;&#11
 5;&#102;" data-ep-a="&#111;&#114;e&#108;"></span></span></span></span><scri
 pt>RegularLabs.EmailProtector.unCloak("ep_014d084c");</script></li><li><spa
 n class="gski-evenement-obs">Délégué Technique : NOEL JEAN CHRISTOPHE</span
 ></li></ul><div class="gski-evenement-infos-2"><div class="gski-evenement-i
 nfo-inscriptions"><div class="gski-evenement-inscriptions-periodes">Période
  d'inscription à l'evènement du dimanche 11 février 2018 à 00:00 au vendred
 i 16 février 2018 à 12:00 <span class="gski-evenement-inscriptions-impossib
 les">(Inscriptions impossibles).</span><div class="gski-evenement-inscripti
 ons-types-titres">Inscriptions ouvertes aux detenteurs des titres Fédéraux 
 valides suivants : Licenciés Compétiteurs</div></div></div><div class="gski
 -evenement-epreuves"><div class="gski-evenement-epreuves-titres">Epreuves :
 </div><ul class="gski-evenement-epreuves-list"><li><div class="gski-epreuve
 -date">Le dimanche 18 février 2018 à 10:00</div><ul class="gski-epreuve-lis
 te-infos"><li>Codex épreuve AMVM0481</li><li>Combine Race</li><li>Catégorie
 (s) : U8/U10 (Garçons)</li></ul></li><li><div class="gski-epreuve-date">Le 
 dimanche 18 février 2018 à 10:00</div><ul class="gski-epreuve-liste-infos">
 <li>Codex épreuve AMVF0481</li><li>Combine Race</li><li>Catégorie(s) : U8/U
 10 (Filles)</li></ul></li><li><div class="gski-epreuve-date">Le dimanche 18
  février 2018 à 10:00</div><ul class="gski-epreuve-liste-infos"><li>Codex é
 preuve AMVM0482</li><li>Passage</li><li>Catégorie(s) : U8/U10 (Garçons)</li
 ></ul></li><li><div class="gski-epreuve-date">Le dimanche 18 février 2018 à
  10:00</div><ul class="gski-epreuve-liste-infos"><li>Codex épreuve AMVF0482
 </li><li>Passage</li><li>Catégorie(s) : U8/U10 (Filles)</li></ul></li></ul>
 </div><div class="gskiepreuves-links"><ul><li><a href="/index.php?option=co
 m_jevents&task=icalevent.detail&evid=949&Itemid=1703">Voir les informations
  dans l'agenda...</a></li><li><a href="/index.php?option=com_gskiepreuves&v
 iew=afficheresultats&format_option=tous&filter[search]=AMVT0480&filter[date
 _debut]=18-02-2018&filter[date_fin]=18-02-2018&code_activite=ALP&Itemid=170
 3">Vers les résultats...</a></li><li>Publications concernant cet évènement 
 :<ul><li><a href="/index.php?option=com_content&view=article&id=6159&Itemid
 =1703">Dimanche 18 Février 2018 à 18:17 : Le 18/02/2018 ROUGE GAZON Résulta
 ts</a></li></ul></li></ul></div></div"><!-- #/gskiepreuve fin du dode génér
 é par le plugin jevents pour GskiEpreuves. . Ne pas modifier cette ligne, n
 i tout le contenu précedant.  #/gskiepreuve --> <a href="https://skivosges.
 net/agenda/detailevenement/954/-/cjm-micro-coupe-massif-u8-u10-prix-du-roug
 e-gazon?tmpl=component">Cet évènement a été importé depuis :https://skivosg
 es.net/agenda/detailevenement/954/-/cjm-micro-coupe-massif-u8-u10-prix-du-r
 ouge-gazon?tmpl=component</a>
X-ALT-DESC;FMTTYPE=text/html:<!-- #gskiepreuve code généré par le plugin jevents pour GskiEpreuves. Ne p
 as modifier cette ligne, ni tout le contenu suivant  #gskiepreuve --><div c
 lass="gski-evenement_infos"><div class="gski-evenement-nom">CJM Micro Coupe
  Massif U8/U10 Prix du Rouge Gazon</div><div class="gski-evenement-report">
 </div><ul class="gski-evenement-liste-infos"><li>Codex évenement AMVT0480</
 li><li>Station : ROUGE GAZON</li><li>Organisateur : 14063 SKIEURS DE ST MAU
 RICE/MOSELLE</li><li>Courriel : <!-- Cette adresse électronique est protégé
 e contre les robots spammeurs. --><span class="cloaked_email ep_014d084c"><
 span data-ep-a="&#100;a&#110;&#105;" data-ep-b=""><span data-ep-a="&#101;&#
 108;.m" data-ep-b="&#114;&#46;&#102;&#114;"><span data-ep-b="&#53;&#64;&#11
 5;&#102;" data-ep-a="&#111;&#114;e&#108;"></span></span></span></span><scri
 pt>RegularLabs.EmailProtector.unCloak("ep_014d084c");</script></li><li><spa
 n class="gski-evenement-obs">Délégué Technique : NOEL JEAN CHRISTOPHE</span
 ></li></ul><div class="gski-evenement-infos-2"><div class="gski-evenement-i
 nfo-inscriptions"><div class="gski-evenement-inscriptions-periodes">Période
  d'inscription à l'evènement du dimanche 11 février 2018 à 00:00 au vendred
 i 16 février 2018 à 12:00 <span class="gski-evenement-inscriptions-impossib
 les">(Inscriptions impossibles).</span><div class="gski-evenement-inscripti
 ons-types-titres">Inscriptions ouvertes aux detenteurs des titres Fédéraux 
 valides suivants : Licenciés Compétiteurs</div></div></div><div class="gski
 -evenement-epreuves"><div class="gski-evenement-epreuves-titres">Epreuves :
 </div><ul class="gski-evenement-epreuves-list"><li><div class="gski-epreuve
 -date">Le dimanche 18 février 2018 à 10:00</div><ul class="gski-epreuve-lis
 te-infos"><li>Codex épreuve AMVM0481</li><li>Combine Race</li><li>Catégorie
 (s) : U8/U10 (Garçons)</li></ul></li><li><div class="gski-epreuve-date">Le 
 dimanche 18 février 2018 à 10:00</div><ul class="gski-epreuve-liste-infos">
 <li>Codex épreuve AMVF0481</li><li>Combine Race</li><li>Catégorie(s) : U8/U
 10 (Filles)</li></ul></li><li><div class="gski-epreuve-date">Le dimanche 18
  février 2018 à 10:00</div><ul class="gski-epreuve-liste-infos"><li>Codex é
 preuve AMVM0482</li><li>Passage</li><li>Catégorie(s) : U8/U10 (Garçons)</li
 ></ul></li><li><div class="gski-epreuve-date">Le dimanche 18 février 2018 à
  10:00</div><ul class="gski-epreuve-liste-infos"><li>Codex épreuve AMVF0482
 </li><li>Passage</li><li>Catégorie(s) : U8/U10 (Filles)</li></ul></li></ul>
 </div><div class="gskiepreuves-links"><ul><li><a href="https://skivosges.ne
 t/index.php?option=com_jevents&task=icalevent.detail&evid=949&Itemid=1703">
 Voir les informations dans l'agenda...</a></li><li><a href="https://skivosg
 es.net/index.php?option=com_gskiepreuves&view=afficheresultats&format_optio
 n=tous&filter[search]=AMVT0480&filter[date_debut]=18-02-2018&filter[date_fi
 n]=18-02-2018&code_activite=ALP&Itemid=1703">Vers les résultats...</a></li>
 <li>Publications concernant cet évènement :<ul><li><a href="https://skivosg
 es.net/index.php?option=com_content&view=article&id=6159&Itemid=1703">Diman
 che 18 Février 2018 à 18:17 : Le 18/02/2018 ROUGE GAZON Résultats</a></li><
 /ul></li></ul></div></div"><!-- #/gskiepreuve fin du dode généré par le plu
 gin jevents pour GskiEpreuves. . Ne pas modifier cette ligne, ni tout le co
 ntenu précedant.  #/gskiepreuve --> <a href="https://skivosges.net/agenda/d
 etailevenement/954/-/cjm-micro-coupe-massif-u8-u10-prix-du-rouge-gazon?tmpl
 =component">Cet évènement a été importé depuis :https://skivosges.net/agend
 a/detailevenement/954/-/cjm-micro-coupe-massif-u8-u10-prix-du-rouge-gazon?t
 mpl=component</a>DTSTAMP:20260421T051326
DTSTART;TZID=Europe/Paris;VALUE=DATE:20180218
DTEND;TZID=Europe/Paris;VALUE=DATE:20180219
SEQUENCE:0
TRANSP:OPAQUE
END:VEVENT
END:VCALENDAR