BEGIN:VCALENDAR
VERSION:2.0
PRODID:-//jEvents 2.0 for Joomla//EN
CALSCALE:GREGORIAN
METHOD:PUBLISH
BEGIN:VTIMEZONE
TZID:Europe/Paris
BEGIN:STANDARD
DTSTART:20170223T000000
RDATE:20170326T030000
TZOFFSETFROM:+0200
TZOFFSETTO:+0100
TZNAME:Europe/Paris CET
END:STANDARD
BEGIN:STANDARD
DTSTART:20171029T020000
RDATE:20180325T030000
TZOFFSETFROM:+0200
TZOFFSETTO:+0100
TZNAME:Europe/Paris CET
END:STANDARD
BEGIN:STANDARD
DTSTART:20181028T020000
RDATE:20190331T030000
TZOFFSETFROM:+0200
TZOFFSETTO:+0100
TZNAME:Europe/Paris CET
END:STANDARD
BEGIN:STANDARD
DTSTART:20191027T020000
RDATE:20200329T030000
TZOFFSETFROM:+0200
TZOFFSETTO:+0100
TZNAME:Europe/Paris CET
END:STANDARD
BEGIN:STANDARD
DTSTART:20201025T020000
RDATE:20210328T030000
TZOFFSETFROM:+0200
TZOFFSETTO:+0100
TZNAME:Europe/Paris CET
END:STANDARD
BEGIN:STANDARD
DTSTART:20211031T020000
RDATE:20220327T030000
TZOFFSETFROM:+0200
TZOFFSETTO:+0100
TZNAME:Europe/Paris CET
END:STANDARD
BEGIN:STANDARD
DTSTART:20221030T020000
RDATE:20230326T030000
TZOFFSETFROM:+0200
TZOFFSETTO:+0100
TZNAME:Europe/Paris CET
END:STANDARD
BEGIN:STANDARD
DTSTART:20231029T020000
RDATE:20240331T030000
TZOFFSETFROM:+0200
TZOFFSETTO:+0100
TZNAME:Europe/Paris CET
END:STANDARD
BEGIN:STANDARD
DTSTART:20241027T020000
RDATE:20250330T030000
TZOFFSETFROM:+0200
TZOFFSETTO:+0100
TZNAME:Europe/Paris CET
END:STANDARD
BEGIN:STANDARD
DTSTART:20251026T020000
RDATE:20260329T030000
TZOFFSETFROM:+0200
TZOFFSETTO:+0100
TZNAME:Europe/Paris CET
END:STANDARD
BEGIN:STANDARD
DTSTART:20261025T020000
RDATE:20270328T030000
TZOFFSETFROM:+0200
TZOFFSETTO:+0100
TZNAME:Europe/Paris CET
END:STANDARD
BEGIN:DAYLIGHT
DTSTART:20170326T030000
RDATE:20171029T020000
TZOFFSETFROM:+0100
TZOFFSETTO:+0200
TZNAME:Europe/Paris CEST
END:DAYLIGHT
BEGIN:DAYLIGHT
DTSTART:20180325T030000
RDATE:20181028T020000
TZOFFSETFROM:+0100
TZOFFSETTO:+0200
TZNAME:Europe/Paris CEST
END:DAYLIGHT
BEGIN:DAYLIGHT
DTSTART:20190331T030000
RDATE:20191027T020000
TZOFFSETFROM:+0100
TZOFFSETTO:+0200
TZNAME:Europe/Paris CEST
END:DAYLIGHT
BEGIN:DAYLIGHT
DTSTART:20200329T030000
RDATE:20201025T020000
TZOFFSETFROM:+0100
TZOFFSETTO:+0200
TZNAME:Europe/Paris CEST
END:DAYLIGHT
BEGIN:DAYLIGHT
DTSTART:20210328T030000
RDATE:20211031T020000
TZOFFSETFROM:+0100
TZOFFSETTO:+0200
TZNAME:Europe/Paris CEST
END:DAYLIGHT
BEGIN:DAYLIGHT
DTSTART:20220327T030000
RDATE:20221030T020000
TZOFFSETFROM:+0100
TZOFFSETTO:+0200
TZNAME:Europe/Paris CEST
END:DAYLIGHT
BEGIN:DAYLIGHT
DTSTART:20230326T030000
RDATE:20231029T020000
TZOFFSETFROM:+0100
TZOFFSETTO:+0200
TZNAME:Europe/Paris CEST
END:DAYLIGHT
BEGIN:DAYLIGHT
DTSTART:20240331T030000
RDATE:20241027T020000
TZOFFSETFROM:+0100
TZOFFSETTO:+0200
TZNAME:Europe/Paris CEST
END:DAYLIGHT
BEGIN:DAYLIGHT
DTSTART:20250330T030000
RDATE:20251026T020000
TZOFFSETFROM:+0100
TZOFFSETTO:+0200
TZNAME:Europe/Paris CEST
END:DAYLIGHT
BEGIN:DAYLIGHT
DTSTART:20260329T030000
RDATE:20261025T020000
TZOFFSETFROM:+0100
TZOFFSETTO:+0200
TZNAME:Europe/Paris CEST
END:DAYLIGHT
END:VTIMEZONE
BEGIN:VEVENT
UID:1a97c7794adc2688c4f3579c177b0f19
CATEGORIES:Compétition Ski Alpin
CREATED:20171121T093310
SUMMARY:Grand Prix International MARKSTEIN
URL;VALUE=URI:https://skivosges.net/agenda/detailevenement/958/-/grand-prix-international
 -markstein?tmpl=component
DESCRIPTION:<!-- #gskiepreuve code généré par le plugin jevents pour GskiEpreuves. Ne p
 as modifier cette ligne, ni tout le contenu suivant  #gskiepreuve --><div c
 lass="gski-evenement_infos"><div class="gski-evenement-nom">Grand Prix Inte
 rnational MARKSTEIN</div><div class="gski-evenement-report"></div><ul class
 ="gski-evenement-liste-infos"><li>Codex évenement FRA1799</li><li>Lieu : Ma
 rkstein</li><li>Organisateur : 14186 S.C VALLEE DE WESSERLING</li><li>Courr
 iel : <!-- Cette adresse électronique est protégée contre les robots spamme
 urs. --><span class="cloaked_email ep_3038dbfe"><span data-ep-b="&#109;" da
 ta-ep-a="&#115;&#99;&#118;&#119;"><span data-ep-b="&#108;.&#99;&#111;" data
 -ep-a="e&#115;&#115;&#101;"><span data-ep-a="&#114;&#108;&#105;&#110;" data
 -ep-b="g&#64;&#97;&#111;"></span></span></span></span><script>RegularLabs.E
 mailProtector.unCloak("ep_3038dbfe");</script></li><li>Téléphone : 03 89 82
  78 08</li></ul><div class="gski-evenement-infos-2"><div class="gski-evenem
 ent-info-inscriptions"><div class="gski-evenement-inscriptions-periodes">Pé
 riode d'inscription à l'evènement du samedi 17 février 2018 à 00:00 au jeud
 i 22 février 2018 à 12:00 <span class="gski-evenement-inscriptions-impossib
 les">(Inscriptions impossibles).</span><div class="gski-evenement-inscripti
 ons-types-titres">Inscriptions ouvertes aux detenteurs des titres Fédéraux 
 valides suivants : Licenciés Compétiteurs</div></div></div><div class="gski
 -evenement-epreuves"><div class="gski-evenement-epreuves-titres">Epreuves :
 </div><ul class="gski-evenement-epreuves-list"><li><div class="gski-epreuve
 -date">Le samedi 24 février 2018</div><ul class="gski-epreuve-liste-infos">
 <li>Codex épreuve 1799</li><li>Slalom</li><li>Catégorie(s) : Toutes les Cat
 egories (Garçons)</li></ul></li><li><div class="gski-epreuve-date">Le samed
 i 24 février 2018</div><ul class="gski-epreuve-liste-infos"><li>Codex épreu
 ve 6748</li><li>Slalom</li><li>Catégorie(s) : Toutes les Categories (Filles
 )</li></ul></li><li><div class="gski-epreuve-date">Le dimanche 25 février 2
 018</div><ul class="gski-epreuve-liste-infos"><li>Codex épreuve 1800</li><l
 i>Slalom</li><li>Catégorie(s) : Toutes les Categories (Garçons)</li></ul></
 li><li><div class="gski-epreuve-date">Le dimanche 25 février 2018</div><ul 
 class="gski-epreuve-liste-infos"><li>Codex épreuve 6749</li><li>Slalom</li>
 <li>Catégorie(s) : Toutes les Categories (Filles)</li></ul></li></ul></div>
 <div class="gskiepreuves-links"><ul><li><a href="/index.php?option=com_jeve
 nts&task=icalevent.detail&evid=953&Itemid=1703">Voir les informations dans 
 l'agenda...</a></li><li>Publications concernant cet évènement :<ul><li><a h
 ref="/index.php?option=com_content&view=article&id=6162&Itemid=1703">Dimanc
 he 18 Février 2018 à 22:28 : Le 24/02/2018 Markstein Informations</a></li><
 /ul></li></ul></div></div"><!-- #/gskiepreuve fin du dode généré par le plu
 gin jevents pour GskiEpreuves. . Ne pas modifier cette ligne, ni tout le co
 ntenu précedant.  #/gskiepreuve --> <a href="https://skivosges.net/agenda/d
 etailevenement/958/-/grand-prix-international-markstein?tmpl=component">Cet
  évènement a été importé depuis :https://skivosges.net/agenda/detaileveneme
 nt/958/-/grand-prix-international-markstein?tmpl=component</a>
X-ALT-DESC;FMTTYPE=text/html:<!-- #gskiepreuve code généré par le plugin jevents pour GskiEpreuves. Ne p
 as modifier cette ligne, ni tout le contenu suivant  #gskiepreuve --><div c
 lass="gski-evenement_infos"><div class="gski-evenement-nom">Grand Prix Inte
 rnational MARKSTEIN</div><div class="gski-evenement-report"></div><ul class
 ="gski-evenement-liste-infos"><li>Codex évenement FRA1799</li><li>Lieu : Ma
 rkstein</li><li>Organisateur : 14186 S.C VALLEE DE WESSERLING</li><li>Courr
 iel : <!-- Cette adresse électronique est protégée contre les robots spamme
 urs. --><span class="cloaked_email ep_3038dbfe"><span data-ep-b="&#109;" da
 ta-ep-a="&#115;&#99;&#118;&#119;"><span data-ep-b="&#108;.&#99;&#111;" data
 -ep-a="e&#115;&#115;&#101;"><span data-ep-a="&#114;&#108;&#105;&#110;" data
 -ep-b="g&#64;&#97;&#111;"></span></span></span></span><script>RegularLabs.E
 mailProtector.unCloak("ep_3038dbfe");</script></li><li>Téléphone : 03 89 82
  78 08</li></ul><div class="gski-evenement-infos-2"><div class="gski-evenem
 ent-info-inscriptions"><div class="gski-evenement-inscriptions-periodes">Pé
 riode d'inscription à l'evènement du samedi 17 février 2018 à 00:00 au jeud
 i 22 février 2018 à 12:00 <span class="gski-evenement-inscriptions-impossib
 les">(Inscriptions impossibles).</span><div class="gski-evenement-inscripti
 ons-types-titres">Inscriptions ouvertes aux detenteurs des titres Fédéraux 
 valides suivants : Licenciés Compétiteurs</div></div></div><div class="gski
 -evenement-epreuves"><div class="gski-evenement-epreuves-titres">Epreuves :
 </div><ul class="gski-evenement-epreuves-list"><li><div class="gski-epreuve
 -date">Le samedi 24 février 2018</div><ul class="gski-epreuve-liste-infos">
 <li>Codex épreuve 1799</li><li>Slalom</li><li>Catégorie(s) : Toutes les Cat
 egories (Garçons)</li></ul></li><li><div class="gski-epreuve-date">Le samed
 i 24 février 2018</div><ul class="gski-epreuve-liste-infos"><li>Codex épreu
 ve 6748</li><li>Slalom</li><li>Catégorie(s) : Toutes les Categories (Filles
 )</li></ul></li><li><div class="gski-epreuve-date">Le dimanche 25 février 2
 018</div><ul class="gski-epreuve-liste-infos"><li>Codex épreuve 1800</li><l
 i>Slalom</li><li>Catégorie(s) : Toutes les Categories (Garçons)</li></ul></
 li><li><div class="gski-epreuve-date">Le dimanche 25 février 2018</div><ul 
 class="gski-epreuve-liste-infos"><li>Codex épreuve 6749</li><li>Slalom</li>
 <li>Catégorie(s) : Toutes les Categories (Filles)</li></ul></li></ul></div>
 <div class="gskiepreuves-links"><ul><li><a href="https://skivosges.net/inde
 x.php?option=com_jevents&task=icalevent.detail&evid=953&Itemid=1703">Voir l
 es informations dans l'agenda...</a></li><li>Publications concernant cet év
 ènement :<ul><li><a href="https://skivosges.net/index.php?option=com_conten
 t&view=article&id=6162&Itemid=1703">Dimanche 18 Février 2018 à 22:28 : Le 2
 4/02/2018 Markstein Informations</a></li></ul></li></ul></div></div"><!-- #
 /gskiepreuve fin du dode généré par le plugin jevents pour GskiEpreuves. . 
 Ne pas modifier cette ligne, ni tout le contenu précedant.  #/gskiepreuve -
 -> <a href="https://skivosges.net/agenda/detailevenement/958/-/grand-prix-i
 nternational-markstein?tmpl=component">Cet évènement a été importé depuis :
 https://skivosges.net/agenda/detailevenement/958/-/grand-prix-international
 -markstein?tmpl=component</a>DTSTAMP:20260421T051407
DTSTART;TZID=Europe/Paris;VALUE=DATE:20180224
DTEND;TZID=Europe/Paris;VALUE=DATE:20180226
SEQUENCE:0
TRANSP:OPAQUE
END:VEVENT
END:VCALENDAR