BEGIN:VCALENDAR
VERSION:2.0
PRODID:-//jEvents 2.0 for Joomla//EN
CALSCALE:GREGORIAN
METHOD:PUBLISH
BEGIN:VTIMEZONE
TZID:Europe/Paris
BEGIN:STANDARD
DTSTART:20170223T000000
RDATE:20170326T030000
TZOFFSETFROM:+0200
TZOFFSETTO:+0100
TZNAME:Europe/Paris CET
END:STANDARD
BEGIN:STANDARD
DTSTART:20171029T020000
RDATE:20180325T030000
TZOFFSETFROM:+0200
TZOFFSETTO:+0100
TZNAME:Europe/Paris CET
END:STANDARD
BEGIN:STANDARD
DTSTART:20181028T020000
RDATE:20190331T030000
TZOFFSETFROM:+0200
TZOFFSETTO:+0100
TZNAME:Europe/Paris CET
END:STANDARD
BEGIN:STANDARD
DTSTART:20191027T020000
RDATE:20200329T030000
TZOFFSETFROM:+0200
TZOFFSETTO:+0100
TZNAME:Europe/Paris CET
END:STANDARD
BEGIN:STANDARD
DTSTART:20201025T020000
RDATE:20210328T030000
TZOFFSETFROM:+0200
TZOFFSETTO:+0100
TZNAME:Europe/Paris CET
END:STANDARD
BEGIN:STANDARD
DTSTART:20211031T020000
RDATE:20220327T030000
TZOFFSETFROM:+0200
TZOFFSETTO:+0100
TZNAME:Europe/Paris CET
END:STANDARD
BEGIN:STANDARD
DTSTART:20221030T020000
RDATE:20230326T030000
TZOFFSETFROM:+0200
TZOFFSETTO:+0100
TZNAME:Europe/Paris CET
END:STANDARD
BEGIN:STANDARD
DTSTART:20231029T020000
RDATE:20240331T030000
TZOFFSETFROM:+0200
TZOFFSETTO:+0100
TZNAME:Europe/Paris CET
END:STANDARD
BEGIN:STANDARD
DTSTART:20241027T020000
RDATE:20250330T030000
TZOFFSETFROM:+0200
TZOFFSETTO:+0100
TZNAME:Europe/Paris CET
END:STANDARD
BEGIN:STANDARD
DTSTART:20251026T020000
RDATE:20260329T030000
TZOFFSETFROM:+0200
TZOFFSETTO:+0100
TZNAME:Europe/Paris CET
END:STANDARD
BEGIN:STANDARD
DTSTART:20261025T020000
RDATE:20270328T030000
TZOFFSETFROM:+0200
TZOFFSETTO:+0100
TZNAME:Europe/Paris CET
END:STANDARD
BEGIN:DAYLIGHT
DTSTART:20170326T030000
RDATE:20171029T020000
TZOFFSETFROM:+0100
TZOFFSETTO:+0200
TZNAME:Europe/Paris CEST
END:DAYLIGHT
BEGIN:DAYLIGHT
DTSTART:20180325T030000
RDATE:20181028T020000
TZOFFSETFROM:+0100
TZOFFSETTO:+0200
TZNAME:Europe/Paris CEST
END:DAYLIGHT
BEGIN:DAYLIGHT
DTSTART:20190331T030000
RDATE:20191027T020000
TZOFFSETFROM:+0100
TZOFFSETTO:+0200
TZNAME:Europe/Paris CEST
END:DAYLIGHT
BEGIN:DAYLIGHT
DTSTART:20200329T030000
RDATE:20201025T020000
TZOFFSETFROM:+0100
TZOFFSETTO:+0200
TZNAME:Europe/Paris CEST
END:DAYLIGHT
BEGIN:DAYLIGHT
DTSTART:20210328T030000
RDATE:20211031T020000
TZOFFSETFROM:+0100
TZOFFSETTO:+0200
TZNAME:Europe/Paris CEST
END:DAYLIGHT
BEGIN:DAYLIGHT
DTSTART:20220327T030000
RDATE:20221030T020000
TZOFFSETFROM:+0100
TZOFFSETTO:+0200
TZNAME:Europe/Paris CEST
END:DAYLIGHT
BEGIN:DAYLIGHT
DTSTART:20230326T030000
RDATE:20231029T020000
TZOFFSETFROM:+0100
TZOFFSETTO:+0200
TZNAME:Europe/Paris CEST
END:DAYLIGHT
BEGIN:DAYLIGHT
DTSTART:20240331T030000
RDATE:20241027T020000
TZOFFSETFROM:+0100
TZOFFSETTO:+0200
TZNAME:Europe/Paris CEST
END:DAYLIGHT
BEGIN:DAYLIGHT
DTSTART:20250330T030000
RDATE:20251026T020000
TZOFFSETFROM:+0100
TZOFFSETTO:+0200
TZNAME:Europe/Paris CEST
END:DAYLIGHT
BEGIN:DAYLIGHT
DTSTART:20260329T030000
RDATE:20261025T020000
TZOFFSETFROM:+0100
TZOFFSETTO:+0200
TZNAME:Europe/Paris CEST
END:DAYLIGHT
END:VTIMEZONE
BEGIN:VEVENT
UID:0e6f41d838457bfe6eb2ce02e5296a11
CATEGORIES:Compétition Biathlon
CREATED:20171121T093310
SUMMARY:Biathlon Régional 05
URL;VALUE=URI:https://skivosges.net/agenda/detailevenement/959/-/biathlon-regional-05?tmp
 l=component
DESCRIPTION:<!-- #gskiepreuve code généré par le plugin jevents pour GskiEpreuves. Ne p
 as modifier cette ligne, ni tout le contenu suivant  #gskiepreuve --><div c
 lass="gski-evenement_infos"><div class="gski-evenement-nom">Biathlon Région
 al 05</div><div class="gski-evenement-report"></div><ul class="gski-eveneme
 nt-liste-infos"><li>Codex évenement BMVT0060</li><li>Station : LA BRESSE ST
 ADE VERONIQUE CLAUDEL</li><li>Organisateur : 14024 LA BRESSAUDE SECTION SKI
 </li><li>Courriel : <!-- Cette adresse électronique est protégée contre les
  robots spammeurs. --><span class="cloaked_email ep_aac688e9"><span data-ep
 -b="&#102;r" data-ep-a="&#111;d&#105;&#108;e"><span data-ep-a="&#46;muns" d
 ata-ep-b="ange."><span data-ep-b="l&#98;&#64;&#111;&#114;" data-ep-a="&#99;
 h&#46;&#115;&#99;"></span></span></span></span><script>RegularLabs.EmailPro
 tector.unCloak("ep_aac688e9");</script></li><li>Téléphone : 0608855252</li>
 </ul><div class="gski-evenement-infos-2"><div class="gski-evenement-info-in
 scriptions"><div class="gski-evenement-inscriptions-periodes">Période d'ins
 cription à l'evènement du samedi 17 février 2018 à 00:00 au vendredi 23 fév
 rier 2018 à 18:00 <span class="gski-evenement-inscriptions-impossibles">(In
 scriptions impossibles).</span><div class="gski-evenement-inscriptions-type
 s-titres">Inscriptions ouvertes aux detenteurs des titres Fédéraux valides 
 suivants : Licenciés Compétiteurs</div></div></div><div class="gski-eveneme
 nt-epreuves"><div class="gski-evenement-epreuves-titres">Epreuves :</div><u
 l class="gski-evenement-epreuves-list"><li><div class="gski-epreuve-date">L
 e samedi 24 février 2018</div><ul class="gski-epreuve-liste-infos"><li>Code
 x épreuve BMVF0061</li><li>Individuel</li><li>Catégorie(s) : U14 (Filles)</
 li></ul></li><li><div class="gski-epreuve-date">Le samedi 24 février 2018</
 div><ul class="gski-epreuve-liste-infos"><li>Codex épreuve BMVF0062</li><li
 >Individuel</li><li>Catégorie(s) : U16 (Filles)</li></ul></li><li><div clas
 s="gski-epreuve-date">Le samedi 24 février 2018</div><ul class="gski-epreuv
 e-liste-infos"><li>Codex épreuve BMVF0063</li><li>Individuel</li><li>Catégo
 rie(s) : U16 a U21 (Filles)</li></ul></li><li><div class="gski-epreuve-date
 ">Le samedi 24 février 2018</div><ul class="gski-epreuve-liste-infos"><li>C
 odex épreuve BMVF0064</li><li>Individuel</li><li>Catégorie(s) : Senior (Dam
 es)</li></ul></li><li><div class="gski-epreuve-date">Le samedi 24 février 2
 018</div><ul class="gski-epreuve-liste-infos"><li>Codex épreuve BMVM0061</l
 i><li>Individuel</li><li>Catégorie(s) : U14 (Garçons)</li></ul></li><li><di
 v class="gski-epreuve-date">Le samedi 24 février 2018</div><ul class="gski-
 epreuve-liste-infos"><li>Codex épreuve BMVM0062</li><li>Individuel</li><li>
 Catégorie(s) : U16 (Garçons)</li></ul></li><li><div class="gski-epreuve-dat
 e">Le samedi 24 février 2018</div><ul class="gski-epreuve-liste-infos"><li>
 Codex épreuve BMVM0063</li><li>Individuel</li><li>Catégorie(s) : U16 a U21 
 (Garçons)</li></ul></li><li><div class="gski-epreuve-date">Le samedi 24 fév
 rier 2018</div><ul class="gski-epreuve-liste-infos"><li>Codex épreuve BMVM0
 064</li><li>Individuel</li><li>Catégorie(s) : Senior (Hommes)</li></ul></li
 ></ul></div><div class="gskiepreuves-links"><ul><li><a href="/index.php?opt
 ion=com_jevents&task=icalevent.detail&evid=954&Itemid=1703">Voir les inform
 ations dans l'agenda...</a></li><li><a href="/index.php?option=com_gskiepre
 uves&view=afficheresultats&format_option=tous&filter[search]=BMVT0060&filte
 r[date_debut]=24-02-2018&filter[date_fin]=24-02-2018&code_activite=BIATH&It
 emid=1703">Vers les résultats...</a></li></ul></div></div"><!-- #/gskiepreu
 ve fin du dode généré par le plugin jevents pour GskiEpreuves. . Ne pas mod
 ifier cette ligne, ni tout le contenu précedant.  #/gskiepreuve --> <a href
 ="https://skivosges.net/agenda/detailevenement/959/-/biathlon-regional-05?t
 mpl=component">Cet évènement a été importé depuis :https://skivosges.net/ag
 enda/detailevenement/959/-/biathlon-regional-05?tmpl=component</a>
X-ALT-DESC;FMTTYPE=text/html:<!-- #gskiepreuve code généré par le plugin jevents pour GskiEpreuves. Ne p
 as modifier cette ligne, ni tout le contenu suivant  #gskiepreuve --><div c
 lass="gski-evenement_infos"><div class="gski-evenement-nom">Biathlon Région
 al 05</div><div class="gski-evenement-report"></div><ul class="gski-eveneme
 nt-liste-infos"><li>Codex évenement BMVT0060</li><li>Station : LA BRESSE ST
 ADE VERONIQUE CLAUDEL</li><li>Organisateur : 14024 LA BRESSAUDE SECTION SKI
 </li><li>Courriel : <!-- Cette adresse électronique est protégée contre les
  robots spammeurs. --><span class="cloaked_email ep_aac688e9"><span data-ep
 -b="&#102;r" data-ep-a="&#111;d&#105;&#108;e"><span data-ep-a="&#46;muns" d
 ata-ep-b="ange."><span data-ep-b="l&#98;&#64;&#111;&#114;" data-ep-a="&#99;
 h&#46;&#115;&#99;"></span></span></span></span><script>RegularLabs.EmailPro
 tector.unCloak("ep_aac688e9");</script></li><li>Téléphone : 0608855252</li>
 </ul><div class="gski-evenement-infos-2"><div class="gski-evenement-info-in
 scriptions"><div class="gski-evenement-inscriptions-periodes">Période d'ins
 cription à l'evènement du samedi 17 février 2018 à 00:00 au vendredi 23 fév
 rier 2018 à 18:00 <span class="gski-evenement-inscriptions-impossibles">(In
 scriptions impossibles).</span><div class="gski-evenement-inscriptions-type
 s-titres">Inscriptions ouvertes aux detenteurs des titres Fédéraux valides 
 suivants : Licenciés Compétiteurs</div></div></div><div class="gski-eveneme
 nt-epreuves"><div class="gski-evenement-epreuves-titres">Epreuves :</div><u
 l class="gski-evenement-epreuves-list"><li><div class="gski-epreuve-date">L
 e samedi 24 février 2018</div><ul class="gski-epreuve-liste-infos"><li>Code
 x épreuve BMVF0061</li><li>Individuel</li><li>Catégorie(s) : U14 (Filles)</
 li></ul></li><li><div class="gski-epreuve-date">Le samedi 24 février 2018</
 div><ul class="gski-epreuve-liste-infos"><li>Codex épreuve BMVF0062</li><li
 >Individuel</li><li>Catégorie(s) : U16 (Filles)</li></ul></li><li><div clas
 s="gski-epreuve-date">Le samedi 24 février 2018</div><ul class="gski-epreuv
 e-liste-infos"><li>Codex épreuve BMVF0063</li><li>Individuel</li><li>Catégo
 rie(s) : U16 a U21 (Filles)</li></ul></li><li><div class="gski-epreuve-date
 ">Le samedi 24 février 2018</div><ul class="gski-epreuve-liste-infos"><li>C
 odex épreuve BMVF0064</li><li>Individuel</li><li>Catégorie(s) : Senior (Dam
 es)</li></ul></li><li><div class="gski-epreuve-date">Le samedi 24 février 2
 018</div><ul class="gski-epreuve-liste-infos"><li>Codex épreuve BMVM0061</l
 i><li>Individuel</li><li>Catégorie(s) : U14 (Garçons)</li></ul></li><li><di
 v class="gski-epreuve-date">Le samedi 24 février 2018</div><ul class="gski-
 epreuve-liste-infos"><li>Codex épreuve BMVM0062</li><li>Individuel</li><li>
 Catégorie(s) : U16 (Garçons)</li></ul></li><li><div class="gski-epreuve-dat
 e">Le samedi 24 février 2018</div><ul class="gski-epreuve-liste-infos"><li>
 Codex épreuve BMVM0063</li><li>Individuel</li><li>Catégorie(s) : U16 a U21 
 (Garçons)</li></ul></li><li><div class="gski-epreuve-date">Le samedi 24 fév
 rier 2018</div><ul class="gski-epreuve-liste-infos"><li>Codex épreuve BMVM0
 064</li><li>Individuel</li><li>Catégorie(s) : Senior (Hommes)</li></ul></li
 ></ul></div><div class="gskiepreuves-links"><ul><li><a href="https://skivos
 ges.net/index.php?option=com_jevents&task=icalevent.detail&evid=954&Itemid=
 1703">Voir les informations dans l'agenda...</a></li><li><a href="https://s
 kivosges.net/index.php?option=com_gskiepreuves&view=afficheresultats&format
 _option=tous&filter[search]=BMVT0060&filter[date_debut]=24-02-2018&filter[d
 ate_fin]=24-02-2018&code_activite=BIATH&Itemid=1703">Vers les résultats...<
 /a></li></ul></div></div"><!-- #/gskiepreuve fin du dode généré par le plug
 in jevents pour GskiEpreuves. . Ne pas modifier cette ligne, ni tout le con
 tenu précedant.  #/gskiepreuve --> <a href="https://skivosges.net/agenda/de
 tailevenement/959/-/biathlon-regional-05?tmpl=component">Cet évènement a ét
 é importé depuis :https://skivosges.net/agenda/detailevenement/959/-/biathl
 on-regional-05?tmpl=component</a>DTSTAMP:20260421T051414
DTSTART;TZID=Europe/Paris;VALUE=DATE:20180224
DTEND;TZID=Europe/Paris;VALUE=DATE:20180225
SEQUENCE:0
TRANSP:OPAQUE
END:VEVENT
END:VCALENDAR