BEGIN:VCALENDAR
VERSION:2.0
PRODID:-//jEvents 2.0 for Joomla//EN
CALSCALE:GREGORIAN
METHOD:PUBLISH
BEGIN:VTIMEZONE
TZID:Europe/Paris
BEGIN:STANDARD
DTSTART:20170223T000000
RDATE:20170326T030000
TZOFFSETFROM:+0200
TZOFFSETTO:+0100
TZNAME:Europe/Paris CET
END:STANDARD
BEGIN:STANDARD
DTSTART:20171029T020000
RDATE:20180325T030000
TZOFFSETFROM:+0200
TZOFFSETTO:+0100
TZNAME:Europe/Paris CET
END:STANDARD
BEGIN:STANDARD
DTSTART:20181028T020000
RDATE:20190331T030000
TZOFFSETFROM:+0200
TZOFFSETTO:+0100
TZNAME:Europe/Paris CET
END:STANDARD
BEGIN:STANDARD
DTSTART:20191027T020000
RDATE:20200329T030000
TZOFFSETFROM:+0200
TZOFFSETTO:+0100
TZNAME:Europe/Paris CET
END:STANDARD
BEGIN:STANDARD
DTSTART:20201025T020000
RDATE:20210328T030000
TZOFFSETFROM:+0200
TZOFFSETTO:+0100
TZNAME:Europe/Paris CET
END:STANDARD
BEGIN:STANDARD
DTSTART:20211031T020000
RDATE:20220327T030000
TZOFFSETFROM:+0200
TZOFFSETTO:+0100
TZNAME:Europe/Paris CET
END:STANDARD
BEGIN:STANDARD
DTSTART:20221030T020000
RDATE:20230326T030000
TZOFFSETFROM:+0200
TZOFFSETTO:+0100
TZNAME:Europe/Paris CET
END:STANDARD
BEGIN:STANDARD
DTSTART:20231029T020000
RDATE:20240331T030000
TZOFFSETFROM:+0200
TZOFFSETTO:+0100
TZNAME:Europe/Paris CET
END:STANDARD
BEGIN:STANDARD
DTSTART:20241027T020000
RDATE:20250330T030000
TZOFFSETFROM:+0200
TZOFFSETTO:+0100
TZNAME:Europe/Paris CET
END:STANDARD
BEGIN:STANDARD
DTSTART:20251026T020000
RDATE:20260329T030000
TZOFFSETFROM:+0200
TZOFFSETTO:+0100
TZNAME:Europe/Paris CET
END:STANDARD
BEGIN:STANDARD
DTSTART:20261025T020000
RDATE:20270328T030000
TZOFFSETFROM:+0200
TZOFFSETTO:+0100
TZNAME:Europe/Paris CET
END:STANDARD
BEGIN:DAYLIGHT
DTSTART:20170326T030000
RDATE:20171029T020000
TZOFFSETFROM:+0100
TZOFFSETTO:+0200
TZNAME:Europe/Paris CEST
END:DAYLIGHT
BEGIN:DAYLIGHT
DTSTART:20180325T030000
RDATE:20181028T020000
TZOFFSETFROM:+0100
TZOFFSETTO:+0200
TZNAME:Europe/Paris CEST
END:DAYLIGHT
BEGIN:DAYLIGHT
DTSTART:20190331T030000
RDATE:20191027T020000
TZOFFSETFROM:+0100
TZOFFSETTO:+0200
TZNAME:Europe/Paris CEST
END:DAYLIGHT
BEGIN:DAYLIGHT
DTSTART:20200329T030000
RDATE:20201025T020000
TZOFFSETFROM:+0100
TZOFFSETTO:+0200
TZNAME:Europe/Paris CEST
END:DAYLIGHT
BEGIN:DAYLIGHT
DTSTART:20210328T030000
RDATE:20211031T020000
TZOFFSETFROM:+0100
TZOFFSETTO:+0200
TZNAME:Europe/Paris CEST
END:DAYLIGHT
BEGIN:DAYLIGHT
DTSTART:20220327T030000
RDATE:20221030T020000
TZOFFSETFROM:+0100
TZOFFSETTO:+0200
TZNAME:Europe/Paris CEST
END:DAYLIGHT
BEGIN:DAYLIGHT
DTSTART:20230326T030000
RDATE:20231029T020000
TZOFFSETFROM:+0100
TZOFFSETTO:+0200
TZNAME:Europe/Paris CEST
END:DAYLIGHT
BEGIN:DAYLIGHT
DTSTART:20240331T030000
RDATE:20241027T020000
TZOFFSETFROM:+0100
TZOFFSETTO:+0200
TZNAME:Europe/Paris CEST
END:DAYLIGHT
BEGIN:DAYLIGHT
DTSTART:20250330T030000
RDATE:20251026T020000
TZOFFSETFROM:+0100
TZOFFSETTO:+0200
TZNAME:Europe/Paris CEST
END:DAYLIGHT
BEGIN:DAYLIGHT
DTSTART:20260329T030000
RDATE:20261025T020000
TZOFFSETFROM:+0100
TZOFFSETTO:+0200
TZNAME:Europe/Paris CEST
END:DAYLIGHT
END:VTIMEZONE
BEGIN:VEVENT
UID:c5445c7fb3fa71ce283c9d7052ea06a9
CATEGORIES:Circuit Massif Jeunes (alpin)
CREATED:20171121T093310
SUMMARY:CJM Coupe d'ARGENT U14 Prix du Lac Blanc U14
URL;VALUE=URI:https://skivosges.net/agenda/detailevenement/962/-/cjm-coupe-dargent-u14-pr
 ix-du-lac-blanc-u14?tmpl=component
DESCRIPTION:<!-- #gskiepreuve code généré par le plugin jevents pour GskiEpreuves. Ne p
 as modifier cette ligne, ni tout le contenu suivant  #gskiepreuve --><div c
 lass="gski-evenement_infos"><div class="gski-evenement-nom">CJM Coupe d'ARG
 ENT U14 Prix du Lac Blanc U14</div><div class="gski-evenement-report"></div
 ><ul class="gski-evenement-liste-infos"><li>Codex évenement AMVT1030</li><l
 i>Station : LAC BLANC</li><li>Piste : STADE </li><li>Organisateur : 14251 S
 KI CLUB LE BONHOMME</li><li>Courriel : <!-- Cette adresse électronique est 
 protégée contre les robots spammeurs. --><span class="cloaked_email ep_6cae
 8179"><span data-ep-b=".fr" data-ep-a="c&#104;&#114;is&#116;"><span data-ep
 -b="&#111;ra&#110;&#103;&#101;" data-ep-a="&#105;a&#110;.&#99;h"><span data
 -ep-b="&#118;&#105;&#99;&#104;&#99;&#64;" data-ep-a="afi&#111;&#108;&#97;">
 </span></span></span></span><script>RegularLabs.EmailProtector.unCloak("ep_
 6cae8179");</script></li><li><span class="gski-evenement-obs">Délégué Techn
 ique : KOHLER JEAN PIERRE</span></li></ul><div class="gski-evenement-infos-
 2"><div class="gski-evenement-info-inscriptions"><div class="gski-evenement
 -inscriptions-periodes">Période d'inscription à l'evènement du jeudi 15 fév
 rier 2018 à 00:00 au jeudi 22 février 2018 à 18:00 <span class="gski-evenem
 ent-inscriptions-impossibles">(Inscriptions impossibles).</span><div class=
 "gski-evenement-inscriptions-types-titres">Inscriptions ouvertes aux detent
 eurs des titres Fédéraux valides suivants : Licenciés Compétiteurs</div></d
 iv></div><div class="gski-evenement-epreuves"><div class="gski-evenement-ep
 reuves-titres">Epreuves :</div><ul class="gski-evenement-epreuves-list"><li
 ><div class="gski-epreuve-date">Le samedi 24 février 2018 à 10:00</div><ul 
 class="gski-epreuve-liste-infos"><li>Codex épreuve AMVM1031</li><li>Slalom 
 Geant</li><li>Catégorie(s) : U14 (Garçons)</li></ul></li><li><div class="gs
 ki-epreuve-date">Le samedi 24 février 2018 à 10:00</div><ul class="gski-epr
 euve-liste-infos"><li>Codex épreuve AMVF1031</li><li>Slalom Geant</li><li>C
 atégorie(s) : U14 (Filles)</li></ul></li></ul></div><div class="gskiepreuve
 s-links"><ul><li><a href="/index.php?option=com_jevents&task=icalevent.deta
 il&evid=957&Itemid=1703">Voir les informations dans l'agenda...</a></li><li
 ><a href="/index.php?option=com_gskiepreuves&view=afficheresultats&format_o
 ption=tous&filter[search]=AMVT1030&filter[date_debut]=24-02-2018&filter[dat
 e_fin]=24-02-2018&code_activite=ALP&Itemid=1703">Vers les résultats...</a><
 /li><li>Publications concernant cet évènement :<ul><li><a href="/index.php?
 option=com_content&view=article&id=6186&Itemid=1703">Samedi 24 Février 2018
  à 18:28 : Le 24/02/2018 LAC BLANC Résultats</a></li><li><a href="/index.ph
 p?option=com_content&view=article&id=6171&Itemid=1703">Vendredi 23 Février 
 2018 à 08:33 : Le 24/02/2018 LAC BLANC Liste de départs</a></li></ul></li><
 /ul></div></div"><!-- #/gskiepreuve fin du dode généré par le plugin jevent
 s pour GskiEpreuves. . Ne pas modifier cette ligne, ni tout le contenu préc
 edant.  #/gskiepreuve --> <a href="https://skivosges.net/agenda/detailevene
 ment/962/-/cjm-coupe-dargent-u14-prix-du-lac-blanc-u14?tmpl=component">Cet 
 évènement a été importé depuis :https://skivosges.net/agenda/detailevenemen
 t/962/-/cjm-coupe-dargent-u14-prix-du-lac-blanc-u14?tmpl=component</a>
X-ALT-DESC;FMTTYPE=text/html:<!-- #gskiepreuve code généré par le plugin jevents pour GskiEpreuves. Ne p
 as modifier cette ligne, ni tout le contenu suivant  #gskiepreuve --><div c
 lass="gski-evenement_infos"><div class="gski-evenement-nom">CJM Coupe d'ARG
 ENT U14 Prix du Lac Blanc U14</div><div class="gski-evenement-report"></div
 ><ul class="gski-evenement-liste-infos"><li>Codex évenement AMVT1030</li><l
 i>Station : LAC BLANC</li><li>Piste : STADE </li><li>Organisateur : 14251 S
 KI CLUB LE BONHOMME</li><li>Courriel : <!-- Cette adresse électronique est 
 protégée contre les robots spammeurs. --><span class="cloaked_email ep_6cae
 8179"><span data-ep-b=".fr" data-ep-a="c&#104;&#114;is&#116;"><span data-ep
 -b="&#111;ra&#110;&#103;&#101;" data-ep-a="&#105;a&#110;.&#99;h"><span data
 -ep-b="&#118;&#105;&#99;&#104;&#99;&#64;" data-ep-a="afi&#111;&#108;&#97;">
 </span></span></span></span><script>RegularLabs.EmailProtector.unCloak("ep_
 6cae8179");</script></li><li><span class="gski-evenement-obs">Délégué Techn
 ique : KOHLER JEAN PIERRE</span></li></ul><div class="gski-evenement-infos-
 2"><div class="gski-evenement-info-inscriptions"><div class="gski-evenement
 -inscriptions-periodes">Période d'inscription à l'evènement du jeudi 15 fév
 rier 2018 à 00:00 au jeudi 22 février 2018 à 18:00 <span class="gski-evenem
 ent-inscriptions-impossibles">(Inscriptions impossibles).</span><div class=
 "gski-evenement-inscriptions-types-titres">Inscriptions ouvertes aux detent
 eurs des titres Fédéraux valides suivants : Licenciés Compétiteurs</div></d
 iv></div><div class="gski-evenement-epreuves"><div class="gski-evenement-ep
 reuves-titres">Epreuves :</div><ul class="gski-evenement-epreuves-list"><li
 ><div class="gski-epreuve-date">Le samedi 24 février 2018 à 10:00</div><ul 
 class="gski-epreuve-liste-infos"><li>Codex épreuve AMVM1031</li><li>Slalom 
 Geant</li><li>Catégorie(s) : U14 (Garçons)</li></ul></li><li><div class="gs
 ki-epreuve-date">Le samedi 24 février 2018 à 10:00</div><ul class="gski-epr
 euve-liste-infos"><li>Codex épreuve AMVF1031</li><li>Slalom Geant</li><li>C
 atégorie(s) : U14 (Filles)</li></ul></li></ul></div><div class="gskiepreuve
 s-links"><ul><li><a href="https://skivosges.net/index.php?option=com_jevent
 s&task=icalevent.detail&evid=957&Itemid=1703">Voir les informations dans l'
 agenda...</a></li><li><a href="https://skivosges.net/index.php?option=com_g
 skiepreuves&view=afficheresultats&format_option=tous&filter[search]=AMVT103
 0&filter[date_debut]=24-02-2018&filter[date_fin]=24-02-2018&code_activite=A
 LP&Itemid=1703">Vers les résultats...</a></li><li>Publications concernant c
 et évènement :<ul><li><a href="https://skivosges.net/index.php?option=com_c
 ontent&view=article&id=6186&Itemid=1703">Samedi 24 Février 2018 à 18:28 : L
 e 24/02/2018 LAC BLANC Résultats</a></li><li><a href="https://skivosges.net
 /index.php?option=com_content&view=article&id=6171&Itemid=1703">Vendredi 23
  Février 2018 à 08:33 : Le 24/02/2018 LAC BLANC Liste de départs</a></li></
 ul></li></ul></div></div"><!-- #/gskiepreuve fin du dode généré par le plug
 in jevents pour GskiEpreuves. . Ne pas modifier cette ligne, ni tout le con
 tenu précedant.  #/gskiepreuve --> <a href="https://skivosges.net/agenda/de
 tailevenement/962/-/cjm-coupe-dargent-u14-prix-du-lac-blanc-u14?tmpl=compon
 ent">Cet évènement a été importé depuis :https://skivosges.net/agenda/detai
 levenement/962/-/cjm-coupe-dargent-u14-prix-du-lac-blanc-u14?tmpl=component
 </a>DTSTAMP:20260421T051228
DTSTART;TZID=Europe/Paris;VALUE=DATE:20180224
DTEND;TZID=Europe/Paris;VALUE=DATE:20180225
SEQUENCE:0
TRANSP:OPAQUE
END:VEVENT
END:VCALENDAR