BEGIN:VCALENDAR
VERSION:2.0
PRODID:-//jEvents 2.0 for Joomla//EN
CALSCALE:GREGORIAN
METHOD:PUBLISH
BEGIN:VTIMEZONE
TZID:Europe/Paris
BEGIN:STANDARD
DTSTART:20170306T000000
RDATE:20170326T030000
TZOFFSETFROM:+0200
TZOFFSETTO:+0100
TZNAME:Europe/Paris CET
END:STANDARD
BEGIN:STANDARD
DTSTART:20171029T020000
RDATE:20180325T030000
TZOFFSETFROM:+0200
TZOFFSETTO:+0100
TZNAME:Europe/Paris CET
END:STANDARD
BEGIN:STANDARD
DTSTART:20181028T020000
RDATE:20190331T030000
TZOFFSETFROM:+0200
TZOFFSETTO:+0100
TZNAME:Europe/Paris CET
END:STANDARD
BEGIN:STANDARD
DTSTART:20191027T020000
RDATE:20200329T030000
TZOFFSETFROM:+0200
TZOFFSETTO:+0100
TZNAME:Europe/Paris CET
END:STANDARD
BEGIN:STANDARD
DTSTART:20201025T020000
RDATE:20210328T030000
TZOFFSETFROM:+0200
TZOFFSETTO:+0100
TZNAME:Europe/Paris CET
END:STANDARD
BEGIN:STANDARD
DTSTART:20211031T020000
RDATE:20220327T030000
TZOFFSETFROM:+0200
TZOFFSETTO:+0100
TZNAME:Europe/Paris CET
END:STANDARD
BEGIN:STANDARD
DTSTART:20221030T020000
RDATE:20230326T030000
TZOFFSETFROM:+0200
TZOFFSETTO:+0100
TZNAME:Europe/Paris CET
END:STANDARD
BEGIN:STANDARD
DTSTART:20231029T020000
RDATE:20240331T030000
TZOFFSETFROM:+0200
TZOFFSETTO:+0100
TZNAME:Europe/Paris CET
END:STANDARD
BEGIN:STANDARD
DTSTART:20241027T020000
RDATE:20250330T030000
TZOFFSETFROM:+0200
TZOFFSETTO:+0100
TZNAME:Europe/Paris CET
END:STANDARD
BEGIN:STANDARD
DTSTART:20251026T020000
RDATE:20260329T030000
TZOFFSETFROM:+0200
TZOFFSETTO:+0100
TZNAME:Europe/Paris CET
END:STANDARD
BEGIN:STANDARD
DTSTART:20261025T020000
RDATE:20270328T030000
TZOFFSETFROM:+0200
TZOFFSETTO:+0100
TZNAME:Europe/Paris CET
END:STANDARD
BEGIN:DAYLIGHT
DTSTART:20170326T030000
RDATE:20171029T020000
TZOFFSETFROM:+0100
TZOFFSETTO:+0200
TZNAME:Europe/Paris CEST
END:DAYLIGHT
BEGIN:DAYLIGHT
DTSTART:20180325T030000
RDATE:20181028T020000
TZOFFSETFROM:+0100
TZOFFSETTO:+0200
TZNAME:Europe/Paris CEST
END:DAYLIGHT
BEGIN:DAYLIGHT
DTSTART:20190331T030000
RDATE:20191027T020000
TZOFFSETFROM:+0100
TZOFFSETTO:+0200
TZNAME:Europe/Paris CEST
END:DAYLIGHT
BEGIN:DAYLIGHT
DTSTART:20200329T030000
RDATE:20201025T020000
TZOFFSETFROM:+0100
TZOFFSETTO:+0200
TZNAME:Europe/Paris CEST
END:DAYLIGHT
BEGIN:DAYLIGHT
DTSTART:20210328T030000
RDATE:20211031T020000
TZOFFSETFROM:+0100
TZOFFSETTO:+0200
TZNAME:Europe/Paris CEST
END:DAYLIGHT
BEGIN:DAYLIGHT
DTSTART:20220327T030000
RDATE:20221030T020000
TZOFFSETFROM:+0100
TZOFFSETTO:+0200
TZNAME:Europe/Paris CEST
END:DAYLIGHT
BEGIN:DAYLIGHT
DTSTART:20230326T030000
RDATE:20231029T020000
TZOFFSETFROM:+0100
TZOFFSETTO:+0200
TZNAME:Europe/Paris CEST
END:DAYLIGHT
BEGIN:DAYLIGHT
DTSTART:20240331T030000
RDATE:20241027T020000
TZOFFSETFROM:+0100
TZOFFSETTO:+0200
TZNAME:Europe/Paris CEST
END:DAYLIGHT
BEGIN:DAYLIGHT
DTSTART:20250330T030000
RDATE:20251026T020000
TZOFFSETFROM:+0100
TZOFFSETTO:+0200
TZNAME:Europe/Paris CEST
END:DAYLIGHT
BEGIN:DAYLIGHT
DTSTART:20260329T030000
RDATE:20261025T020000
TZOFFSETFROM:+0100
TZOFFSETTO:+0200
TZNAME:Europe/Paris CEST
END:DAYLIGHT
END:VTIMEZONE
BEGIN:VEVENT
UID:38c8583604153639b203d30668bb6852
CATEGORIES:Opens et Promos (alpin)
CREATED:20171121T093310
SUMMARY:PROMO team Event **REPORTE(E) au 25/03/2018**
URL;VALUE=URI:https://skivosges.net/agenda/detailevenement/974/-/promo-team-event-reporte
 -e-au-25-03-2018?tmpl=component
DESCRIPTION:<!-- #gskiepreuve code généré par le plugin jevents pour GskiEpreuves. Ne p
 as modifier cette ligne, ni tout le contenu suivant  #gskiepreuve --><div c
 lass="gski-evenement_infos"><div class="gski-evenement-nom">PROMO team Even
 t</div><div class="gski-evenement-report"> <font class="gskiattention">(Epr
 euve reportée au 25/03/2018)</font></div><ul class="gski-evenement-liste-in
 fos"><li>Codex évenement AMVT0620</li><li>Lieu : Stade</li><li>Station : GE
 RARDMER</li><li>Piste : Stade de slalom</li><li>Organisateur : 14089 GERARD
 MER SKI ALPIN</li><li>Courriel : <!-- Cette adresse électronique est protég
 ée contre les robots spammeurs. --><span class="cloaked_email ep_2034d524">
 <span data-ep-a="a&#115;&#103;&#115;k" data-ep-b="&#102;r"><span data-ep-a=
 "i&#46;&#103;er" data-ep-b="&#97;d&#111;o&#46;"><span data-ep-b="&#114;&#64
 ;&#119;&#97;&#110;" data-ep-a="a&#114;&#100;m&#101;"></span></span></span><
 /span><script>RegularLabs.EmailProtector.unCloak("ep_2034d524");</script></
 li><li>Téléphone : 03 29 60 98 04</li><li><span class="gski-evenement-obs">
 Délégué Technique : TSCHEILLER DOMINIQUE</span></li></ul><div class="gski-e
 venement-infos-2"><div class="gski-evenement-info-inscriptions"><div class=
 "gski-evenement-inscriptions-periodes">Période d'inscription à l'evènement 
 du mercredi 28 février 2018 à 00:00 au mardi 06 mars 2018 à 15:00 <span cla
 ss="gski-evenement-inscriptions-impossibles">(Inscriptions impossibles).</s
 pan><div class="gski-evenement-inscriptions-types-titres">Inscriptions ouve
 rtes aux detenteurs des titres Fédéraux valides suivants : Licenciés Compét
 iteurs, Titres Loisirs et Dirigeants et Tickets course</div></div></div><di
 v class="gski-evenement-info-live">L'épreuve sera chronometrée avec les rés
 ultats publiés en direct (live)</div><div class="gski-evenement-epreuves"><
 div class="gski-evenement-epreuves-titres">Epreuves :</div><ul class="gski-
 evenement-epreuves-list"><li><div class="gski-epreuve-date">Le mercredi 07 
 mars 2018</div><ul class="gski-epreuve-liste-infos"><li>Codex épreuve AMVM0
 621</li><li>Slalom Geant</li><li>Catégorie(s) : U8/U10 (Garçons)</li></ul><
 /li><li><div class="gski-epreuve-date">Le mercredi 07 mars 2018</div><ul cl
 ass="gski-epreuve-liste-infos"><li>Codex épreuve AMVF0621</li><li>Slalom Ge
 ant</li><li>Catégorie(s) : U8/U10 (Filles)</li></ul></li><li><div class="gs
 ki-epreuve-date">Le mercredi 07 mars 2018</div><ul class="gski-epreuve-list
 e-infos"><li>Codex épreuve AMVF0622</li><li>Slalom Geant</li><li>Catégorie(
 s) : U12 a U16 (Filles)</li></ul></li><li><div class="gski-epreuve-date">Le
  mercredi 07 mars 2018</div><ul class="gski-epreuve-liste-infos"><li>Codex 
 épreuve AMVM0622</li><li>Slalom Geant</li><li>Catégorie(s) : U12 a U16 (Gar
 çons)</li></ul></li><li><div class="gski-epreuve-date">Le mercredi 07 mars 
 2018</div><ul class="gski-epreuve-liste-infos"><li>Codex épreuve AMVM0623</
 li><li>Slalom Geant</li><li>Catégorie(s) : U18 a Masters (Hommes)</li></ul>
 </li><li><div class="gski-epreuve-date">Le mercredi 07 mars 2018</div><ul c
 lass="gski-epreuve-liste-infos"><li>Codex épreuve AMVF0623</li><li>Slalom G
 eant</li><li>Catégorie(s) : U18 a Masters (Dames)</li></ul></li></ul></div>
 <div class="gskiepreuves-links"><ul><li><a href="/index.php?option=com_jeve
 nts&task=icalevent.detail&evid=969&Itemid=1703">Voir les informations dans 
 l'agenda...</a></li></ul></div></div"><!-- #/gskiepreuve fin du dode généré
  par le plugin jevents pour GskiEpreuves. . Ne pas modifier cette ligne, ni
  tout le contenu précedant.  #/gskiepreuve --> <a href="https://skivosges.n
 et/agenda/detailevenement/974/-/promo-team-event-reporte-e-au-25-03-2018?tm
 pl=component">Cet évènement a été importé depuis :https://skivosges.net/age
 nda/detailevenement/974/-/promo-team-event-reporte-e-au-25-03-2018?tmpl=com
 ponent</a>
X-ALT-DESC;FMTTYPE=text/html:<!-- #gskiepreuve code généré par le plugin jevents pour GskiEpreuves. Ne p
 as modifier cette ligne, ni tout le contenu suivant  #gskiepreuve --><div c
 lass="gski-evenement_infos"><div class="gski-evenement-nom">PROMO team Even
 t</div><div class="gski-evenement-report"> <font class="gskiattention">(Epr
 euve reportée au 25/03/2018)</font></div><ul class="gski-evenement-liste-in
 fos"><li>Codex évenement AMVT0620</li><li>Lieu : Stade</li><li>Station : GE
 RARDMER</li><li>Piste : Stade de slalom</li><li>Organisateur : 14089 GERARD
 MER SKI ALPIN</li><li>Courriel : <!-- Cette adresse électronique est protég
 ée contre les robots spammeurs. --><span class="cloaked_email ep_2034d524">
 <span data-ep-a="a&#115;&#103;&#115;k" data-ep-b="&#102;r"><span data-ep-a=
 "i&#46;&#103;er" data-ep-b="&#97;d&#111;o&#46;"><span data-ep-b="&#114;&#64
 ;&#119;&#97;&#110;" data-ep-a="a&#114;&#100;m&#101;"></span></span></span><
 /span><script>RegularLabs.EmailProtector.unCloak("ep_2034d524");</script></
 li><li>Téléphone : 03 29 60 98 04</li><li><span class="gski-evenement-obs">
 Délégué Technique : TSCHEILLER DOMINIQUE</span></li></ul><div class="gski-e
 venement-infos-2"><div class="gski-evenement-info-inscriptions"><div class=
 "gski-evenement-inscriptions-periodes">Période d'inscription à l'evènement 
 du mercredi 28 février 2018 à 00:00 au mardi 06 mars 2018 à 15:00 <span cla
 ss="gski-evenement-inscriptions-impossibles">(Inscriptions impossibles).</s
 pan><div class="gski-evenement-inscriptions-types-titres">Inscriptions ouve
 rtes aux detenteurs des titres Fédéraux valides suivants : Licenciés Compét
 iteurs, Titres Loisirs et Dirigeants et Tickets course</div></div></div><di
 v class="gski-evenement-info-live">L'épreuve sera chronometrée avec les rés
 ultats publiés en direct (live)</div><div class="gski-evenement-epreuves"><
 div class="gski-evenement-epreuves-titres">Epreuves :</div><ul class="gski-
 evenement-epreuves-list"><li><div class="gski-epreuve-date">Le mercredi 07 
 mars 2018</div><ul class="gski-epreuve-liste-infos"><li>Codex épreuve AMVM0
 621</li><li>Slalom Geant</li><li>Catégorie(s) : U8/U10 (Garçons)</li></ul><
 /li><li><div class="gski-epreuve-date">Le mercredi 07 mars 2018</div><ul cl
 ass="gski-epreuve-liste-infos"><li>Codex épreuve AMVF0621</li><li>Slalom Ge
 ant</li><li>Catégorie(s) : U8/U10 (Filles)</li></ul></li><li><div class="gs
 ki-epreuve-date">Le mercredi 07 mars 2018</div><ul class="gski-epreuve-list
 e-infos"><li>Codex épreuve AMVF0622</li><li>Slalom Geant</li><li>Catégorie(
 s) : U12 a U16 (Filles)</li></ul></li><li><div class="gski-epreuve-date">Le
  mercredi 07 mars 2018</div><ul class="gski-epreuve-liste-infos"><li>Codex 
 épreuve AMVM0622</li><li>Slalom Geant</li><li>Catégorie(s) : U12 a U16 (Gar
 çons)</li></ul></li><li><div class="gski-epreuve-date">Le mercredi 07 mars 
 2018</div><ul class="gski-epreuve-liste-infos"><li>Codex épreuve AMVM0623</
 li><li>Slalom Geant</li><li>Catégorie(s) : U18 a Masters (Hommes)</li></ul>
 </li><li><div class="gski-epreuve-date">Le mercredi 07 mars 2018</div><ul c
 lass="gski-epreuve-liste-infos"><li>Codex épreuve AMVF0623</li><li>Slalom G
 eant</li><li>Catégorie(s) : U18 a Masters (Dames)</li></ul></li></ul></div>
 <div class="gskiepreuves-links"><ul><li><a href="https://skivosges.net/inde
 x.php?option=com_jevents&task=icalevent.detail&evid=969&Itemid=1703">Voir l
 es informations dans l'agenda...</a></li></ul></div></div"><!-- #/gskiepreu
 ve fin du dode généré par le plugin jevents pour GskiEpreuves. . Ne pas mod
 ifier cette ligne, ni tout le contenu précedant.  #/gskiepreuve --> <a href
 ="https://skivosges.net/agenda/detailevenement/974/-/promo-team-event-repor
 te-e-au-25-03-2018?tmpl=component">Cet évènement a été importé depuis :http
 s://skivosges.net/agenda/detailevenement/974/-/promo-team-event-reporte-e-a
 u-25-03-2018?tmpl=component</a>DTSTAMP:20260421T051420
DTSTART;TZID=Europe/Paris;VALUE=DATE:20180307
DTEND;TZID=Europe/Paris;VALUE=DATE:20180308
SEQUENCE:0
TRANSP:OPAQUE
END:VEVENT
END:VCALENDAR