BEGIN:VCALENDAR
VERSION:2.0
PRODID:-//jEvents 2.0 for Joomla//EN
CALSCALE:GREGORIAN
METHOD:PUBLISH
BEGIN:VTIMEZONE
TZID:Europe/Paris
BEGIN:STANDARD
DTSTART:20170309T000000
RDATE:20170326T030000
TZOFFSETFROM:+0200
TZOFFSETTO:+0100
TZNAME:Europe/Paris CET
END:STANDARD
BEGIN:STANDARD
DTSTART:20171029T020000
RDATE:20180325T030000
TZOFFSETFROM:+0200
TZOFFSETTO:+0100
TZNAME:Europe/Paris CET
END:STANDARD
BEGIN:STANDARD
DTSTART:20181028T020000
RDATE:20190331T030000
TZOFFSETFROM:+0200
TZOFFSETTO:+0100
TZNAME:Europe/Paris CET
END:STANDARD
BEGIN:STANDARD
DTSTART:20191027T020000
RDATE:20200329T030000
TZOFFSETFROM:+0200
TZOFFSETTO:+0100
TZNAME:Europe/Paris CET
END:STANDARD
BEGIN:STANDARD
DTSTART:20201025T020000
RDATE:20210328T030000
TZOFFSETFROM:+0200
TZOFFSETTO:+0100
TZNAME:Europe/Paris CET
END:STANDARD
BEGIN:STANDARD
DTSTART:20211031T020000
RDATE:20220327T030000
TZOFFSETFROM:+0200
TZOFFSETTO:+0100
TZNAME:Europe/Paris CET
END:STANDARD
BEGIN:STANDARD
DTSTART:20221030T020000
RDATE:20230326T030000
TZOFFSETFROM:+0200
TZOFFSETTO:+0100
TZNAME:Europe/Paris CET
END:STANDARD
BEGIN:STANDARD
DTSTART:20231029T020000
RDATE:20240331T030000
TZOFFSETFROM:+0200
TZOFFSETTO:+0100
TZNAME:Europe/Paris CET
END:STANDARD
BEGIN:STANDARD
DTSTART:20241027T020000
RDATE:20250330T030000
TZOFFSETFROM:+0200
TZOFFSETTO:+0100
TZNAME:Europe/Paris CET
END:STANDARD
BEGIN:STANDARD
DTSTART:20251026T020000
RDATE:20260329T030000
TZOFFSETFROM:+0200
TZOFFSETTO:+0100
TZNAME:Europe/Paris CET
END:STANDARD
BEGIN:STANDARD
DTSTART:20261025T020000
RDATE:20270328T030000
TZOFFSETFROM:+0200
TZOFFSETTO:+0100
TZNAME:Europe/Paris CET
END:STANDARD
BEGIN:DAYLIGHT
DTSTART:20170326T030000
RDATE:20171029T020000
TZOFFSETFROM:+0100
TZOFFSETTO:+0200
TZNAME:Europe/Paris CEST
END:DAYLIGHT
BEGIN:DAYLIGHT
DTSTART:20180325T030000
RDATE:20181028T020000
TZOFFSETFROM:+0100
TZOFFSETTO:+0200
TZNAME:Europe/Paris CEST
END:DAYLIGHT
BEGIN:DAYLIGHT
DTSTART:20190331T030000
RDATE:20191027T020000
TZOFFSETFROM:+0100
TZOFFSETTO:+0200
TZNAME:Europe/Paris CEST
END:DAYLIGHT
BEGIN:DAYLIGHT
DTSTART:20200329T030000
RDATE:20201025T020000
TZOFFSETFROM:+0100
TZOFFSETTO:+0200
TZNAME:Europe/Paris CEST
END:DAYLIGHT
BEGIN:DAYLIGHT
DTSTART:20210328T030000
RDATE:20211031T020000
TZOFFSETFROM:+0100
TZOFFSETTO:+0200
TZNAME:Europe/Paris CEST
END:DAYLIGHT
BEGIN:DAYLIGHT
DTSTART:20220327T030000
RDATE:20221030T020000
TZOFFSETFROM:+0100
TZOFFSETTO:+0200
TZNAME:Europe/Paris CEST
END:DAYLIGHT
BEGIN:DAYLIGHT
DTSTART:20230326T030000
RDATE:20231029T020000
TZOFFSETFROM:+0100
TZOFFSETTO:+0200
TZNAME:Europe/Paris CEST
END:DAYLIGHT
BEGIN:DAYLIGHT
DTSTART:20240331T030000
RDATE:20241027T020000
TZOFFSETFROM:+0100
TZOFFSETTO:+0200
TZNAME:Europe/Paris CEST
END:DAYLIGHT
BEGIN:DAYLIGHT
DTSTART:20250330T030000
RDATE:20251026T020000
TZOFFSETFROM:+0100
TZOFFSETTO:+0200
TZNAME:Europe/Paris CEST
END:DAYLIGHT
BEGIN:DAYLIGHT
DTSTART:20260329T030000
RDATE:20261025T020000
TZOFFSETFROM:+0100
TZOFFSETTO:+0200
TZNAME:Europe/Paris CEST
END:DAYLIGHT
END:VTIMEZONE
BEGIN:VEVENT
UID:c3897fab55f24761490e134cd11ebb44
CATEGORIES:Circuit Lorraine Jeunes (alpin)
CREATED:20171121T093310
SUMMARY:CJL Finals Clubs Lorrains
URL;VALUE=URI:https://skivosges.net/agenda/detailevenement/978/-/cjl-finals-clubs-lorrain
 s?tmpl=component
DESCRIPTION:CJL Finals Clubs Lorrains\n - Codex évenement AMVT0650\n - Station : FRERE 
 JOSEPH\n - Organisateur : 14083 U.S VENTRON\n - Courriel : RegularLabs.Emai
 lProtector.unCloak("ep_e4c30672");\n - Délégué Technique : VAXELAIRE LAUREN
 TPériode d'inscription à l'evènement du samedi 03 mars 2018 à 00:00 au vend
 redi 09 mars 2018 à 12:00 (Inscriptions impossibles).Inscriptions ouvertes 
 aux detenteurs des titres Fédéraux valides suivants : Licenciés Compétiteur
 s, Titres Loisirs et Dirigeants et Tickets courseEpreuves :\n - Le samedi 1
 0 mars 2018 à 10:00\n - Codex épreuve AMVM0651\n - Slalom Geant\n - Catégor
 ie(s) : U8/U10 (Garçons)\n - Le samedi 10 mars 2018 à 10:00\n - Codex épreu
 ve AMVF0651\n - Slalom Geant\n - Catégorie(s) : U8/U10 (Filles)\n - Le same
 di 10 mars 2018 à 10:00\n - Codex épreuve AMVM0652\n - Slalom Geant\n - Cat
 égorie(s) : U12/U14 (Garçons)\n - Le samedi 10 mars 2018 à 10:00\n - Codex 
 épreuve AMVF0652\n - Slalom Geant\n - Catégorie(s) : U12/U14 (Filles)\n - L
 e samedi 10 mars 2018\n - Codex épreuve AMVF0653\n - Slalom Geant\n - Catég
 orie(s) : U8/U10 (Filles)\n - Le samedi 10 mars 2018\n - Codex épreuve AMVF
 0654\n - Slalom Geant\n - Catégorie(s) : U12/U14 (Filles)\n - Le samedi 10 
 mars 2018\n - Codex épreuve AMVM0653\n - Slalom Geant\n - Catégorie(s) : U8
 /U10 (Garçons)\n - Le samedi 10 mars 2018\n - Codex épreuve AMVM0654\n - Sl
 alom Geant\n - Catégorie(s) : U10/U12 (Garçons)\n - Voir les informations d
 ans l'agenda... (/index.php?option=com_jevents&amp;task=icalevent.detail&am
 p;evid=973&amp;Itemid=1703)\n - Vers les résultats... (/index.php?option=co
 m_gskiepreuves&amp;view=afficheresultats&amp;format_option=tous&amp;filter[
 search]=AMVT0650&amp;filter[date_debut]=10-03-2018&amp;filter[date_fin]=10-
 03-2018&amp;code_activite=ALP&amp;Itemid=1703)\n - Publications concernant 
 cet évènement :\n - Vendredi 9 Mars 2018 à 20:21 : Le 10/03/2018 FRERE JOSE
 PH Liste de départs Cet évènement a été importé depuis :https://skivosges.n
 et/agenda/detailevenement/978/-/cjl-finals-clubs-lorrains?tmpl=component (h
 ttps://skivosges.net/agenda/detailevenement/978/-/cjl-finals-clubs-lorrains
 ?tmpl=component)
X-ALT-DESC;FMTTYPE=text/html:<!-- #gskiepreuve code généré par le plugin jevents pour GskiEpreuves. Ne p
 as modifier cette ligne, ni tout le contenu suivant  #gskiepreuve --><div c
 lass="gski-evenement_infos"><div class="gski-evenement-nom">CJL Finals Club
 s Lorrains</div><div class="gski-evenement-report"></div><ul class="gski-ev
 enement-liste-infos"><li>Codex évenement AMVT0650</li><li>Station : FRERE J
 OSEPH</li><li>Organisateur : 14083 U.S VENTRON</li><li>Courriel : <!-- Cett
 e adresse électronique est protégée contre les robots spammeurs. --><span c
 lass="cloaked_email ep_e4c30672"><span data-ep-b="f&#114;" data-ep-a="m&#97
 ;&#98;&#105;&#108;"><span data-ep-a="le&#45;&#115;&#116;" data-ep-b="&#97;d
 &#111;&#111;&#46;"><span data-ep-a="&#101;&#112;&#104;&#97;n" data-ep-b="&#
 101;&#64;&#119;a&#110;"></span></span></span></span><script>RegularLabs.Ema
 ilProtector.unCloak("ep_e4c30672");</script></li><li><span class="gski-even
 ement-obs">Délégué Technique : VAXELAIRE LAURENT</span></li></ul><div class
 ="gski-evenement-infos-2"><div class="gski-evenement-info-inscriptions"><di
 v class="gski-evenement-inscriptions-periodes">Période d'inscription à l'ev
 ènement du samedi 03 mars 2018 à 00:00 au vendredi 09 mars 2018 à 12:00 <sp
 an class="gski-evenement-inscriptions-impossibles">(Inscriptions impossible
 s).</span><div class="gski-evenement-inscriptions-types-titres">Inscription
 s ouvertes aux detenteurs des titres Fédéraux valides suivants : Licenciés 
 Compétiteurs, Titres Loisirs et Dirigeants et Tickets course</div></div></d
 iv><div class="gski-evenement-epreuves"><div class="gski-evenement-epreuves
 -titres">Epreuves :</div><ul class="gski-evenement-epreuves-list"><li><div 
 class="gski-epreuve-date">Le samedi 10 mars 2018 à 10:00</div><ul class="gs
 ki-epreuve-liste-infos"><li>Codex épreuve AMVM0651</li><li>Slalom Geant</li
 ><li>Catégorie(s) : U8/U10 (Garçons)</li></ul></li><li><div class="gski-epr
 euve-date">Le samedi 10 mars 2018 à 10:00</div><ul class="gski-epreuve-list
 e-infos"><li>Codex épreuve AMVF0651</li><li>Slalom Geant</li><li>Catégorie(
 s) : U8/U10 (Filles)</li></ul></li><li><div class="gski-epreuve-date">Le sa
 medi 10 mars 2018 à 10:00</div><ul class="gski-epreuve-liste-infos"><li>Cod
 ex épreuve AMVM0652</li><li>Slalom Geant</li><li>Catégorie(s) : U12/U14 (Ga
 rçons)</li></ul></li><li><div class="gski-epreuve-date">Le samedi 10 mars 2
 018 à 10:00</div><ul class="gski-epreuve-liste-infos"><li>Codex épreuve AMV
 F0652</li><li>Slalom Geant</li><li>Catégorie(s) : U12/U14 (Filles)</li></ul
 ></li><li><div class="gski-epreuve-date">Le samedi 10 mars 2018</div><ul cl
 ass="gski-epreuve-liste-infos"><li>Codex épreuve AMVF0653</li><li>Slalom Ge
 ant</li><li>Catégorie(s) : U8/U10 (Filles)</li></ul></li><li><div class="gs
 ki-epreuve-date">Le samedi 10 mars 2018</div><ul class="gski-epreuve-liste-
 infos"><li>Codex épreuve AMVF0654</li><li>Slalom Geant</li><li>Catégorie(s)
  : U12/U14 (Filles)</li></ul></li><li><div class="gski-epreuve-date">Le sam
 edi 10 mars 2018</div><ul class="gski-epreuve-liste-infos"><li>Codex épreuv
 e AMVM0653</li><li>Slalom Geant</li><li>Catégorie(s) : U8/U10 (Garçons)</li
 ></ul></li><li><div class="gski-epreuve-date">Le samedi 10 mars 2018</div><
 ul class="gski-epreuve-liste-infos"><li>Codex épreuve AMVM0654</li><li>Slal
 om Geant</li><li>Catégorie(s) : U10/U12 (Garçons)</li></ul></li></ul></div>
 <div class="gskiepreuves-links"><ul><li><a href="https://skivosges.net/inde
 x.php?option=com_jevents&task=icalevent.detail&evid=973&Itemid=1703">Voir l
 es informations dans l'agenda...</a></li><li><a href="https://skivosges.net
 /index.php?option=com_gskiepreuves&view=afficheresultats&format_option=tous
 &filter[search]=AMVT0650&filter[date_debut]=10-03-2018&filter[date_fin]=10-
 03-2018&code_activite=ALP&Itemid=1703">Vers les résultats...</a></li><li>Pu
 blications concernant cet évènement :<ul><li><a href="https://skivosges.net
 /index.php?option=com_content&view=article&id=6234&Itemid=1703">Vendredi 9 
 Mars 2018 à 20:21 : Le 10/03/2018 FRERE JOSEPH Liste de départs</a></li></u
 l></li></ul></div></div"><!-- #/gskiepreuve fin du dode généré par le plugi
 n jevents pour GskiEpreuves. . Ne pas modifier cette ligne, ni tout le cont
 enu précedant.  #/gskiepreuve --> <a href="https://skivosges.net/agenda/det
 ailevenement/978/-/cjl-finals-clubs-lorrains?tmpl=component">Cet évènement 
 a été importé depuis :https://skivosges.net/agenda/detailevenement/978/-/cj
 l-finals-clubs-lorrains?tmpl=component</a>DTSTAMP:20260421T050936
DTSTART;TZID=Europe/Paris;VALUE=DATE:20180310
DTEND;TZID=Europe/Paris;VALUE=DATE:20180311
SEQUENCE:0
TRANSP:OPAQUE
END:VEVENT
END:VCALENDAR