BEGIN:VCALENDAR
VERSION:2.0
PRODID:-//jEvents 2.0 for Joomla//EN
CALSCALE:GREGORIAN
METHOD:PUBLISH
BEGIN:VTIMEZONE
TZID:Europe/Paris
BEGIN:STANDARD
DTSTART:20170310T000000
RDATE:20170326T030000
TZOFFSETFROM:+0200
TZOFFSETTO:+0100
TZNAME:Europe/Paris CET
END:STANDARD
BEGIN:STANDARD
DTSTART:20171029T020000
RDATE:20180325T030000
TZOFFSETFROM:+0200
TZOFFSETTO:+0100
TZNAME:Europe/Paris CET
END:STANDARD
BEGIN:STANDARD
DTSTART:20181028T020000
RDATE:20190331T030000
TZOFFSETFROM:+0200
TZOFFSETTO:+0100
TZNAME:Europe/Paris CET
END:STANDARD
BEGIN:STANDARD
DTSTART:20191027T020000
RDATE:20200329T030000
TZOFFSETFROM:+0200
TZOFFSETTO:+0100
TZNAME:Europe/Paris CET
END:STANDARD
BEGIN:STANDARD
DTSTART:20201025T020000
RDATE:20210328T030000
TZOFFSETFROM:+0200
TZOFFSETTO:+0100
TZNAME:Europe/Paris CET
END:STANDARD
BEGIN:STANDARD
DTSTART:20211031T020000
RDATE:20220327T030000
TZOFFSETFROM:+0200
TZOFFSETTO:+0100
TZNAME:Europe/Paris CET
END:STANDARD
BEGIN:STANDARD
DTSTART:20221030T020000
RDATE:20230326T030000
TZOFFSETFROM:+0200
TZOFFSETTO:+0100
TZNAME:Europe/Paris CET
END:STANDARD
BEGIN:STANDARD
DTSTART:20231029T020000
RDATE:20240331T030000
TZOFFSETFROM:+0200
TZOFFSETTO:+0100
TZNAME:Europe/Paris CET
END:STANDARD
BEGIN:STANDARD
DTSTART:20241027T020000
RDATE:20250330T030000
TZOFFSETFROM:+0200
TZOFFSETTO:+0100
TZNAME:Europe/Paris CET
END:STANDARD
BEGIN:STANDARD
DTSTART:20251026T020000
RDATE:20260329T030000
TZOFFSETFROM:+0200
TZOFFSETTO:+0100
TZNAME:Europe/Paris CET
END:STANDARD
BEGIN:STANDARD
DTSTART:20261025T020000
RDATE:20270328T030000
TZOFFSETFROM:+0200
TZOFFSETTO:+0100
TZNAME:Europe/Paris CET
END:STANDARD
BEGIN:DAYLIGHT
DTSTART:20170326T030000
RDATE:20171029T020000
TZOFFSETFROM:+0100
TZOFFSETTO:+0200
TZNAME:Europe/Paris CEST
END:DAYLIGHT
BEGIN:DAYLIGHT
DTSTART:20180325T030000
RDATE:20181028T020000
TZOFFSETFROM:+0100
TZOFFSETTO:+0200
TZNAME:Europe/Paris CEST
END:DAYLIGHT
BEGIN:DAYLIGHT
DTSTART:20190331T030000
RDATE:20191027T020000
TZOFFSETFROM:+0100
TZOFFSETTO:+0200
TZNAME:Europe/Paris CEST
END:DAYLIGHT
BEGIN:DAYLIGHT
DTSTART:20200329T030000
RDATE:20201025T020000
TZOFFSETFROM:+0100
TZOFFSETTO:+0200
TZNAME:Europe/Paris CEST
END:DAYLIGHT
BEGIN:DAYLIGHT
DTSTART:20210328T030000
RDATE:20211031T020000
TZOFFSETFROM:+0100
TZOFFSETTO:+0200
TZNAME:Europe/Paris CEST
END:DAYLIGHT
BEGIN:DAYLIGHT
DTSTART:20220327T030000
RDATE:20221030T020000
TZOFFSETFROM:+0100
TZOFFSETTO:+0200
TZNAME:Europe/Paris CEST
END:DAYLIGHT
BEGIN:DAYLIGHT
DTSTART:20230326T030000
RDATE:20231029T020000
TZOFFSETFROM:+0100
TZOFFSETTO:+0200
TZNAME:Europe/Paris CEST
END:DAYLIGHT
BEGIN:DAYLIGHT
DTSTART:20240331T030000
RDATE:20241027T020000
TZOFFSETFROM:+0100
TZOFFSETTO:+0200
TZNAME:Europe/Paris CEST
END:DAYLIGHT
BEGIN:DAYLIGHT
DTSTART:20250330T030000
RDATE:20251026T020000
TZOFFSETFROM:+0100
TZOFFSETTO:+0200
TZNAME:Europe/Paris CEST
END:DAYLIGHT
BEGIN:DAYLIGHT
DTSTART:20260329T030000
RDATE:20261025T020000
TZOFFSETFROM:+0100
TZOFFSETTO:+0200
TZNAME:Europe/Paris CEST
END:DAYLIGHT
END:VTIMEZONE
BEGIN:VEVENT
UID:c12f805f0b8035a5a667d685c39a021d
CATEGORIES:Circuit Massif D2 (alpin)
CREATED:20171121T093310
SUMMARY:CD2 Mémorial Mangel
URL;VALUE=URI:https://skivosges.net/agenda/detailevenement/982/-/cd2-memorial-mangel?tmpl
 =component
DESCRIPTION:CD2 Mémorial Mangel\n - Codex évenement AMVT0670\n - Station : BALLON D'ALS
 ACE\n - Piste : ROUGE du LANGENBERG stade de s\n - Organisateur : 14063 SKI
 EURS DE ST MAURICE/MOSELLE\n - Courriel : RegularLabs.EmailProtector.unCloa
 k("ep_0195916c");\n - Délégué Technique : TURRI TIZIANOPériode d'inscriptio
 n à l'evènement du dimanche 04 mars 2018 à 00:00 au vendredi 09 mars 2018 à
  12:00 (Inscriptions impossibles).Inscriptions ouvertes aux detenteurs des 
 titres Fédéraux valides suivants : Licenciés CompétiteursEpreuves :\n - Le 
 dimanche 11 mars 2018 à 10:00\n - Codex épreuve AMVM0671\n - Slalom\n - Cat
 égorie(s) : U14 a Masters (Garçons)\n - Le dimanche 11 mars 2018 à 10:00\n 
 - Codex épreuve AMVF0671\n - Slalom\n - Catégorie(s) : U14 a Masters (Fille
 s)\n - Voir les informations dans l'agenda... (/index.php?option=com_jevent
 s&amp;task=icalevent.detail&amp;evid=977&amp;Itemid=1703)\n - Vers les résu
 ltats... (/index.php?option=com_gskiepreuves&amp;view=afficheresultats&amp;
 format_option=tous&amp;filter[search]=AMVT0670&amp;filter[date_debut]=11-03
 -2018&amp;filter[date_fin]=11-03-2018&amp;code_activite=ALP&amp;Itemid=1703
 ) Cet évènement a été importé depuis :https://skivosges.net/agenda/detailev
 enement/982/-/cd2-memorial-mangel?tmpl=component (https://skivosges.net/age
 nda/detailevenement/982/-/cd2-memorial-mangel?tmpl=component)
X-ALT-DESC;FMTTYPE=text/html:<!-- #gskiepreuve code généré par le plugin jevents pour GskiEpreuves. Ne p
 as modifier cette ligne, ni tout le contenu suivant  #gskiepreuve --><div c
 lass="gski-evenement_infos"><div class="gski-evenement-nom">CD2 Mémorial Ma
 ngel</div><div class="gski-evenement-report"></div><ul class="gski-evenemen
 t-liste-infos"><li>Codex évenement AMVT0670</li><li>Station : BALLON D'ALSA
 CE</li><li>Piste : ROUGE du LANGENBERG stade de s</li><li>Organisateur : 14
 063 SKIEURS DE ST MAURICE/MOSELLE</li><li>Courriel : <!-- Cette adresse éle
 ctronique est protégée contre les robots spammeurs. --><span class="cloaked
 _email ep_0195916c"><span data-ep-b="" data-ep-a="&#100;ani"><span data-ep-
 a="&#101;l.m" data-ep-b="r&#46;fr"><span data-ep-b="5&#64;&#115;&#102;" dat
 a-ep-a="o&#114;&#101;&#108;"></span></span></span></span><script>RegularLab
 s.EmailProtector.unCloak("ep_0195916c");</script></li><li><span class="gski
 -evenement-obs">Délégué Technique : TURRI TIZIANO</span></li></ul><div clas
 s="gski-evenement-infos-2"><div class="gski-evenement-info-inscriptions"><d
 iv class="gski-evenement-inscriptions-periodes">Période d'inscription à l'e
 vènement du dimanche 04 mars 2018 à 00:00 au vendredi 09 mars 2018 à 12:00 
 <span class="gski-evenement-inscriptions-impossibles">(Inscriptions impossi
 bles).</span><div class="gski-evenement-inscriptions-types-titres">Inscript
 ions ouvertes aux detenteurs des titres Fédéraux valides suivants : Licenci
 és Compétiteurs</div></div></div><div class="gski-evenement-epreuves"><div 
 class="gski-evenement-epreuves-titres">Epreuves :</div><ul class="gski-even
 ement-epreuves-list"><li><div class="gski-epreuve-date">Le dimanche 11 mars
  2018 à 10:00</div><ul class="gski-epreuve-liste-infos"><li>Codex épreuve A
 MVM0671</li><li>Slalom</li><li>Catégorie(s) : U14 a Masters (Garçons)</li><
 /ul></li><li><div class="gski-epreuve-date">Le dimanche 11 mars 2018 à 10:0
 0</div><ul class="gski-epreuve-liste-infos"><li>Codex épreuve AMVF0671</li>
 <li>Slalom</li><li>Catégorie(s) : U14 a Masters (Filles)</li></ul></li></ul
 ></div><div class="gskiepreuves-links"><ul><li><a href="https://skivosges.n
 et/index.php?option=com_jevents&task=icalevent.detail&evid=977&Itemid=1703"
 >Voir les informations dans l'agenda...</a></li><li><a href="https://skivos
 ges.net/index.php?option=com_gskiepreuves&view=afficheresultats&format_opti
 on=tous&filter[search]=AMVT0670&filter[date_debut]=11-03-2018&filter[date_f
 in]=11-03-2018&code_activite=ALP&Itemid=1703">Vers les résultats...</a></li
 ></ul></div></div"><!-- #/gskiepreuve fin du dode généré par le plugin jeve
 nts pour GskiEpreuves. . Ne pas modifier cette ligne, ni tout le contenu pr
 écedant.  #/gskiepreuve --> <a href="https://skivosges.net/agenda/detaileve
 nement/982/-/cd2-memorial-mangel?tmpl=component">Cet évènement a été import
 é depuis :https://skivosges.net/agenda/detailevenement/982/-/cd2-memorial-m
 angel?tmpl=component</a>DTSTAMP:20260421T014439
DTSTART;TZID=Europe/Paris;VALUE=DATE:20180311
DTEND;TZID=Europe/Paris;VALUE=DATE:20180312
SEQUENCE:0
TRANSP:OPAQUE
END:VEVENT
END:VCALENDAR