BEGIN:VCALENDAR
VERSION:2.0
PRODID:-//jEvents 2.0 for Joomla//EN
CALSCALE:GREGORIAN
METHOD:PUBLISH
BEGIN:VTIMEZONE
TZID:Europe/Paris
BEGIN:STANDARD
DTSTART:20170310T000000
RDATE:20170326T030000
TZOFFSETFROM:+0200
TZOFFSETTO:+0100
TZNAME:Europe/Paris CET
END:STANDARD
BEGIN:STANDARD
DTSTART:20171029T020000
RDATE:20180325T030000
TZOFFSETFROM:+0200
TZOFFSETTO:+0100
TZNAME:Europe/Paris CET
END:STANDARD
BEGIN:STANDARD
DTSTART:20181028T020000
RDATE:20190331T030000
TZOFFSETFROM:+0200
TZOFFSETTO:+0100
TZNAME:Europe/Paris CET
END:STANDARD
BEGIN:STANDARD
DTSTART:20191027T020000
RDATE:20200329T030000
TZOFFSETFROM:+0200
TZOFFSETTO:+0100
TZNAME:Europe/Paris CET
END:STANDARD
BEGIN:STANDARD
DTSTART:20201025T020000
RDATE:20210328T030000
TZOFFSETFROM:+0200
TZOFFSETTO:+0100
TZNAME:Europe/Paris CET
END:STANDARD
BEGIN:STANDARD
DTSTART:20211031T020000
RDATE:20220327T030000
TZOFFSETFROM:+0200
TZOFFSETTO:+0100
TZNAME:Europe/Paris CET
END:STANDARD
BEGIN:STANDARD
DTSTART:20221030T020000
RDATE:20230326T030000
TZOFFSETFROM:+0200
TZOFFSETTO:+0100
TZNAME:Europe/Paris CET
END:STANDARD
BEGIN:STANDARD
DTSTART:20231029T020000
RDATE:20240331T030000
TZOFFSETFROM:+0200
TZOFFSETTO:+0100
TZNAME:Europe/Paris CET
END:STANDARD
BEGIN:STANDARD
DTSTART:20241027T020000
RDATE:20250330T030000
TZOFFSETFROM:+0200
TZOFFSETTO:+0100
TZNAME:Europe/Paris CET
END:STANDARD
BEGIN:STANDARD
DTSTART:20251026T020000
RDATE:20260329T030000
TZOFFSETFROM:+0200
TZOFFSETTO:+0100
TZNAME:Europe/Paris CET
END:STANDARD
BEGIN:STANDARD
DTSTART:20261025T020000
RDATE:20270328T030000
TZOFFSETFROM:+0200
TZOFFSETTO:+0100
TZNAME:Europe/Paris CET
END:STANDARD
BEGIN:DAYLIGHT
DTSTART:20170326T030000
RDATE:20171029T020000
TZOFFSETFROM:+0100
TZOFFSETTO:+0200
TZNAME:Europe/Paris CEST
END:DAYLIGHT
BEGIN:DAYLIGHT
DTSTART:20180325T030000
RDATE:20181028T020000
TZOFFSETFROM:+0100
TZOFFSETTO:+0200
TZNAME:Europe/Paris CEST
END:DAYLIGHT
BEGIN:DAYLIGHT
DTSTART:20190331T030000
RDATE:20191027T020000
TZOFFSETFROM:+0100
TZOFFSETTO:+0200
TZNAME:Europe/Paris CEST
END:DAYLIGHT
BEGIN:DAYLIGHT
DTSTART:20200329T030000
RDATE:20201025T020000
TZOFFSETFROM:+0100
TZOFFSETTO:+0200
TZNAME:Europe/Paris CEST
END:DAYLIGHT
BEGIN:DAYLIGHT
DTSTART:20210328T030000
RDATE:20211031T020000
TZOFFSETFROM:+0100
TZOFFSETTO:+0200
TZNAME:Europe/Paris CEST
END:DAYLIGHT
BEGIN:DAYLIGHT
DTSTART:20220327T030000
RDATE:20221030T020000
TZOFFSETFROM:+0100
TZOFFSETTO:+0200
TZNAME:Europe/Paris CEST
END:DAYLIGHT
BEGIN:DAYLIGHT
DTSTART:20230326T030000
RDATE:20231029T020000
TZOFFSETFROM:+0100
TZOFFSETTO:+0200
TZNAME:Europe/Paris CEST
END:DAYLIGHT
BEGIN:DAYLIGHT
DTSTART:20240331T030000
RDATE:20241027T020000
TZOFFSETFROM:+0100
TZOFFSETTO:+0200
TZNAME:Europe/Paris CEST
END:DAYLIGHT
BEGIN:DAYLIGHT
DTSTART:20250330T030000
RDATE:20251026T020000
TZOFFSETFROM:+0100
TZOFFSETTO:+0200
TZNAME:Europe/Paris CEST
END:DAYLIGHT
BEGIN:DAYLIGHT
DTSTART:20260329T030000
RDATE:20261025T020000
TZOFFSETFROM:+0100
TZOFFSETTO:+0200
TZNAME:Europe/Paris CEST
END:DAYLIGHT
END:VTIMEZONE
BEGIN:VEVENT
UID:ecd84acbf8b5b718fb442b78c7159696
CATEGORIES:Compétition Ski Alpin
CREATED:20171121T093310
SUMMARY:Reporté - PROMO Dimanches de la Glisse
URL;VALUE=URI:https://skivosges.net/agenda/detailevenement/984/-/reporte-promo-dimanches-
 de-la-glisse?tmpl=component
DESCRIPTION:<!-- #gskiepreuve code généré par le plugin jevents pour GskiEpreuves. Ne p
 as modifier cette ligne, ni tout le contenu suivant  #gskiepreuve --><div c
 lass="gski-evenement_infos"><div class="gski-evenement-nom">Reporté - PROMO
  Dimanches de la Glisse</div><div class="gski-evenement-report"></div><ul c
 lass="gski-evenement-liste-infos"><li>Codex évenement AMVT0690</li><li>Stat
 ion : CHAMP DU FEU</li><li>Piste : Petite Serva</li><li>Organisateur : 1449
 2 SKI TEAM KOCHERSBERG</li><li>Courriel : <!-- Cette adresse électronique e
 st protégée contre les robots spammeurs. --><span class="cloaked_email ep_2
 186fc83"><span data-ep-a="&#102;&#98;" data-ep-b="&#102;&#114;"><span data-
 ep-a="&#46;&#64;" data-ep-b="&#55;&#46;"><span data-ep-a="&#109;&#103;" dat
 a-ep-b="m&#54;"></span></span></span></span><script>RegularLabs.EmailProtec
 tor.unCloak("ep_2186fc83");</script></li></ul><div class="gski-evenement-in
 fos-2"><div class="gski-evenement-info-inscriptions"><div class="gski-evene
 ment-inscriptions-periodes">Période d'inscription à l'evènement du dimanche
  04 mars 2018 à 00:00 au samedi 10 mars 2018 à 12:00 <span class="gski-even
 ement-inscriptions-impossibles">(Inscriptions impossibles).</span><div clas
 s="gski-evenement-inscriptions-types-titres">Inscriptions ouvertes aux dete
 nteurs des titres Fédéraux valides suivants : Licenciés Compétiteurs et Tit
 res Loisirs et Dirigeants</div></div></div><div class="gski-evenement-epreu
 ves"><div class="gski-evenement-epreuves-titres">Epreuves :</div><ul class=
 "gski-evenement-epreuves-list"><li><div class="gski-epreuve-date">Le dimanc
 he 11 mars 2018</div><ul class="gski-epreuve-liste-infos"><li>Codex épreuve
  AMVM0691</li><li>Slalom Geant</li><li>Catégorie(s) : U8/U10 (Garçons)</li>
 </ul></li><li><div class="gski-epreuve-date">Le dimanche 11 mars 2018</div>
 <ul class="gski-epreuve-liste-infos"><li>Codex épreuve AMVF0691</li><li>Sla
 lom Geant</li><li>Catégorie(s) : U8/U10 (Filles)</li></ul></li><li><div cla
 ss="gski-epreuve-date">Le dimanche 11 mars 2018</div><ul class="gski-epreuv
 e-liste-infos"><li>Codex épreuve AMVF0692</li><li>Slalom Geant</li><li>Caté
 gorie(s) : U12 a U16 (Filles)</li></ul></li><li><div class="gski-epreuve-da
 te">Le dimanche 11 mars 2018</div><ul class="gski-epreuve-liste-infos"><li>
 Codex épreuve AMVM0692</li><li>Slalom Geant</li><li>Catégorie(s) : U12 a U1
 6 (Garçons)</li></ul></li><li><div class="gski-epreuve-date">Le dimanche 11
  mars 2018</div><ul class="gski-epreuve-liste-infos"><li>Codex épreuve AMVM
 0693</li><li>Slalom Geant</li><li>Catégorie(s) : U18 a Masters (Hommes)</li
 ></ul></li><li><div class="gski-epreuve-date">Le dimanche 11 mars 2018</div
 ><ul class="gski-epreuve-liste-infos"><li>Codex épreuve AMVF0693</li><li>Sl
 alom Geant</li><li>Catégorie(s) : U18 a Masters (Dames)</li></ul></li></ul>
 </div><div class="gskiepreuves-links"><ul><li><a href="/index.php?option=co
 m_jevents&task=icalevent.detail&evid=979&Itemid=1703">Voir les informations
  dans l'agenda...</a></li></ul></div></div"><!-- #/gskiepreuve fin du dode 
 généré par le plugin jevents pour GskiEpreuves. . Ne pas modifier cette lig
 ne, ni tout le contenu précedant.  #/gskiepreuve --> <a href="https://skivo
 sges.net/agenda/detailevenement/984/-/reporte-promo-dimanches-de-la-glisse?
 tmpl=component">Cet évènement a été importé depuis :https://skivosges.net/a
 genda/detailevenement/984/-/reporte-promo-dimanches-de-la-glisse?tmpl=compo
 nent</a>
X-ALT-DESC;FMTTYPE=text/html:<!-- #gskiepreuve code généré par le plugin jevents pour GskiEpreuves. Ne p
 as modifier cette ligne, ni tout le contenu suivant  #gskiepreuve --><div c
 lass="gski-evenement_infos"><div class="gski-evenement-nom">Reporté - PROMO
  Dimanches de la Glisse</div><div class="gski-evenement-report"></div><ul c
 lass="gski-evenement-liste-infos"><li>Codex évenement AMVT0690</li><li>Stat
 ion : CHAMP DU FEU</li><li>Piste : Petite Serva</li><li>Organisateur : 1449
 2 SKI TEAM KOCHERSBERG</li><li>Courriel : <!-- Cette adresse électronique e
 st protégée contre les robots spammeurs. --><span class="cloaked_email ep_2
 186fc83"><span data-ep-a="&#102;&#98;" data-ep-b="&#102;&#114;"><span data-
 ep-a="&#46;&#64;" data-ep-b="&#55;&#46;"><span data-ep-a="&#109;&#103;" dat
 a-ep-b="m&#54;"></span></span></span></span><script>RegularLabs.EmailProtec
 tor.unCloak("ep_2186fc83");</script></li></ul><div class="gski-evenement-in
 fos-2"><div class="gski-evenement-info-inscriptions"><div class="gski-evene
 ment-inscriptions-periodes">Période d'inscription à l'evènement du dimanche
  04 mars 2018 à 00:00 au samedi 10 mars 2018 à 12:00 <span class="gski-even
 ement-inscriptions-impossibles">(Inscriptions impossibles).</span><div clas
 s="gski-evenement-inscriptions-types-titres">Inscriptions ouvertes aux dete
 nteurs des titres Fédéraux valides suivants : Licenciés Compétiteurs et Tit
 res Loisirs et Dirigeants</div></div></div><div class="gski-evenement-epreu
 ves"><div class="gski-evenement-epreuves-titres">Epreuves :</div><ul class=
 "gski-evenement-epreuves-list"><li><div class="gski-epreuve-date">Le dimanc
 he 11 mars 2018</div><ul class="gski-epreuve-liste-infos"><li>Codex épreuve
  AMVM0691</li><li>Slalom Geant</li><li>Catégorie(s) : U8/U10 (Garçons)</li>
 </ul></li><li><div class="gski-epreuve-date">Le dimanche 11 mars 2018</div>
 <ul class="gski-epreuve-liste-infos"><li>Codex épreuve AMVF0691</li><li>Sla
 lom Geant</li><li>Catégorie(s) : U8/U10 (Filles)</li></ul></li><li><div cla
 ss="gski-epreuve-date">Le dimanche 11 mars 2018</div><ul class="gski-epreuv
 e-liste-infos"><li>Codex épreuve AMVF0692</li><li>Slalom Geant</li><li>Caté
 gorie(s) : U12 a U16 (Filles)</li></ul></li><li><div class="gski-epreuve-da
 te">Le dimanche 11 mars 2018</div><ul class="gski-epreuve-liste-infos"><li>
 Codex épreuve AMVM0692</li><li>Slalom Geant</li><li>Catégorie(s) : U12 a U1
 6 (Garçons)</li></ul></li><li><div class="gski-epreuve-date">Le dimanche 11
  mars 2018</div><ul class="gski-epreuve-liste-infos"><li>Codex épreuve AMVM
 0693</li><li>Slalom Geant</li><li>Catégorie(s) : U18 a Masters (Hommes)</li
 ></ul></li><li><div class="gski-epreuve-date">Le dimanche 11 mars 2018</div
 ><ul class="gski-epreuve-liste-infos"><li>Codex épreuve AMVF0693</li><li>Sl
 alom Geant</li><li>Catégorie(s) : U18 a Masters (Dames)</li></ul></li></ul>
 </div><div class="gskiepreuves-links"><ul><li><a href="https://skivosges.ne
 t/index.php?option=com_jevents&task=icalevent.detail&evid=979&Itemid=1703">
 Voir les informations dans l'agenda...</a></li></ul></div></div"><!-- #/gsk
 iepreuve fin du dode généré par le plugin jevents pour GskiEpreuves. . Ne p
 as modifier cette ligne, ni tout le contenu précedant.  #/gskiepreuve --> <
 a href="https://skivosges.net/agenda/detailevenement/984/-/reporte-promo-di
 manches-de-la-glisse?tmpl=component">Cet évènement a été importé depuis :ht
 tps://skivosges.net/agenda/detailevenement/984/-/reporte-promo-dimanches-de
 -la-glisse?tmpl=component</a>DTSTAMP:20260421T015555
DTSTART;TZID=Europe/Paris;VALUE=DATE:20180311
DTEND;TZID=Europe/Paris;VALUE=DATE:20180312
SEQUENCE:0
TRANSP:OPAQUE
END:VEVENT
END:VCALENDAR