BEGIN:VCALENDAR
VERSION:2.0
PRODID:-//jEvents 2.0 for Joomla//EN
CALSCALE:GREGORIAN
METHOD:PUBLISH
BEGIN:VTIMEZONE
TZID:Europe/Paris
BEGIN:STANDARD
DTSTART:20170315T000000
RDATE:20170326T030000
TZOFFSETFROM:+0200
TZOFFSETTO:+0100
TZNAME:Europe/Paris CET
END:STANDARD
BEGIN:STANDARD
DTSTART:20171029T020000
RDATE:20180325T030000
TZOFFSETFROM:+0200
TZOFFSETTO:+0100
TZNAME:Europe/Paris CET
END:STANDARD
BEGIN:STANDARD
DTSTART:20181028T020000
RDATE:20190331T030000
TZOFFSETFROM:+0200
TZOFFSETTO:+0100
TZNAME:Europe/Paris CET
END:STANDARD
BEGIN:STANDARD
DTSTART:20191027T020000
RDATE:20200329T030000
TZOFFSETFROM:+0200
TZOFFSETTO:+0100
TZNAME:Europe/Paris CET
END:STANDARD
BEGIN:STANDARD
DTSTART:20201025T020000
RDATE:20210328T030000
TZOFFSETFROM:+0200
TZOFFSETTO:+0100
TZNAME:Europe/Paris CET
END:STANDARD
BEGIN:STANDARD
DTSTART:20211031T020000
RDATE:20220327T030000
TZOFFSETFROM:+0200
TZOFFSETTO:+0100
TZNAME:Europe/Paris CET
END:STANDARD
BEGIN:STANDARD
DTSTART:20221030T020000
RDATE:20230326T030000
TZOFFSETFROM:+0200
TZOFFSETTO:+0100
TZNAME:Europe/Paris CET
END:STANDARD
BEGIN:STANDARD
DTSTART:20231029T020000
RDATE:20240331T030000
TZOFFSETFROM:+0200
TZOFFSETTO:+0100
TZNAME:Europe/Paris CET
END:STANDARD
BEGIN:STANDARD
DTSTART:20241027T020000
RDATE:20250330T030000
TZOFFSETFROM:+0200
TZOFFSETTO:+0100
TZNAME:Europe/Paris CET
END:STANDARD
BEGIN:STANDARD
DTSTART:20251026T020000
RDATE:20260329T030000
TZOFFSETFROM:+0200
TZOFFSETTO:+0100
TZNAME:Europe/Paris CET
END:STANDARD
BEGIN:STANDARD
DTSTART:20261025T020000
RDATE:20270328T030000
TZOFFSETFROM:+0200
TZOFFSETTO:+0100
TZNAME:Europe/Paris CET
END:STANDARD
BEGIN:DAYLIGHT
DTSTART:20170326T030000
RDATE:20171029T020000
TZOFFSETFROM:+0100
TZOFFSETTO:+0200
TZNAME:Europe/Paris CEST
END:DAYLIGHT
BEGIN:DAYLIGHT
DTSTART:20180325T030000
RDATE:20181028T020000
TZOFFSETFROM:+0100
TZOFFSETTO:+0200
TZNAME:Europe/Paris CEST
END:DAYLIGHT
BEGIN:DAYLIGHT
DTSTART:20190331T030000
RDATE:20191027T020000
TZOFFSETFROM:+0100
TZOFFSETTO:+0200
TZNAME:Europe/Paris CEST
END:DAYLIGHT
BEGIN:DAYLIGHT
DTSTART:20200329T030000
RDATE:20201025T020000
TZOFFSETFROM:+0100
TZOFFSETTO:+0200
TZNAME:Europe/Paris CEST
END:DAYLIGHT
BEGIN:DAYLIGHT
DTSTART:20210328T030000
RDATE:20211031T020000
TZOFFSETFROM:+0100
TZOFFSETTO:+0200
TZNAME:Europe/Paris CEST
END:DAYLIGHT
BEGIN:DAYLIGHT
DTSTART:20220327T030000
RDATE:20221030T020000
TZOFFSETFROM:+0100
TZOFFSETTO:+0200
TZNAME:Europe/Paris CEST
END:DAYLIGHT
BEGIN:DAYLIGHT
DTSTART:20230326T030000
RDATE:20231029T020000
TZOFFSETFROM:+0100
TZOFFSETTO:+0200
TZNAME:Europe/Paris CEST
END:DAYLIGHT
BEGIN:DAYLIGHT
DTSTART:20240331T030000
RDATE:20241027T020000
TZOFFSETFROM:+0100
TZOFFSETTO:+0200
TZNAME:Europe/Paris CEST
END:DAYLIGHT
BEGIN:DAYLIGHT
DTSTART:20250330T030000
RDATE:20251026T020000
TZOFFSETFROM:+0100
TZOFFSETTO:+0200
TZNAME:Europe/Paris CEST
END:DAYLIGHT
BEGIN:DAYLIGHT
DTSTART:20260329T030000
RDATE:20261025T020000
TZOFFSETFROM:+0100
TZOFFSETTO:+0200
TZNAME:Europe/Paris CEST
END:DAYLIGHT
END:VTIMEZONE
BEGIN:VEVENT
UID:40ae157fdca3bb7399ba9be23322f088
CATEGORIES:Opens et Promos (alpin)
CREATED:20171121T093310
SUMMARY:PROMO Challenge des Cadres du CD67
URL;VALUE=URI:https://skivosges.net/agenda/detailevenement/985/-/promo-challenge-des-cadr
 es-du-cd67?tmpl=component
DESCRIPTION:PROMO Challenge des Cadres du CD67\n - Codex évenement AMVT0700\n - Lieu : 
 RDV devant le chalet des Skieurs de Stra\n - Station : CHAMP DU FEU\n - Pis
 te : Champ Elysées\n - Organisateur : 14003 SKI CLUB BARR\n - Courriel : Re
 gularLabs.EmailProtector.unCloak("ep_f531061b");Période d'inscription à l'e
 vènement du lundi 05 mars 2018 à 00:00 au jeudi 15 mars 2018 à 12:00 (Inscr
 iptions impossibles).Inscriptions ouvertes aux detenteurs des titres Fédéra
 ux valides suivants : Licenciés Compétiteurs et Titres Loisirs et Dirigeant
 sEpreuves :\n - Le vendredi 16 mars 2018\n - Codex épreuve AMVM0701\n - Sla
 lom Geant\n - Catégorie(s) : U16 (Garçons)\n - Le vendredi 16 mars 2018\n -
  Codex épreuve AMVF0701\n - Slalom Geant\n - Catégorie(s) : U16 (Filles)\n 
 - Le vendredi 16 mars 2018\n - Codex épreuve AMVM0702\n - Slalom Geant\n - 
 Catégorie(s) : U18 a Masters (Hommes)\n - Le vendredi 16 mars 2018\n - Code
 x épreuve AMVF0702\n - Slalom Geant\n - Catégorie(s) : U18 a Masters (Dames
 )\n - Voir les informations dans l'agenda... (/index.php?option=com_jevents
 &amp;task=icalevent.detail&amp;evid=980&amp;Itemid=1703)\n - Vers la liste 
 de départs... (/index.php?option=com_gskiepreuves&amp;view=affichedeparts&a
 mp;format_option=tous&amp;filter[search]=AMVT0700&amp;filter[date_debut]=16
 -03-2018&amp;filter[date_fin]=16-03-2018&amp;Itemid=1703)\n - Publications 
 concernant cet évènement :\n - Jeudi 15 Mars 2018 à 23:43 : Le 16/03/2018 C
 HAMP DU FEU Liste de départs Cet évènement a été importé depuis :https://sk
 ivosges.net/agenda/detailevenement/985/-/promo-challenge-des-cadres-du-cd67
 ?tmpl=component (https://skivosges.net/agenda/detailevenement/985/-/promo-c
 hallenge-des-cadres-du-cd67?tmpl=component)
X-ALT-DESC;FMTTYPE=text/html:<!-- #gskiepreuve code généré par le plugin jevents pour GskiEpreuves. Ne p
 as modifier cette ligne, ni tout le contenu suivant  #gskiepreuve --><div c
 lass="gski-evenement_infos"><div class="gski-evenement-nom">PROMO Challenge
  des Cadres du CD67</div><div class="gski-evenement-report"></div><ul class
 ="gski-evenement-liste-infos"><li>Codex évenement AMVT0700</li><li>Lieu : R
 DV devant le chalet des Skieurs de Stra</li><li>Station : CHAMP DU FEU</li>
 <li>Piste : Champ Elys&eacute;es</li><li>Organisateur : 14003 SKI CLUB BARR
 </li><li>Courriel : <!-- Cette adresse électronique est protégée contre les
  robots spammeurs. --><span class="cloaked_email ep_f531061b"><span data-ep
 -b="" data-ep-a="w&#105;&#101;&#115;&#46;"><span data-ep-b="l&#46;&#99;o&#1
 09;" data-ep-a="&#99;&#104;ri&#115;"><span data-ep-a="&#116;&#111;p&#104;&#
 101;" data-ep-b="&#64;g&#109;a&#105;"></span></span></span></span><script>R
 egularLabs.EmailProtector.unCloak("ep_f531061b");</script></li></ul><div cl
 ass="gski-evenement-infos-2"><div class="gski-evenement-info-inscriptions">
 <div class="gski-evenement-inscriptions-periodes">Période d'inscription à l
 'evènement du lundi 05 mars 2018 à 00:00 au jeudi 15 mars 2018 à 12:00 <spa
 n class="gski-evenement-inscriptions-impossibles">(Inscriptions impossibles
 ).</span><div class="gski-evenement-inscriptions-types-titres">Inscriptions
  ouvertes aux detenteurs des titres Fédéraux valides suivants : Licenciés C
 ompétiteurs et Titres Loisirs et Dirigeants</div></div></div><div class="gs
 ki-evenement-epreuves"><div class="gski-evenement-epreuves-titres">Epreuves
  :</div><ul class="gski-evenement-epreuves-list"><li><div class="gski-epreu
 ve-date">Le vendredi 16 mars 2018</div><ul class="gski-epreuve-liste-infos"
 ><li>Codex épreuve AMVM0701</li><li>Slalom Geant</li><li>Catégorie(s) : U16
  (Garçons)</li></ul></li><li><div class="gski-epreuve-date">Le vendredi 16 
 mars 2018</div><ul class="gski-epreuve-liste-infos"><li>Codex épreuve AMVF0
 701</li><li>Slalom Geant</li><li>Catégorie(s) : U16 (Filles)</li></ul></li>
 <li><div class="gski-epreuve-date">Le vendredi 16 mars 2018</div><ul class=
 "gski-epreuve-liste-infos"><li>Codex épreuve AMVM0702</li><li>Slalom Geant<
 /li><li>Catégorie(s) : U18 a Masters (Hommes)</li></ul></li><li><div class=
 "gski-epreuve-date">Le vendredi 16 mars 2018</div><ul class="gski-epreuve-l
 iste-infos"><li>Codex épreuve AMVF0702</li><li>Slalom Geant</li><li>Catégor
 ie(s) : U18 a Masters (Dames)</li></ul></li></ul></div><div class="gskiepre
 uves-links"><ul><li><a href="https://skivosges.net/index.php?option=com_jev
 ents&task=icalevent.detail&evid=980&Itemid=1703">Voir les informations dans
  l'agenda...</a></li><li><a href="https://skivosges.net/index.php?option=co
 m_gskiepreuves&view=affichedeparts&format_option=tous&filter[search]=AMVT07
 00&filter[date_debut]=16-03-2018&filter[date_fin]=16-03-2018&Itemid=1703">V
 ers la liste de départs...</a></li><li>Publications concernant cet évènemen
 t :<ul><li><a href="https://skivosges.net/index.php?option=com_content&view
 =article&id=6264&Itemid=1703">Jeudi 15 Mars 2018 à 23:43 : Le 16/03/2018 CH
 AMP DU FEU Liste de départs</a></li></ul></li></ul></div></div"><!-- #/gski
 epreuve fin du dode généré par le plugin jevents pour GskiEpreuves. . Ne pa
 s modifier cette ligne, ni tout le contenu précedant.  #/gskiepreuve --> <a
  href="https://skivosges.net/agenda/detailevenement/985/-/promo-challenge-d
 es-cadres-du-cd67?tmpl=component">Cet évènement a été importé depuis :https
 ://skivosges.net/agenda/detailevenement/985/-/promo-challenge-des-cadres-du
 -cd67?tmpl=component</a>DTSTAMP:20260421T014607
DTSTART;TZID=Europe/Paris;VALUE=DATE:20180316
DTEND;TZID=Europe/Paris;VALUE=DATE:20180317
SEQUENCE:0
TRANSP:OPAQUE
END:VEVENT
END:VCALENDAR