BEGIN:VCALENDAR
VERSION:2.0
PRODID:-//jEvents 2.0 for Joomla//EN
CALSCALE:GREGORIAN
METHOD:PUBLISH
BEGIN:VTIMEZONE
TZID:Europe/Paris
BEGIN:STANDARD
DTSTART:20170316T000000
RDATE:20170326T030000
TZOFFSETFROM:+0200
TZOFFSETTO:+0100
TZNAME:Europe/Paris CET
END:STANDARD
BEGIN:STANDARD
DTSTART:20171029T020000
RDATE:20180325T030000
TZOFFSETFROM:+0200
TZOFFSETTO:+0100
TZNAME:Europe/Paris CET
END:STANDARD
BEGIN:STANDARD
DTSTART:20181028T020000
RDATE:20190331T030000
TZOFFSETFROM:+0200
TZOFFSETTO:+0100
TZNAME:Europe/Paris CET
END:STANDARD
BEGIN:STANDARD
DTSTART:20191027T020000
RDATE:20200329T030000
TZOFFSETFROM:+0200
TZOFFSETTO:+0100
TZNAME:Europe/Paris CET
END:STANDARD
BEGIN:STANDARD
DTSTART:20201025T020000
RDATE:20210328T030000
TZOFFSETFROM:+0200
TZOFFSETTO:+0100
TZNAME:Europe/Paris CET
END:STANDARD
BEGIN:STANDARD
DTSTART:20211031T020000
RDATE:20220327T030000
TZOFFSETFROM:+0200
TZOFFSETTO:+0100
TZNAME:Europe/Paris CET
END:STANDARD
BEGIN:STANDARD
DTSTART:20221030T020000
RDATE:20230326T030000
TZOFFSETFROM:+0200
TZOFFSETTO:+0100
TZNAME:Europe/Paris CET
END:STANDARD
BEGIN:STANDARD
DTSTART:20231029T020000
RDATE:20240331T030000
TZOFFSETFROM:+0200
TZOFFSETTO:+0100
TZNAME:Europe/Paris CET
END:STANDARD
BEGIN:STANDARD
DTSTART:20241027T020000
RDATE:20250330T030000
TZOFFSETFROM:+0200
TZOFFSETTO:+0100
TZNAME:Europe/Paris CET
END:STANDARD
BEGIN:STANDARD
DTSTART:20251026T020000
RDATE:20260329T030000
TZOFFSETFROM:+0200
TZOFFSETTO:+0100
TZNAME:Europe/Paris CET
END:STANDARD
BEGIN:STANDARD
DTSTART:20261025T020000
RDATE:20270328T030000
TZOFFSETFROM:+0200
TZOFFSETTO:+0100
TZNAME:Europe/Paris CET
END:STANDARD
BEGIN:DAYLIGHT
DTSTART:20170326T030000
RDATE:20171029T020000
TZOFFSETFROM:+0100
TZOFFSETTO:+0200
TZNAME:Europe/Paris CEST
END:DAYLIGHT
BEGIN:DAYLIGHT
DTSTART:20180325T030000
RDATE:20181028T020000
TZOFFSETFROM:+0100
TZOFFSETTO:+0200
TZNAME:Europe/Paris CEST
END:DAYLIGHT
BEGIN:DAYLIGHT
DTSTART:20190331T030000
RDATE:20191027T020000
TZOFFSETFROM:+0100
TZOFFSETTO:+0200
TZNAME:Europe/Paris CEST
END:DAYLIGHT
BEGIN:DAYLIGHT
DTSTART:20200329T030000
RDATE:20201025T020000
TZOFFSETFROM:+0100
TZOFFSETTO:+0200
TZNAME:Europe/Paris CEST
END:DAYLIGHT
BEGIN:DAYLIGHT
DTSTART:20210328T030000
RDATE:20211031T020000
TZOFFSETFROM:+0100
TZOFFSETTO:+0200
TZNAME:Europe/Paris CEST
END:DAYLIGHT
BEGIN:DAYLIGHT
DTSTART:20220327T030000
RDATE:20221030T020000
TZOFFSETFROM:+0100
TZOFFSETTO:+0200
TZNAME:Europe/Paris CEST
END:DAYLIGHT
BEGIN:DAYLIGHT
DTSTART:20230326T030000
RDATE:20231029T020000
TZOFFSETFROM:+0100
TZOFFSETTO:+0200
TZNAME:Europe/Paris CEST
END:DAYLIGHT
BEGIN:DAYLIGHT
DTSTART:20240331T030000
RDATE:20241027T020000
TZOFFSETFROM:+0100
TZOFFSETTO:+0200
TZNAME:Europe/Paris CEST
END:DAYLIGHT
BEGIN:DAYLIGHT
DTSTART:20250330T030000
RDATE:20251026T020000
TZOFFSETFROM:+0100
TZOFFSETTO:+0200
TZNAME:Europe/Paris CEST
END:DAYLIGHT
BEGIN:DAYLIGHT
DTSTART:20260329T030000
RDATE:20261025T020000
TZOFFSETFROM:+0100
TZOFFSETTO:+0200
TZNAME:Europe/Paris CEST
END:DAYLIGHT
END:VTIMEZONE
BEGIN:VEVENT
UID:5bb89771c0f6b0f45d148145af44c679
CATEGORIES:Opens et Promos (alpin)
CREATED:20171121T093310
SUMMARY:PROMO Coupe Super U *** ANNULE(E) ***
URL;VALUE=URI:https://skivosges.net/agenda/detailevenement/992/-/promo-coupe-super-u-annu
 le-e?tmpl=component
DESCRIPTION:PROMO Coupe Super U (Epreuve annulée)\n - Codex évenement AMVT0720\n - Stat
 ion : LE TANET\n - Organisateur : 14140 LES AMIS DE LA NATURE MUNSTER\n - C
 ourriel : RegularLabs.EmailProtector.unCloak("ep_8c2d34b5");\n - Délégué Te
 chnique : SCHLOSSER FRANCKPériode d'inscription à l'evènement du samedi 10 
 mars 2018 à 00:00 au jeudi 15 mars 2018 à 18:00 (Inscriptions impossibles).
 Inscriptions ouvertes aux detenteurs des titres Fédéraux valides suivants :
  Licenciés Compétiteurs et Titres Loisirs et DirigeantsEpreuves :\n - Le sa
 medi 17 mars 2018\n - Codex épreuve AMVM0721\n - Slalom Geant\n - Catégorie
 (s) : U8/U10 (Garçons)\n - Le samedi 17 mars 2018\n - Codex épreuve AMVF072
 1\n - Slalom Geant\n - Catégorie(s) : U8/U10 (Filles)\n - Le samedi 17 mars
  2018\n - Codex épreuve AMVM0722\n - Slalom Geant\n - Catégorie(s) : U12 a 
 U16 (Garçons)\n - Le samedi 17 mars 2018\n - Codex épreuve AMVF0722\n - Sla
 lom Geant\n - Catégorie(s) : U12 a U16 (Filles)\n - Voir les informations d
 ans l'agenda... (/index.php?option=com_jevents&amp;task=icalevent.detail&am
 p;evid=987&amp;Itemid=1703) Cet évènement a été importé depuis :https://ski
 vosges.net/agenda/detailevenement/992/-/promo-coupe-super-u-annule-e?tmpl=c
 omponent (https://skivosges.net/agenda/detailevenement/992/-/promo-coupe-su
 per-u-annule-e?tmpl=component)
X-ALT-DESC;FMTTYPE=text/html:<!-- #gskiepreuve code généré par le plugin jevents pour GskiEpreuves. Ne p
 as modifier cette ligne, ni tout le contenu suivant  #gskiepreuve --><div c
 lass="gski-evenement_infos"><div class="gski-evenement-nom">PROMO Coupe Sup
 er U</div><div class="gski-evenement-report"> <font class="gskiattention">(
 Epreuve annulée)</font></div><ul class="gski-evenement-liste-infos"><li>Cod
 ex évenement AMVT0720</li><li>Station : LE TANET</li><li>Organisateur : 141
 40 LES AMIS DE LA NATURE MUNSTER</li><li>Courriel : <!-- Cette adresse élec
 tronique est protégée contre les robots spammeurs. --><span class="cloaked_
 email ep_8c2d34b5"><span data-ep-a="&#112;&#104;&#105;l&#105;" data-ep-b="&
 #103;&#101;&#46;&#102;r"><span data-ep-a="&#112;&#112;&#101;&#46;&#109;" da
 ta-ep-b="&#64;&#111;r&#97;&#110;"><span data-ep-b="&#110;&#100;&#53;47" dat
 a-ep-a="&#97;&#114;&#99;&#104;&#97;"></span></span></span></span><script>Re
 gularLabs.EmailProtector.unCloak("ep_8c2d34b5");</script></li><li><span cla
 ss="gski-evenement-obs">Délégué Technique : SCHLOSSER FRANCK</span></li></u
 l><div class="gski-evenement-infos-2"><div class="gski-evenement-info-inscr
 iptions"><div class="gski-evenement-inscriptions-periodes">Période d'inscri
 ption à l'evènement du samedi 10 mars 2018 à 00:00 au jeudi 15 mars 2018 à 
 18:00 <span class="gski-evenement-inscriptions-impossibles">(Inscriptions i
 mpossibles).</span><div class="gski-evenement-inscriptions-types-titres">In
 scriptions ouvertes aux detenteurs des titres Fédéraux valides suivants : L
 icenciés Compétiteurs et Titres Loisirs et Dirigeants</div></div></div><div
  class="gski-evenement-epreuves"><div class="gski-evenement-epreuves-titres
 ">Epreuves :</div><ul class="gski-evenement-epreuves-list"><li><div class="
 gski-epreuve-date">Le samedi 17 mars 2018</div><ul class="gski-epreuve-list
 e-infos"><li>Codex épreuve AMVM0721</li><li>Slalom Geant</li><li>Catégorie(
 s) : U8/U10 (Garçons)</li></ul></li><li><div class="gski-epreuve-date">Le s
 amedi 17 mars 2018</div><ul class="gski-epreuve-liste-infos"><li>Codex épre
 uve AMVF0721</li><li>Slalom Geant</li><li>Catégorie(s) : U8/U10 (Filles)</l
 i></ul></li><li><div class="gski-epreuve-date">Le samedi 17 mars 2018</div>
 <ul class="gski-epreuve-liste-infos"><li>Codex épreuve AMVM0722</li><li>Sla
 lom Geant</li><li>Catégorie(s) : U12 a U16 (Garçons)</li></ul></li><li><div
  class="gski-epreuve-date">Le samedi 17 mars 2018</div><ul class="gski-epre
 uve-liste-infos"><li>Codex épreuve AMVF0722</li><li>Slalom Geant</li><li>Ca
 tégorie(s) : U12 a U16 (Filles)</li></ul></li></ul></div><div class="gskiep
 reuves-links"><ul><li><a href="https://skivosges.net/index.php?option=com_j
 events&task=icalevent.detail&evid=987&Itemid=1703">Voir les informations da
 ns l'agenda...</a></li></ul></div></div"><!-- #/gskiepreuve fin du dode gén
 éré par le plugin jevents pour GskiEpreuves. . Ne pas modifier cette ligne,
  ni tout le contenu précedant.  #/gskiepreuve --> <a href="https://skivosge
 s.net/agenda/detailevenement/992/-/promo-coupe-super-u-annule-e?tmpl=compon
 ent">Cet évènement a été importé depuis :https://skivosges.net/agenda/detai
 levenement/992/-/promo-coupe-super-u-annule-e?tmpl=component</a>DTSTAMP:20260421T014613
DTSTART;TZID=Europe/Paris;VALUE=DATE:20180317
DTEND;TZID=Europe/Paris;VALUE=DATE:20180318
SEQUENCE:0
TRANSP:OPAQUE
END:VEVENT
END:VCALENDAR