BEGIN:VCALENDAR
VERSION:2.0
PRODID:-//jEvents 2.0 for Joomla//EN
CALSCALE:GREGORIAN
METHOD:PUBLISH
BEGIN:VTIMEZONE
TZID:Europe/Paris
BEGIN:STANDARD
DTSTART:20170316T000000
RDATE:20170326T030000
TZOFFSETFROM:+0200
TZOFFSETTO:+0100
TZNAME:Europe/Paris CET
END:STANDARD
BEGIN:STANDARD
DTSTART:20171029T020000
RDATE:20180325T030000
TZOFFSETFROM:+0200
TZOFFSETTO:+0100
TZNAME:Europe/Paris CET
END:STANDARD
BEGIN:STANDARD
DTSTART:20181028T020000
RDATE:20190331T030000
TZOFFSETFROM:+0200
TZOFFSETTO:+0100
TZNAME:Europe/Paris CET
END:STANDARD
BEGIN:STANDARD
DTSTART:20191027T020000
RDATE:20200329T030000
TZOFFSETFROM:+0200
TZOFFSETTO:+0100
TZNAME:Europe/Paris CET
END:STANDARD
BEGIN:STANDARD
DTSTART:20201025T020000
RDATE:20210328T030000
TZOFFSETFROM:+0200
TZOFFSETTO:+0100
TZNAME:Europe/Paris CET
END:STANDARD
BEGIN:STANDARD
DTSTART:20211031T020000
RDATE:20220327T030000
TZOFFSETFROM:+0200
TZOFFSETTO:+0100
TZNAME:Europe/Paris CET
END:STANDARD
BEGIN:STANDARD
DTSTART:20221030T020000
RDATE:20230326T030000
TZOFFSETFROM:+0200
TZOFFSETTO:+0100
TZNAME:Europe/Paris CET
END:STANDARD
BEGIN:STANDARD
DTSTART:20231029T020000
RDATE:20240331T030000
TZOFFSETFROM:+0200
TZOFFSETTO:+0100
TZNAME:Europe/Paris CET
END:STANDARD
BEGIN:STANDARD
DTSTART:20241027T020000
RDATE:20250330T030000
TZOFFSETFROM:+0200
TZOFFSETTO:+0100
TZNAME:Europe/Paris CET
END:STANDARD
BEGIN:STANDARD
DTSTART:20251026T020000
RDATE:20260329T030000
TZOFFSETFROM:+0200
TZOFFSETTO:+0100
TZNAME:Europe/Paris CET
END:STANDARD
BEGIN:STANDARD
DTSTART:20261025T020000
RDATE:20270328T030000
TZOFFSETFROM:+0200
TZOFFSETTO:+0100
TZNAME:Europe/Paris CET
END:STANDARD
BEGIN:DAYLIGHT
DTSTART:20170326T030000
RDATE:20171029T020000
TZOFFSETFROM:+0100
TZOFFSETTO:+0200
TZNAME:Europe/Paris CEST
END:DAYLIGHT
BEGIN:DAYLIGHT
DTSTART:20180325T030000
RDATE:20181028T020000
TZOFFSETFROM:+0100
TZOFFSETTO:+0200
TZNAME:Europe/Paris CEST
END:DAYLIGHT
BEGIN:DAYLIGHT
DTSTART:20190331T030000
RDATE:20191027T020000
TZOFFSETFROM:+0100
TZOFFSETTO:+0200
TZNAME:Europe/Paris CEST
END:DAYLIGHT
BEGIN:DAYLIGHT
DTSTART:20200329T030000
RDATE:20201025T020000
TZOFFSETFROM:+0100
TZOFFSETTO:+0200
TZNAME:Europe/Paris CEST
END:DAYLIGHT
BEGIN:DAYLIGHT
DTSTART:20210328T030000
RDATE:20211031T020000
TZOFFSETFROM:+0100
TZOFFSETTO:+0200
TZNAME:Europe/Paris CEST
END:DAYLIGHT
BEGIN:DAYLIGHT
DTSTART:20220327T030000
RDATE:20221030T020000
TZOFFSETFROM:+0100
TZOFFSETTO:+0200
TZNAME:Europe/Paris CEST
END:DAYLIGHT
BEGIN:DAYLIGHT
DTSTART:20230326T030000
RDATE:20231029T020000
TZOFFSETFROM:+0100
TZOFFSETTO:+0200
TZNAME:Europe/Paris CEST
END:DAYLIGHT
BEGIN:DAYLIGHT
DTSTART:20240331T030000
RDATE:20241027T020000
TZOFFSETFROM:+0100
TZOFFSETTO:+0200
TZNAME:Europe/Paris CEST
END:DAYLIGHT
BEGIN:DAYLIGHT
DTSTART:20250330T030000
RDATE:20251026T020000
TZOFFSETFROM:+0100
TZOFFSETTO:+0200
TZNAME:Europe/Paris CEST
END:DAYLIGHT
BEGIN:DAYLIGHT
DTSTART:20260329T030000
RDATE:20261025T020000
TZOFFSETFROM:+0100
TZOFFSETTO:+0200
TZNAME:Europe/Paris CEST
END:DAYLIGHT
END:VTIMEZONE
BEGIN:VEVENT
UID:905b0633263e6bd5e0122589f1b982dc
CATEGORIES:Opens et Promos (alpin)
CREATED:20171121T093310
SUMMARY:OPEN Finale Palmarès toutes CAT *** ANNULE(E) ***
URL;VALUE=URI:https://skivosges.net/agenda/detailevenement/993/-/open-finale-palmares-tou
 tes-cat-annule-e?tmpl=component
DESCRIPTION:<!-- #gskiepreuve code généré par le plugin jevents pour GskiEpreuves. Ne p
 as modifier cette ligne, ni tout le contenu suivant  #gskiepreuve --><div c
 lass="gski-evenement_infos"><div class="gski-evenement-nom">OPEN Finale Pal
 marès toutes CAT</div><div class="gski-evenement-report"> <font class="gski
 attention">(Epreuve annulée)</font></div><ul class="gski-evenement-liste-in
 fos"><li>Codex évenement AMVT0730</li><li>Organisateur : </li><li>Courriel 
 : <!-- Cette adresse électronique est protégée contre les robots spammeurs.
  --><span class="cloaked_email ep_bbb56590"><span data-ep-b="o&#109;" data-
 ep-a="&#99;r&#109;"><span data-ep-b="&#108;&#46;c" data-ep-a="v&#115;&#105;
 "><span data-ep-a="&#101;g&#101;" data-ep-b="&#64;a&#111;"></span></span></
 span></span><script>RegularLabs.EmailProtector.unCloak("ep_bbb56590");</scr
 ipt></li></ul><div class="gski-evenement-infos-2"><div class="gski-evenemen
 t-info-inscriptions"><div class="gski-evenement-inscriptions-periodes">Péri
 ode d'inscription à l'evènement du samedi 10 mars 2018 à 00:00 au jeudi 15 
 mars 2018 à 12:00 <span class="gski-evenement-inscriptions-impossibles">(In
 scriptions impossibles).</span><div class="gski-evenement-inscriptions-type
 s-titres">Inscriptions ouvertes aux detenteurs des titres Fédéraux valides 
 suivants : Licenciés Compétiteurs</div></div></div><div class="gski-eveneme
 nt-epreuves"><div class="gski-evenement-epreuves-titres">Epreuves :</div><u
 l class="gski-evenement-epreuves-list"><li><div class="gski-epreuve-date">L
 e samedi 17 mars 2018</div><ul class="gski-epreuve-liste-infos"><li>Codex é
 preuve AMVM0731</li><li>Parallele</li><li>Catégorie(s) : U8/U10 (Garçons)</
 li></ul></li><li><div class="gski-epreuve-date">Le samedi 17 mars 2018</div
 ><ul class="gski-epreuve-liste-infos"><li>Codex épreuve AMVF0731</li><li>Pa
 rallele</li><li>Catégorie(s) : U8/U10 (Filles)</li></ul></li><li><div class
 ="gski-epreuve-date">Le samedi 17 mars 2018</div><ul class="gski-epreuve-li
 ste-infos"><li>Codex épreuve AMVM0732</li><li>Parallele</li><li>Catégorie(s
 ) : U12 a U16 (Garçons)</li></ul></li><li><div class="gski-epreuve-date">Le
  samedi 17 mars 2018</div><ul class="gski-epreuve-liste-infos"><li>Codex ép
 reuve AMVF0732</li><li>Parallele</li><li>Catégorie(s) : U12 a U16 (Filles)<
 /li></ul></li><li><div class="gski-epreuve-date">Le samedi 17 mars 2018</di
 v><ul class="gski-epreuve-liste-infos"><li>Codex épreuve AMVM0733</li><li>P
 arallele</li><li>Catégorie(s) : U18 a Masters (Hommes)</li></ul></li><li><d
 iv class="gski-epreuve-date">Le samedi 17 mars 2018</div><ul class="gski-ep
 reuve-liste-infos"><li>Codex épreuve AMVF0733</li><li>Parallele</li><li>Cat
 égorie(s) : U18 a Masters (Dames)</li></ul></li></ul></div><div class="gski
 epreuves-links"><ul><li><a href="/index.php?option=com_jevents&task=icaleve
 nt.detail&evid=988&Itemid=1703">Voir les informations dans l'agenda...</a><
 /li></ul></div></div"><!-- #/gskiepreuve fin du dode généré par le plugin j
 events pour GskiEpreuves. . Ne pas modifier cette ligne, ni tout le contenu
  précedant.  #/gskiepreuve --> <a href="https://skivosges.net/agenda/detail
 evenement/993/-/open-finale-palmares-toutes-cat-annule-e?tmpl=component">Ce
 t évènement a été importé depuis :https://skivosges.net/agenda/detailevenem
 ent/993/-/open-finale-palmares-toutes-cat-annule-e?tmpl=component</a>
X-ALT-DESC;FMTTYPE=text/html:<!-- #gskiepreuve code généré par le plugin jevents pour GskiEpreuves. Ne p
 as modifier cette ligne, ni tout le contenu suivant  #gskiepreuve --><div c
 lass="gski-evenement_infos"><div class="gski-evenement-nom">OPEN Finale Pal
 marès toutes CAT</div><div class="gski-evenement-report"> <font class="gski
 attention">(Epreuve annulée)</font></div><ul class="gski-evenement-liste-in
 fos"><li>Codex évenement AMVT0730</li><li>Organisateur : </li><li>Courriel 
 : <!-- Cette adresse électronique est protégée contre les robots spammeurs.
  --><span class="cloaked_email ep_bbb56590"><span data-ep-b="o&#109;" data-
 ep-a="&#99;r&#109;"><span data-ep-b="&#108;&#46;c" data-ep-a="v&#115;&#105;
 "><span data-ep-a="&#101;g&#101;" data-ep-b="&#64;a&#111;"></span></span></
 span></span><script>RegularLabs.EmailProtector.unCloak("ep_bbb56590");</scr
 ipt></li></ul><div class="gski-evenement-infos-2"><div class="gski-evenemen
 t-info-inscriptions"><div class="gski-evenement-inscriptions-periodes">Péri
 ode d'inscription à l'evènement du samedi 10 mars 2018 à 00:00 au jeudi 15 
 mars 2018 à 12:00 <span class="gski-evenement-inscriptions-impossibles">(In
 scriptions impossibles).</span><div class="gski-evenement-inscriptions-type
 s-titres">Inscriptions ouvertes aux detenteurs des titres Fédéraux valides 
 suivants : Licenciés Compétiteurs</div></div></div><div class="gski-eveneme
 nt-epreuves"><div class="gski-evenement-epreuves-titres">Epreuves :</div><u
 l class="gski-evenement-epreuves-list"><li><div class="gski-epreuve-date">L
 e samedi 17 mars 2018</div><ul class="gski-epreuve-liste-infos"><li>Codex é
 preuve AMVM0731</li><li>Parallele</li><li>Catégorie(s) : U8/U10 (Garçons)</
 li></ul></li><li><div class="gski-epreuve-date">Le samedi 17 mars 2018</div
 ><ul class="gski-epreuve-liste-infos"><li>Codex épreuve AMVF0731</li><li>Pa
 rallele</li><li>Catégorie(s) : U8/U10 (Filles)</li></ul></li><li><div class
 ="gski-epreuve-date">Le samedi 17 mars 2018</div><ul class="gski-epreuve-li
 ste-infos"><li>Codex épreuve AMVM0732</li><li>Parallele</li><li>Catégorie(s
 ) : U12 a U16 (Garçons)</li></ul></li><li><div class="gski-epreuve-date">Le
  samedi 17 mars 2018</div><ul class="gski-epreuve-liste-infos"><li>Codex ép
 reuve AMVF0732</li><li>Parallele</li><li>Catégorie(s) : U12 a U16 (Filles)<
 /li></ul></li><li><div class="gski-epreuve-date">Le samedi 17 mars 2018</di
 v><ul class="gski-epreuve-liste-infos"><li>Codex épreuve AMVM0733</li><li>P
 arallele</li><li>Catégorie(s) : U18 a Masters (Hommes)</li></ul></li><li><d
 iv class="gski-epreuve-date">Le samedi 17 mars 2018</div><ul class="gski-ep
 reuve-liste-infos"><li>Codex épreuve AMVF0733</li><li>Parallele</li><li>Cat
 égorie(s) : U18 a Masters (Dames)</li></ul></li></ul></div><div class="gski
 epreuves-links"><ul><li><a href="https://skivosges.net/index.php?option=com
 _jevents&task=icalevent.detail&evid=988&Itemid=1703">Voir les informations 
 dans l'agenda...</a></li></ul></div></div"><!-- #/gskiepreuve fin du dode g
 énéré par le plugin jevents pour GskiEpreuves. . Ne pas modifier cette lign
 e, ni tout le contenu précedant.  #/gskiepreuve --> <a href="https://skivos
 ges.net/agenda/detailevenement/993/-/open-finale-palmares-toutes-cat-annule
 -e?tmpl=component">Cet évènement a été importé depuis :https://skivosges.ne
 t/agenda/detailevenement/993/-/open-finale-palmares-toutes-cat-annule-e?tmp
 l=component</a>DTSTAMP:20260421T015604
DTSTART;TZID=Europe/Paris;VALUE=DATE:20180317
DTEND;TZID=Europe/Paris;VALUE=DATE:20180318
SEQUENCE:0
TRANSP:OPAQUE
END:VEVENT
END:VCALENDAR