BEGIN:VCALENDAR
VERSION:2.0
PRODID:-//jEvents 2.0 for Joomla//EN
CALSCALE:GREGORIAN
METHOD:PUBLISH
BEGIN:VTIMEZONE
TZID:Europe/Paris
BEGIN:STANDARD
DTSTART:20170317T000000
RDATE:20170326T030000
TZOFFSETFROM:+0200
TZOFFSETTO:+0100
TZNAME:Europe/Paris CET
END:STANDARD
BEGIN:STANDARD
DTSTART:20171029T020000
RDATE:20180325T030000
TZOFFSETFROM:+0200
TZOFFSETTO:+0100
TZNAME:Europe/Paris CET
END:STANDARD
BEGIN:STANDARD
DTSTART:20181028T020000
RDATE:20190331T030000
TZOFFSETFROM:+0200
TZOFFSETTO:+0100
TZNAME:Europe/Paris CET
END:STANDARD
BEGIN:STANDARD
DTSTART:20191027T020000
RDATE:20200329T030000
TZOFFSETFROM:+0200
TZOFFSETTO:+0100
TZNAME:Europe/Paris CET
END:STANDARD
BEGIN:STANDARD
DTSTART:20201025T020000
RDATE:20210328T030000
TZOFFSETFROM:+0200
TZOFFSETTO:+0100
TZNAME:Europe/Paris CET
END:STANDARD
BEGIN:STANDARD
DTSTART:20211031T020000
RDATE:20220327T030000
TZOFFSETFROM:+0200
TZOFFSETTO:+0100
TZNAME:Europe/Paris CET
END:STANDARD
BEGIN:STANDARD
DTSTART:20221030T020000
RDATE:20230326T030000
TZOFFSETFROM:+0200
TZOFFSETTO:+0100
TZNAME:Europe/Paris CET
END:STANDARD
BEGIN:STANDARD
DTSTART:20231029T020000
RDATE:20240331T030000
TZOFFSETFROM:+0200
TZOFFSETTO:+0100
TZNAME:Europe/Paris CET
END:STANDARD
BEGIN:STANDARD
DTSTART:20241027T020000
RDATE:20250330T030000
TZOFFSETFROM:+0200
TZOFFSETTO:+0100
TZNAME:Europe/Paris CET
END:STANDARD
BEGIN:STANDARD
DTSTART:20251026T020000
RDATE:20260329T030000
TZOFFSETFROM:+0200
TZOFFSETTO:+0100
TZNAME:Europe/Paris CET
END:STANDARD
BEGIN:STANDARD
DTSTART:20261025T020000
RDATE:20270328T030000
TZOFFSETFROM:+0200
TZOFFSETTO:+0100
TZNAME:Europe/Paris CET
END:STANDARD
BEGIN:DAYLIGHT
DTSTART:20170326T030000
RDATE:20171029T020000
TZOFFSETFROM:+0100
TZOFFSETTO:+0200
TZNAME:Europe/Paris CEST
END:DAYLIGHT
BEGIN:DAYLIGHT
DTSTART:20180325T030000
RDATE:20181028T020000
TZOFFSETFROM:+0100
TZOFFSETTO:+0200
TZNAME:Europe/Paris CEST
END:DAYLIGHT
BEGIN:DAYLIGHT
DTSTART:20190331T030000
RDATE:20191027T020000
TZOFFSETFROM:+0100
TZOFFSETTO:+0200
TZNAME:Europe/Paris CEST
END:DAYLIGHT
BEGIN:DAYLIGHT
DTSTART:20200329T030000
RDATE:20201025T020000
TZOFFSETFROM:+0100
TZOFFSETTO:+0200
TZNAME:Europe/Paris CEST
END:DAYLIGHT
BEGIN:DAYLIGHT
DTSTART:20210328T030000
RDATE:20211031T020000
TZOFFSETFROM:+0100
TZOFFSETTO:+0200
TZNAME:Europe/Paris CEST
END:DAYLIGHT
BEGIN:DAYLIGHT
DTSTART:20220327T030000
RDATE:20221030T020000
TZOFFSETFROM:+0100
TZOFFSETTO:+0200
TZNAME:Europe/Paris CEST
END:DAYLIGHT
BEGIN:DAYLIGHT
DTSTART:20230326T030000
RDATE:20231029T020000
TZOFFSETFROM:+0100
TZOFFSETTO:+0200
TZNAME:Europe/Paris CEST
END:DAYLIGHT
BEGIN:DAYLIGHT
DTSTART:20240331T030000
RDATE:20241027T020000
TZOFFSETFROM:+0100
TZOFFSETTO:+0200
TZNAME:Europe/Paris CEST
END:DAYLIGHT
BEGIN:DAYLIGHT
DTSTART:20250330T030000
RDATE:20251026T020000
TZOFFSETFROM:+0100
TZOFFSETTO:+0200
TZNAME:Europe/Paris CEST
END:DAYLIGHT
BEGIN:DAYLIGHT
DTSTART:20260329T030000
RDATE:20261025T020000
TZOFFSETFROM:+0100
TZOFFSETTO:+0200
TZNAME:Europe/Paris CEST
END:DAYLIGHT
END:VTIMEZONE
BEGIN:VEVENT
UID:88eddff267e9f300efa28f48e95e9a04
CATEGORIES:Circuit Massif D2 (alpin)
CREATED:20171121T093310
SUMMARY:CD2 Prix Labellemontagne
URL;VALUE=URI:https://skivosges.net/agenda/detailevenement/997/-/cd2-prix-labellemontagne
 ?tmpl=component
DESCRIPTION:CD2 Prix Labellemontagne\n - Codex évenement AMVT0750\n - Lieu : STATION LA
  BRESSE HOHNECK\n - Station : LA BRESSE\n - Piste : GABY CURIEN\n - Organis
 ateur : 14024 LA BRESSAUDE SECTION SKI\n - Courriel : RegularLabs.EmailProt
 ector.unCloak("ep_d98c3e4d");\n - Téléphone : 0608855252\n - Délégué Techni
 que : HOUILLON PHILIPPEPériode d'inscription à l'evènement du dimanche 11 m
 ars 2018 à 00:00 au vendredi 16 mars 2018 à 18:00 (Inscriptions impossibles
 ).Inscriptions ouvertes aux detenteurs des titres Fédéraux valides suivants
  : Licenciés CompétiteursEpreuves :\n - Le dimanche 18 mars 2018 à 09:30\n 
 - Codex épreuve AMVM0751\n - Slalom Geant\n - Catégorie(s) : U16 (Garçons)\
 n - Le dimanche 18 mars 2018 à 09:30\n - Codex épreuve AMVF0751\n - Slalom 
 Geant\n - Catégorie(s) : U16 (Filles)\n - Le dimanche 18 mars 2018\n - Code
 x épreuve AMVM0752\n - Slalom Geant\n - Catégorie(s) : U18 a Masters (Homme
 s)\n - Le dimanche 18 mars 2018\n - Codex épreuve AMVF0752\n - Slalom Geant
 \n - Catégorie(s) : U18 a Masters (Dames)\n - Voir les informations dans l'
 agenda... (/index.php?option=com_jevents&amp;task=icalevent.detail&amp;evid
 =992&amp;Itemid=1703)\n - Vers les résultats... (/index.php?option=com_gski
 epreuves&amp;view=afficheresultats&amp;format_option=tous&amp;filter[search
 ]=AMVT0750&amp;filter[date_debut]=18-03-2018&amp;filter[date_fin]=18-03-201
 8&amp;code_activite=ALP&amp;Itemid=1703)\n - Publications concernant cet év
 ènement :\n - Vendredi 16 Mars 2018 à 20:16 : Le 18/03/2018 LA BRESSE Liste
  de départs Cet évènement a été importé depuis :https://skivosges.net/agend
 a/detailevenement/997/-/cd2-prix-labellemontagne?tmpl=component (https://sk
 ivosges.net/agenda/detailevenement/997/-/cd2-prix-labellemontagne?tmpl=comp
 onent)
X-ALT-DESC;FMTTYPE=text/html:<!-- #gskiepreuve code généré par le plugin jevents pour GskiEpreuves. Ne p
 as modifier cette ligne, ni tout le contenu suivant  #gskiepreuve --><div c
 lass="gski-evenement_infos"><div class="gski-evenement-nom">CD2 Prix Labell
 emontagne</div><div class="gski-evenement-report"></div><ul class="gski-eve
 nement-liste-infos"><li>Codex évenement AMVT0750</li><li>Lieu : STATION LA 
 BRESSE HOHNECK</li><li>Station : LA BRESSE</li><li>Piste : GABY CURIEN</li>
 <li>Organisateur : 14024 LA BRESSAUDE SECTION SKI</li><li>Courriel : <!-- C
 ette adresse électronique est protégée contre les robots spammeurs. --><spa
 n class="cloaked_email ep_d98c3e4d"><span data-ep-b="fr" data-ep-a="&#111;&
 #100;&#105;&#108;e"><span data-ep-b="&#97;&#110;&#103;&#101;&#46;" data-ep-
 a="&#46;&#109;&#117;&#110;&#115;"><span data-ep-b="l&#98;&#64;&#111;&#114;"
  data-ep-a="&#99;h&#46;&#115;&#99;"></span></span></span></span><script>Reg
 ularLabs.EmailProtector.unCloak("ep_d98c3e4d");</script></li><li>Téléphone 
 : 0608855252</li><li><span class="gski-evenement-obs">Délégué Technique : H
 OUILLON PHILIPPE</span></li></ul><div class="gski-evenement-infos-2"><div c
 lass="gski-evenement-info-inscriptions"><div class="gski-evenement-inscript
 ions-periodes">Période d'inscription à l'evènement du dimanche 11 mars 2018
  à 00:00 au vendredi 16 mars 2018 à 18:00 <span class="gski-evenement-inscr
 iptions-impossibles">(Inscriptions impossibles).</span><div class="gski-eve
 nement-inscriptions-types-titres">Inscriptions ouvertes aux detenteurs des 
 titres Fédéraux valides suivants : Licenciés Compétiteurs</div></div></div>
 <div class="gski-evenement-epreuves"><div class="gski-evenement-epreuves-ti
 tres">Epreuves :</div><ul class="gski-evenement-epreuves-list"><li><div cla
 ss="gski-epreuve-date">Le dimanche 18 mars 2018 à 09:30</div><ul class="gsk
 i-epreuve-liste-infos"><li>Codex épreuve AMVM0751</li><li>Slalom Geant</li>
 <li>Catégorie(s) : U16 (Garçons)</li></ul></li><li><div class="gski-epreuve
 -date">Le dimanche 18 mars 2018 à 09:30</div><ul class="gski-epreuve-liste-
 infos"><li>Codex épreuve AMVF0751</li><li>Slalom Geant</li><li>Catégorie(s)
  : U16 (Filles)</li></ul></li><li><div class="gski-epreuve-date">Le dimanch
 e 18 mars 2018</div><ul class="gski-epreuve-liste-infos"><li>Codex épreuve 
 AMVM0752</li><li>Slalom Geant</li><li>Catégorie(s) : U18 a Masters (Hommes)
 </li></ul></li><li><div class="gski-epreuve-date">Le dimanche 18 mars 2018<
 /div><ul class="gski-epreuve-liste-infos"><li>Codex épreuve AMVF0752</li><l
 i>Slalom Geant</li><li>Catégorie(s) : U18 a Masters (Dames)</li></ul></li><
 /ul></div><div class="gskiepreuves-links"><ul><li><a href="https://skivosge
 s.net/index.php?option=com_jevents&task=icalevent.detail&evid=992&Itemid=17
 03">Voir les informations dans l'agenda...</a></li><li><a href="https://ski
 vosges.net/index.php?option=com_gskiepreuves&view=afficheresultats&format_o
 ption=tous&filter[search]=AMVT0750&filter[date_debut]=18-03-2018&filter[dat
 e_fin]=18-03-2018&code_activite=ALP&Itemid=1703">Vers les résultats...</a><
 /li><li>Publications concernant cet évènement :<ul><li><a href="https://ski
 vosges.net/index.php?option=com_content&view=article&id=6269&Itemid=1703">V
 endredi 16 Mars 2018 à 20:16 : Le 18/03/2018 LA BRESSE Liste de départs</a>
 </li></ul></li></ul></div></div"><!-- #/gskiepreuve fin du dode généré par 
 le plugin jevents pour GskiEpreuves. . Ne pas modifier cette ligne, ni tout
  le contenu précedant.  #/gskiepreuve --> <a href="https://skivosges.net/ag
 enda/detailevenement/997/-/cd2-prix-labellemontagne?tmpl=component">Cet évè
 nement a été importé depuis :https://skivosges.net/agenda/detailevenement/9
 97/-/cd2-prix-labellemontagne?tmpl=component</a>DTSTAMP:20260421T014526
DTSTART;TZID=Europe/Paris;VALUE=DATE:20180318
DTEND;TZID=Europe/Paris;VALUE=DATE:20180319
SEQUENCE:0
TRANSP:OPAQUE
END:VEVENT
END:VCALENDAR